PDS_VERSION_ID = PDS3
/* FILE DATA ELEMENTS */
RECORD_TYPE = STREAM
/* POINTERS TO DATA OBJECTS */
^COMPRESSED_FILE = "H6819_0000_IR3.JP2"
/* IDENTIFICATION DATA ELEMENTS */
DATA_SET_ID = "MEX-M-HRSC-5-REFDR-MAPPROJECTED-V3.0"
DATA_SET_NAME = "MARS EXPRESS HRSC MAP PROJECTED REFDR V3.0"
DETECTOR_ID = MEX_HRSC_IR
EVENT_TYPE = "MARS-REGIONAL-MAPPING-Gl"
INSTRUMENT_HOST_ID = MEX
INSTRUMENT_HOST_NAME = "MARS EXPRESS"
INSTRUMENT_ID = HRSC
INSTRUMENT_NAME = "HIGH RESOLUTION STEREO CAMERA"
MISSION_NAME = "MARS EXPRESS"
MISSION_PHASE_NAME = ME_Phase_17
PROCESSING_LEVEL_ID = 3
PRODUCT_CREATION_TIME = 2016-06-29T12:07:32.000Z
PRODUCT_ID = "H6819_0000_IR3.JP2"
RELEASE_ID = 0076
REVISION_ID = 0000
/* QUALITY DATA ELEMENTS */
DATA_QUALITY_ID = 1
DATA_QUALITY_DESC = "Data calculated based on original SPICE kernels"
/* TIME DATA ELEMENTS */
SPACECRAFT_CLOCK_START_COUNT = "1/0188782569.07287"
SPACECRAFT_CLOCK_STOP_COUNT = "1/0188783048.57179"
START_TIME = 2009-04-25T23:36:17.149Z
STOP_TIME = 2009-04-25T23:41:49.613Z
/* ORBITAL DATA ELEMENTS */
ASCENDING_NODE_LONGITUDE = 87.65
MAXIMUM_RESOLUTION = 62.5
FOOTPRINT_POINT_LATITUDE = (-79.744,-79.8732,-80.0579,-80.4108, -80.7622,-81.2864,-81.8085,-82.1556, -82.6721,-83.0121,-83.5177,-83.8588, -84.1932,-84.5254,-84.8583,-85.1917, -85.5103,-85.8307,-86.1387,-86.5772, -86.9748,-87.195,-87.3777,-87.5526, -87.5869,-87.5495,-87.4424,-87.2701, -87.0448,-86.7726,-86.3006,-85.952, -85.5796,-84.9874,-84.3682,-83.9442, -83.5054,-83.0573,-82.6005,-82.1341, -81.6603,-81.1779,-80.6887,-80.1879, -79.6842,-79.1704,-78.6485,-78.1172, -78.0325,-77.9681,-77.838,-77.7295, -77.535,-78.0449,-78.546,-79.0388, -79.5229,-79.998,-80.4603,-81.1431, -81.5726,-81.999,-82.4138,-82.8167, -83.2068,-83.5795,-83.9326,-84.4279, -84.7304,-85.0065,-85.3681,-85.569, -85.7314,-85.8551,-85.9365,-85.9749, -85.9699,-85.8843,-85.7797,-85.6402, -85.4725,-85.2771,-85.0623,-84.8263, -84.5756,-84.3167,-84.0432,-83.6164, -83.3247,-82.8735,-82.5713,-82.2646, -81.795,-81.4764,-81.1548,-80.6664, -80.3368,-80.0043,-79.6695,-79.744)
FOOTPRINT_POINT_LONGITUDE = (325.576,323.248,321.183,321.702,322.26 ,323.183,324.223,324.993,326.284, 327.251,328.89,330.16,331.583,333.18, 335.019,337.132,339.536,342.384,345.698 ,351.848,359.847,366.352,373.966, 387.375,397.083,406.962,416.29,424.813, 432.176,438.52,446.178,450.288,453.794, 458.106,461.483,463.338,464.99,466.447, 467.739,468.889,469.918,470.848,471.686 ,472.459,473.147,473.784,474.371, 474.917,473.313,471.889,469.464,467.724 ,465.011,464.217,463.359,462.43,461.422 ,460.327,459.138,457.135,455.654, 454.017,452.211,450.221,448.013,445.565 ,442.866,438.234,434.717,430.843, 424.283,419.393,414.181,408.619,402.864 ,396.942,391.09,382.528,377.179,372.155 ,367.549,363.287,359.508,355.988,352.87 ,350.109,347.558,344.174,342.194, 339.534,337.975,336.548,334.606,333.43, 332.345,330.861,329.956,329.109,328.318 ,325.576)
ORBIT_NUMBER = 6819
ORBITAL_ECCENTRICITY = 0.576
ORBITAL_INCLINATION = 86.78
ORBITAL_SEMIMAJOR_AXIS = 8697.08
PERIAPSIS_ALTITUDE = 310.97
PERIAPSIS_ARGUMENT_ANGLE = 241.25
PERIAPSIS_TIME = 2009-04-25T23:31:52.000Z
SPACECRAFT_ORIENTATION = (0.0,-1.0,0.0)
^MEX_ORIENTATION_DESC = "MEX_ORIENTATION_DESC.TXT"
SPACECRAFT_POINTING_MODE = NADIR
^MEX_POINTING_DESC = "MEX_POINTING_DESC.TXT"
RIGHT_ASCENSION = -1e+32
DECLINATION = -1e+32
OFFSET_ANGLE = -1e+32
SPACECRAFT_SOLAR_DISTANCE = 2.06667e+08
TARGET_NAME = MARS
/* CAMERA DATA ELEMENTS */
DETECTOR_TEMPERATURE = 17.351
FOCAL_PLANE_TEMPERATURE = 8.1755
INST_CMPRS_NAME = "DISCRETE COSINE TRANSFORMATION (DCT)"
INST_CMPRS_RATIO = 7.50623
INST_CMPRS_QUALITY = 0
INST_CMPRS_QUANTZ_TBL_ID = 0
INSTRUMENT_TEMPERATURE = 10.0106
LENS_TEMPERATURE = 8.7872
MACROPIXEL_SIZE = 4
MISSING_FRAMES = 0
PIXEL_SUBSAMPLING_FLAG = N
SIGNAL_CHAIN_ID = 2
/* RADIOMETRIC DATA ELEMENTS */
BANDWIDTH = 81.0
CENTER_FILTER_WAVELENGTH = 955.5
RADIANCE_OFFSET = 1.19964
RADIANCE_SCALING_FACTOR = 0.00984994
REFLECTANCE_SCALING_FACTOR = 0.000907629
MEX:REFLECTANCE_OFFSET = 0.110541
/* IMAGE OBJECT DEFINITIONS */
OBJECT = IMAGE
  INTERCHANGE_FORMAT = BINARY
  LINES = 16492
  LINE_SAMPLES = 21770
  SAMPLE_TYPE = UNSIGNED_INTEGER
  SAMPLE_BITS = 8
  BANDS = 1
  BAND_STORAGE_TYPE = BAND_SEQUENTIAL
  MAXIMUM = 255
  MEAN = 122.103
  MINIMUM = 1
  STANDARD_DEVIATION = 65.7459
END_OBJECT = IMAGE
/* MAP OBJECT DEFINITIONS */
OBJECT = IMAGE_MAP_PROJECTION
  ^DATA_SET_MAP_PROJECTION_CATALOG= "DSMAP.CAT"
  A_AXIS_RADIUS = 3396.0
  B_AXIS_RADIUS = 3396.0
  C_AXIS_RADIUS = 3396.0
  CENTER_LATITUDE = -90.0
  CENTER_LONGITUDE = 0.0
  COORDINATE_SYSTEM_NAME = PLANETOGRAPHIC
  COORDINATE_SYSTEM_TYPE = "BODY-FIXED ROTATING"
  EASTERNMOST_LONGITUDE = 114.917
  FIRST_STANDARD_PARALLEL = "N/A"
  LINE_FIRST_PIXEL = 1
  LINE_LAST_PIXEL = 16492
  LINE_PROJECTION_OFFSET = 10429.625
  MAP_PROJECTION_ROTATION = 0.0
  MAP_PROJECTION_TYPE = STEREOGRAPHIC
  MAP_RESOLUTION = 1185.42760773333
  MAP_SCALE = 0.05
  MAXIMUM_LATITUDE = -77.535
  MINIMUM_LATITUDE = -87.5869
  POSITIVE_LONGITUDE_DIRECTION = EAST
  REFERENCE_LATITUDE = "N/A"
  REFERENCE_LONGITUDE = "N/A"
  SAMPLE_FIRST_PIXEL = 1
  SAMPLE_LAST_PIXEL = 21770
  SAMPLE_PROJECTION_OFFSET = 7363.375
  SECOND_STANDARD_PARALLEL = "N/A"
  WESTERNMOST_LONGITUDE = -38.817
END_OBJECT = IMAGE_MAP_PROJECTION
/* The JPEG2000 image data file associated with this label. */
OBJECT = COMPRESSED_FILE
  FILE_NAME = "H6819_0000_IR3.JP2"
  RECORD_TYPE = UNDEFINED
  FILE_RECORDS = UNK
  ENCODING_TYPE = "JP2"
  INTERCHANGE_FORMAT = BINARY
  UNCOMPRESSED_FILE_NAME = "H6819_0000_IR3.IMG"
  REQUIRED_STORAGE_BYTES = "359096150"
  ^DESCRIPTION = "JP2INFO.TXT"
END_OBJECT = COMPRESSED_FILE
END
