PDS_VERSION_ID = PDS3
/* FILE DATA ELEMENTS */
RECORD_TYPE = STREAM
/* POINTERS TO DATA OBJECTS */
^COMPRESSED_FILE = "H6819_0000_RE3.JP2"
/* IDENTIFICATION DATA ELEMENTS */
DATA_SET_ID = "MEX-M-HRSC-5-REFDR-MAPPROJECTED-V3.0"
DATA_SET_NAME = "MARS EXPRESS HRSC MAP PROJECTED REFDR V3.0"
DETECTOR_ID = MEX_HRSC_RED
EVENT_TYPE = "MARS-REGIONAL-MAPPING-Gl"
INSTRUMENT_HOST_ID = MEX
INSTRUMENT_HOST_NAME = "MARS EXPRESS"
INSTRUMENT_ID = HRSC
INSTRUMENT_NAME = "HIGH RESOLUTION STEREO CAMERA"
MISSION_NAME = "MARS EXPRESS"
MISSION_PHASE_NAME = ME_Phase_17
PROCESSING_LEVEL_ID = 3
PRODUCT_CREATION_TIME = 2016-06-29T12:07:32.000Z
PRODUCT_ID = "H6819_0000_RE3.JP2"
RELEASE_ID = 0076
REVISION_ID = 0000
/* QUALITY DATA ELEMENTS */
DATA_QUALITY_ID = 1
DATA_QUALITY_DESC = "Data calculated based on original SPICE kernels"
/* TIME DATA ELEMENTS */
SPACECRAFT_CLOCK_START_COUNT = "1/0188782569.07287"
SPACECRAFT_CLOCK_STOP_COUNT = "1/0188783048.57179"
START_TIME = 2009-04-25T23:37:18.024Z
STOP_TIME = 2009-04-25T23:43:52.525Z
/* ORBITAL DATA ELEMENTS */
ASCENDING_NODE_LONGITUDE = 87.65
MAXIMUM_RESOLUTION = 68.2
FOOTPRINT_POINT_LATITUDE = (-79.9049,-80.0597,-80.1661,-80.8078, -81.1489,-81.4899,-82.0009,-82.3431, -82.6843,-83.0311,-83.3745,-83.7211, -84.0684,-84.4133,-84.7588,-85.0955, -85.4338,-85.9261,-86.2421,-86.5466, -86.9623,-87.2116,-87.4203,-87.6368, -87.7049,-87.6054,-87.4521,-87.2387, -86.9756,-86.6764,-86.3449,-85.9898, -85.6202,-85.0224,-84.6092,-84.1827, -83.7467,-83.3025,-82.8501,-82.3886, -81.9186,-81.442,-80.7133,-79.9725, -79.4652,-78.9536,-78.4374,-77.9556, -77.8892,-77.7921,-77.7067,-77.5268, -77.6691,-78.1669,-78.6568,-79.138, -79.6097,-80.0719,-80.7447,-81.1857, -81.6174,-82.0347,-82.4392,-82.8292, -83.2058,-83.5679,-83.9133,-84.2395, -84.5444,-84.825,-85.079,-85.3033, -85.4947,-85.6491,-85.7647,-85.8394, -85.8719,-85.8623,-85.812,-85.7235, -85.5257,-85.3562,-85.1618,-84.939, -84.581,-84.319,-84.0473,-83.77, -83.3367,-83.0413,-82.7394,-82.4367, -81.9707,-81.5058,-81.1902,-80.8766, -80.5592,-80.2422,-79.9274,-79.9049)
FOOTPRINT_POINT_LONGITUDE = (326.888,324.321,322.255,321.904, 322.468,323.081,324.096,324.853,325.685 ,326.622,327.652,328.821,330.151, 331.646,333.371,335.287,337.572,341.689 ,345.047,349.058,356.36,362.791,370.219 ,383.54,398.771,414.008,423.159,431.189 ,438.022,443.718,448.481,452.465, 455.804,459.909,462.159,464.104,465.796 ,467.28,468.59,469.754,470.794,471.728, 472.965,474.039,474.673,475.259,475.8, 473.747,472.139,470.098,468.531,465.678 ,463.753,462.943,462.067,461.119, 460.093,458.981,457.143,455.742,454.197 ,452.524,450.69,448.687,446.469,444.002 ,441.265,438.236,434.881,431.179,427.11 ,422.663,417.836,412.688,407.247,401.6, 395.87,390.159,384.555,379.207,371.746, 367.214,363.077,359.253,354.252,351.301 ,348.633,346.251,343.071,341.202,339.49 ,337.944,335.847,334.019,332.91,331.898 ,330.952,330.076,329.268,326.888)
ORBIT_NUMBER = 6819
ORBITAL_ECCENTRICITY = 0.576
ORBITAL_INCLINATION = 86.78
ORBITAL_SEMIMAJOR_AXIS = 8697.08
PERIAPSIS_ALTITUDE = 310.97
PERIAPSIS_ARGUMENT_ANGLE = 241.25
PERIAPSIS_TIME = 2009-04-25T23:31:52.000Z
SPACECRAFT_ORIENTATION = (0.0,-1.0,0.0)
^MEX_ORIENTATION_DESC = "MEX_ORIENTATION_DESC.TXT"
SPACECRAFT_POINTING_MODE = NADIR
^MEX_POINTING_DESC = "MEX_POINTING_DESC.TXT"
RIGHT_ASCENSION = -1e+32
DECLINATION = -1e+32
OFFSET_ANGLE = -1e+32
SPACECRAFT_SOLAR_DISTANCE = 2.06667e+08
TARGET_NAME = MARS
/* CAMERA DATA ELEMENTS */
DETECTOR_TEMPERATURE = 18.5744
FOCAL_PLANE_TEMPERATURE = 8.1755
INST_CMPRS_NAME = "DISCRETE COSINE TRANSFORMATION (DCT)"
INST_CMPRS_RATIO = 9.98542
INST_CMPRS_QUALITY = 0
INST_CMPRS_QUANTZ_TBL_ID = 0
INSTRUMENT_TEMPERATURE = 10.0106
LENS_TEMPERATURE = 8.7872
MACROPIXEL_SIZE = 4
MISSING_FRAMES = 0
PIXEL_SUBSAMPLING_FLAG = N
SIGNAL_CHAIN_ID = 2
/* RADIOMETRIC DATA ELEMENTS */
BANDWIDTH = 48.0
CENTER_FILTER_WAVELENGTH = 748.0
RADIANCE_OFFSET = 1.35209
RADIANCE_SCALING_FACTOR = 0.00825218
REFLECTANCE_SCALING_FACTOR = 0.00080434
MEX:REFLECTANCE_OFFSET = 0.131788
/* IMAGE OBJECT DEFINITIONS */
OBJECT = IMAGE
  INTERCHANGE_FORMAT = BINARY
  LINES = 16492
  LINE_SAMPLES = 21770
  SAMPLE_TYPE = UNSIGNED_INTEGER
  SAMPLE_BITS = 8
  BANDS = 1
  BAND_STORAGE_TYPE = BAND_SEQUENTIAL
  MAXIMUM = 255
  MEAN = 150.448
  MINIMUM = 1
  STANDARD_DEVIATION = 83.0042
END_OBJECT = IMAGE
/* MAP OBJECT DEFINITIONS */
OBJECT = IMAGE_MAP_PROJECTION
  ^DATA_SET_MAP_PROJECTION_CATALOG= "DSMAP.CAT"
  A_AXIS_RADIUS = 3396.0
  B_AXIS_RADIUS = 3396.0
  C_AXIS_RADIUS = 3396.0
  CENTER_LATITUDE = -90.0
  CENTER_LONGITUDE = 0.0
  COORDINATE_SYSTEM_NAME = PLANETOGRAPHIC
  COORDINATE_SYSTEM_TYPE = "BODY-FIXED ROTATING"
  EASTERNMOST_LONGITUDE = 115.8
  FIRST_STANDARD_PARALLEL = "N/A"
  LINE_FIRST_PIXEL = 1
  LINE_LAST_PIXEL = 16492
  LINE_PROJECTION_OFFSET = 10429.625
  MAP_PROJECTION_ROTATION = 0.0
  MAP_PROJECTION_TYPE = STEREOGRAPHIC
  MAP_RESOLUTION = 1185.42760773333
  MAP_SCALE = 0.05
  MAXIMUM_LATITUDE = -77.52679999999999
  MINIMUM_LATITUDE = -87.70489999999999
  POSITIVE_LONGITUDE_DIRECTION = EAST
  REFERENCE_LATITUDE = "N/A"
  REFERENCE_LONGITUDE = "N/A"
  SAMPLE_FIRST_PIXEL = 1
  SAMPLE_LAST_PIXEL = 21770
  SAMPLE_PROJECTION_OFFSET = 7363.375
  SECOND_STANDARD_PARALLEL = "N/A"
  WESTERNMOST_LONGITUDE = -38.096
END_OBJECT = IMAGE_MAP_PROJECTION
/* The JPEG2000 image data file associated with this label. */
OBJECT = COMPRESSED_FILE
  FILE_NAME = "H6819_0000_RE3.JP2"
  RECORD_TYPE = UNDEFINED
  FILE_RECORDS = UNK
  ENCODING_TYPE = "JP2"
  INTERCHANGE_FORMAT = BINARY
  UNCOMPRESSED_FILE_NAME = "H6819_0000_RE3.IMG"
  REQUIRED_STORAGE_BYTES = "359096150"
  ^DESCRIPTION = "JP2INFO.TXT"
END_OBJECT = COMPRESSED_FILE
END
