PDS_VERSION_ID = PDS3
/* FILE DATA ELEMENTS */
RECORD_TYPE = STREAM
/* POINTERS TO DATA OBJECTS */
^COMPRESSED_FILE = "H6822_0000_S23.JP2"
/* IDENTIFICATION DATA ELEMENTS */
DATA_SET_ID = "MEX-M-HRSC-5-REFDR-MAPPROJECTED-V3.0"
DATA_SET_NAME = "MARS EXPRESS HRSC MAP PROJECTED REFDR V3.0"
DETECTOR_ID = MEX_HRSC_S2
EVENT_TYPE = "MARS-REGIONAL-MAPPING-Gl-La"
INSTRUMENT_HOST_ID = MEX
INSTRUMENT_HOST_NAME = "MARS EXPRESS"
INSTRUMENT_ID = HRSC
INSTRUMENT_NAME = "HIGH RESOLUTION STEREO CAMERA"
MISSION_NAME = "MARS EXPRESS"
MISSION_PHASE_NAME = ME_Phase_17
PROCESSING_LEVEL_ID = 3
PRODUCT_CREATION_TIME = 2016-06-29T12:07:32.000Z
PRODUCT_ID = "H6822_0000_S23.JP2"
RELEASE_ID = 0076
REVISION_ID = 0000
/* QUALITY DATA ELEMENTS */
DATA_QUALITY_ID = 1
DATA_QUALITY_DESC = "Data calculated based on original SPICE kernels"
/* TIME DATA ELEMENTS */
SPACECRAFT_CLOCK_START_COUNT = "1/0188857218.09060"
SPACECRAFT_CLOCK_STOP_COUNT = "1/0188857559.30557"
START_TIME = 2009-04-26T20:22:08.699Z
STOP_TIME = 2009-04-26T20:25:59.973Z
/* ORBITAL DATA ELEMENTS */
ASCENDING_NODE_LONGITUDE = 87.59
MAXIMUM_RESOLUTION = 49.3
FOOTPRINT_POINT_LATITUDE = (-85.2389,-85.4364,-85.7585,-86.0087, -86.2507,-86.4833,-86.8557,-86.569, -86.2599,-85.9283,-85.6689,-85.4925, -85.2235,-85.0404,-84.8572,-84.6679, -84.4769,-84.2813,-84.0834,-83.8841, -83.5846,-83.3819,-83.1801,-82.9785, -82.6647,-82.454,-82.2399,-82.0271, -81.8125,-81.5988,-81.3815,-81.1658, -80.9414,-80.608,-80.2718,-79.9325, -79.7051,-79.4761,-79.2455,-79.0138, -78.7801,-78.5456,-78.3137,-78.0739, -77.8347,-77.5951,-77.2361,-76.8679, -76.4623,-76.4214,-76.388,-76.3464, -76.3063,-76.2227,-76.1217,-75.9947, -75.9014,-76.122,-76.3585,-76.5926, -76.9416,-77.1717,-77.4004,-77.628, -77.8534,-78.189,-78.4108,-78.6311, -78.849,-79.1731,-79.493,-79.8088, -80.0176,-80.2236,-80.5296,-80.7326, -80.938,-81.1357,-81.4278,-81.6153, -81.8043,-81.9906,-82.1751,-82.3568, -82.5373,-82.7139,-82.8897,-83.0658, -83.2336,-83.3964,-83.5551,-83.7121, -83.8661,-84.0166,-84.1622,-84.3046, -84.5083,-84.7632,-84.9955,-85.2389)
FOOTPRINT_POINT_LONGITUDE = (122.494,123.956,126.679,129.159, 131.951,135.115,138.916,143.692,147.742 ,151.198,153.449,154.814,156.671, 157.806,158.855,159.847,160.769,161.639 ,162.451,163.215,164.274,164.934, 165.552,166.142,166.965,167.479,167.967 ,168.431,168.873,169.295,169.698, 170.083,170.449,170.971,171.46,171.92, 172.211,172.491,172.76,173.02,173.27, 173.511,173.746,173.969,174.185,174.394 ,174.698,174.983,174.797,173.482, 172.533,171.471,170.534,168.792,166.955 ,164.918,163.578,163.034,162.745, 162.449,161.984,161.661,161.328,160.982 ,160.624,160.063,159.671,159.265, 158.845,158.184,157.488,156.751,156.234 ,155.699,154.854,154.255,153.6,152.956, 151.939,151.256,150.52,149.748,148.943, 148.101,147.211,146.288,145.306,144.234 ,143.175,142.088,140.962,139.761, 138.487,137.155,135.762,134.293,131.977 ,128.628,125.011,122.494)
ORBIT_NUMBER = 6822
ORBITAL_ECCENTRICITY = 0.576
ORBITAL_INCLINATION = 86.76
ORBITAL_SEMIMAJOR_AXIS = 8700.87
PERIAPSIS_ALTITUDE = 311.62
PERIAPSIS_ARGUMENT_ANGLE = 240.73
PERIAPSIS_TIME = 2009-04-26T20:12:55.000Z
SPACECRAFT_ORIENTATION = (0.0,-1.0,0.0)
^MEX_ORIENTATION_DESC = "MEX_ORIENTATION_DESC.TXT"
SPACECRAFT_POINTING_MODE = NADIR
^MEX_POINTING_DESC = "MEX_POINTING_DESC.TXT"
RIGHT_ASCENSION = -1e+32
DECLINATION = -1e+32
OFFSET_ANGLE = -1e+32
SPACECRAFT_SOLAR_DISTANCE = 2.06677e+08
TARGET_NAME = MARS
/* CAMERA DATA ELEMENTS */
DETECTOR_TEMPERATURE = 18.7783
FOCAL_PLANE_TEMPERATURE = 8.7872
INST_CMPRS_NAME = "DISCRETE COSINE TRANSFORMATION (DCT)"
INST_CMPRS_RATIO = 6.79137
INST_CMPRS_QUALITY = 0
INST_CMPRS_QUANTZ_TBL_ID = 0
INSTRUMENT_TEMPERATURE = 11.234
LENS_TEMPERATURE = 9.195
MACROPIXEL_SIZE = 2
MISSING_FRAMES = 0
PIXEL_SUBSAMPLING_FLAG = N
SIGNAL_CHAIN_ID = 1
/* RADIOMETRIC DATA ELEMENTS */
BANDWIDTH = 178.0
CENTER_FILTER_WAVELENGTH = 679.0
RADIANCE_OFFSET = 4.91693
RADIANCE_SCALING_FACTOR = 0.0349203
REFLECTANCE_SCALING_FACTOR = 0.000789936
MEX:REFLECTANCE_OFFSET = 0.111226
/* IMAGE OBJECT DEFINITIONS */
OBJECT = IMAGE
  INTERCHANGE_FORMAT = BINARY
  LINES = 12832
  LINE_SAMPLES = 7858
  SAMPLE_TYPE = UNSIGNED_INTEGER
  SAMPLE_BITS = 8
  BANDS = 1
  BAND_STORAGE_TYPE = BAND_SEQUENTIAL
  MAXIMUM = 255
  MEAN = 86.7362
  MINIMUM = 1
  STANDARD_DEVIATION = 56.8611
END_OBJECT = IMAGE
/* MAP OBJECT DEFINITIONS */
OBJECT = IMAGE_MAP_PROJECTION
  ^DATA_SET_MAP_PROJECTION_CATALOG= "DSMAP.CAT"
  A_AXIS_RADIUS = 3396.0
  B_AXIS_RADIUS = 3396.0
  C_AXIS_RADIUS = 3396.0
  CENTER_LATITUDE = 0.0
  CENTER_LONGITUDE = 159.0
  COORDINATE_SYSTEM_NAME = PLANETOGRAPHIC
  COORDINATE_SYSTEM_TYPE = "BODY-FIXED ROTATING"
  EASTERNMOST_LONGITUDE = 174.983
  FIRST_STANDARD_PARALLEL = "N/A"
  LINE_FIRST_PIXEL = 1
  LINE_LAST_PIXEL = 12832
  LINE_PROJECTION_OFFSET = -90056.25
  MAP_PROJECTION_ROTATION = 0.0
  MAP_PROJECTION_TYPE = SINUSOIDAL
  MAP_RESOLUTION = 1185.42760773333
  MAP_SCALE = 0.05
  MAXIMUM_LATITUDE = -75.9014
  MINIMUM_LATITUDE = -86.8557
  POSITIVE_LONGITUDE_DIRECTION = EAST
  REFERENCE_LATITUDE = "N/A"
  REFERENCE_LONGITUDE = "N/A"
  SAMPLE_FIRST_PIXEL = 1
  SAMPLE_LAST_PIXEL = 7858
  SAMPLE_PROJECTION_OFFSET = 3655.75
  SECOND_STANDARD_PARALLEL = "N/A"
  WESTERNMOST_LONGITUDE = 122.494
END_OBJECT = IMAGE_MAP_PROJECTION
/* The JPEG2000 image data file associated with this label. */
OBJECT = COMPRESSED_FILE
  FILE_NAME = "H6822_0000_S23.JP2"
  RECORD_TYPE = UNDEFINED
  FILE_RECORDS = UNK
  ENCODING_TYPE = "JP2"
  INTERCHANGE_FORMAT = BINARY
  UNCOMPRESSED_FILE_NAME = "H6822_0000_S23.IMG"
  REQUIRED_STORAGE_BYTES = "100865288"
  ^DESCRIPTION = "JP2INFO.TXT"
END_OBJECT = COMPRESSED_FILE
END
