PDS_VERSION_ID = PDS3
/* FILE DATA ELEMENTS */
RECORD_TYPE = STREAM
/* POINTERS TO DATA OBJECTS */
^COMPRESSED_FILE = "H6826_0000_P23.JP2"
/* IDENTIFICATION DATA ELEMENTS */
DATA_SET_ID = "MEX-M-HRSC-5-REFDR-MAPPROJECTED-V3.0"
DATA_SET_NAME = "MARS EXPRESS HRSC MAP PROJECTED REFDR V3.0"
DETECTOR_ID = MEX_HRSC_P2
EVENT_TYPE = "MARS-REGIONAL-MAPPING-Gl-La"
INSTRUMENT_HOST_ID = MEX
INSTRUMENT_HOST_NAME = "MARS EXPRESS"
INSTRUMENT_ID = HRSC
INSTRUMENT_NAME = "HIGH RESOLUTION STEREO CAMERA"
MISSION_NAME = "MARS EXPRESS"
MISSION_PHASE_NAME = ME_Phase_17
PROCESSING_LEVEL_ID = 3
PRODUCT_CREATION_TIME = 2016-06-29T12:07:32.000Z
PRODUCT_ID = "H6826_0000_P23.JP2"
RELEASE_ID = 0076
REVISION_ID = 0000
/* QUALITY DATA ELEMENTS */
DATA_QUALITY_ID = 1
DATA_QUALITY_DESC = "Data calculated based on original SPICE kernels"
/* TIME DATA ELEMENTS */
SPACECRAFT_CLOCK_START_COUNT = "1/0188956614.09024"
SPACECRAFT_CLOCK_STOP_COUNT = "1/0188957109.06006"
START_TIME = 2009-04-27T23:58:46.994Z
STOP_TIME = 2009-04-28T00:04:07.681Z
/* ORBITAL DATA ELEMENTS */
ASCENDING_NODE_LONGITUDE = 87.51
MAXIMUM_RESOLUTION = 56.9
FOOTPRINT_POINT_LATITUDE = (-79.8843,-80.0475,-80.1987,-80.3377, -80.4644,-80.5787,-80.313,-79.8216, -79.321,-78.6859,-78.1699,-77.9075, -77.6426,-77.3743,-77.108,-76.839, -76.5675,-76.2935,-76.0176,-75.7389, -75.3215,-74.8938,-74.6082,-74.32, -74.0293,-73.7374,-73.4446,-73.1486, -72.8506,-72.5471,-72.2461,-71.9445, -71.485,-71.1772,-70.8699,-70.564, -70.2593,-69.9559,-69.6534,-69.3547, -68.9065,-68.4585,-68.1664,-67.8727, -67.581,-67.2906,-67.002,-66.7143, -66.48,-66.4593,-66.4362,-66.4089, -66.3607,-66.3139,-66.2412,-66.1952, -66.1358,-66.0844,-66.4904,-66.7722, -67.1995,-67.6248,-67.9106,-68.1978, -68.4886,-68.7815,-69.0748,-69.3686, -69.6636,-69.9599,-70.2568,-70.5549, -70.855,-71.1548,-71.4515,-71.7454, -72.0378,-72.4745,-72.763,-73.1874, -73.4701,-73.7505,-74.028,-74.303, -74.7112,-74.9823,-75.25,-75.5156, -75.9099,-76.168,-76.4231,-76.6796, -76.9332,-77.4311,-77.9189,-78.2784, -78.6326,-78.981,-79.5463,-79.8843)
FOOTPRINT_POINT_LONGITUDE = (109.983,111.918,113.898,115.918, 117.978,120.077,121.352,122.348,123.261 ,124.298,125.054,125.412,125.757, 126.089,126.408,126.716,127.012,127.299 ,127.576,127.844,128.229,128.596,128.83 ,129.057,129.278,129.491,129.698,129.9, 130.095,130.284,130.468,130.647,130.906 ,131.073,131.232,131.386,131.534, 131.677,131.815,131.948,132.139,132.32, 132.436,132.548,132.657,132.763,132.865 ,132.964,131.942,131.213,130.484, 129.756,128.571,127.566,126.194,125.467 ,124.553,123.821,123.424,123.299, 123.097,122.898,122.757,122.611,122.451 ,122.282,122.11,121.932,121.748,121.556 ,121.359,121.153,120.935,120.71,120.481 ,120.247,120.004,119.613,119.342, 118.937,118.645,118.344,118.037,117.72, 117.224,116.871,116.512,116.139,115.558 ,115.163,114.763,114.322,113.868, 112.924,111.916,111.11,110.256,109.35, 107.75,109.983)
ORBIT_NUMBER = 6826
ORBITAL_ECCENTRICITY = 0.575
ORBITAL_INCLINATION = 86.77
ORBITAL_SEMIMAJOR_AXIS = 8699.22
PERIAPSIS_ALTITUDE = 311.67
PERIAPSIS_ARGUMENT_ANGLE = 240.04
PERIAPSIS_TIME = 2009-04-27T23:47:38.000Z
SPACECRAFT_ORIENTATION = (0.0,-1.0,0.0)
^MEX_ORIENTATION_DESC = "MEX_ORIENTATION_DESC.TXT"
SPACECRAFT_POINTING_MODE = ACROSSTRACK
^MEX_POINTING_DESC = "MEX_POINTING_DESC.TXT"
RIGHT_ASCENSION = -1e+32
DECLINATION = -1e+32
OFFSET_ANGLE = 1.0
SPACECRAFT_SOLAR_DISTANCE = 2.06692e+08
TARGET_NAME = MARS
/* CAMERA DATA ELEMENTS */
DETECTOR_TEMPERATURE = 18.5744
FOCAL_PLANE_TEMPERATURE = 7.7677
INST_CMPRS_NAME = "DISCRETE COSINE TRANSFORMATION (DCT)"
INST_CMPRS_RATIO = 8.21743
INST_CMPRS_QUALITY = 0
INST_CMPRS_QUANTZ_TBL_ID = 0
INSTRUMENT_TEMPERATURE = 11.0301
LENS_TEMPERATURE = 8.1755
MACROPIXEL_SIZE = 2
MISSING_FRAMES = 0
PIXEL_SUBSAMPLING_FLAG = N
SIGNAL_CHAIN_ID = 3
/* RADIOMETRIC DATA ELEMENTS */
BANDWIDTH = 177.0
CENTER_FILTER_WAVELENGTH = 676.5
RADIANCE_OFFSET = 5.90372
RADIANCE_SCALING_FACTOR = 0.0140669
REFLECTANCE_SCALING_FACTOR = 0.000318642
MEX:REFLECTANCE_OFFSET = 0.13373
/* IMAGE OBJECT DEFINITIONS */
OBJECT = IMAGE
  INTERCHANGE_FORMAT = BINARY
  LINES = 17354
  LINE_SAMPLES = 7344
  SAMPLE_TYPE = UNSIGNED_INTEGER
  SAMPLE_BITS = 8
  BANDS = 1
  BAND_STORAGE_TYPE = BAND_SEQUENTIAL
  MAXIMUM = 255
  MEAN = 124.001
  MINIMUM = 1
  STANDARD_DEVIATION = 44.7561
END_OBJECT = IMAGE
/* MAP OBJECT DEFINITIONS */
OBJECT = IMAGE_MAP_PROJECTION
  ^DATA_SET_MAP_PROJECTION_CATALOG= "DSMAP.CAT"
  A_AXIS_RADIUS = 3396.0
  B_AXIS_RADIUS = 3396.0
  C_AXIS_RADIUS = 3396.0
  CENTER_LATITUDE = 0.0
  CENTER_LONGITUDE = 124.0
  COORDINATE_SYSTEM_NAME = PLANETOGRAPHIC
  COORDINATE_SYSTEM_TYPE = "BODY-FIXED ROTATING"
  EASTERNMOST_LONGITUDE = 132.964
  FIRST_STANDARD_PARALLEL = "N/A"
  LINE_FIRST_PIXEL = 1
  LINE_LAST_PIXEL = 17354
  LINE_PROJECTION_OFFSET = -78306.75
  MAP_PROJECTION_ROTATION = 0.0
  MAP_PROJECTION_TYPE = SINUSOIDAL
  MAP_RESOLUTION = 1185.42760773333
  MAP_SCALE = 0.05
  MAXIMUM_LATITUDE = -66.0844
  MINIMUM_LATITUDE = -80.5787
  POSITIVE_LONGITUDE_DIRECTION = EAST
  REFERENCE_LATITUDE = "N/A"
  REFERENCE_LONGITUDE = "N/A"
  SAMPLE_FIRST_PIXEL = 1
  SAMPLE_LAST_PIXEL = 7344
  SAMPLE_PROJECTION_OFFSET = 3383.25
  SECOND_STANDARD_PARALLEL = "N/A"
  WESTERNMOST_LONGITUDE = 107.75
END_OBJECT = IMAGE_MAP_PROJECTION
/* The JPEG2000 image data file associated with this label. */
OBJECT = COMPRESSED_FILE
  FILE_NAME = "H6826_0000_P23.JP2"
  RECORD_TYPE = UNDEFINED
  FILE_RECORDS = UNK
  ENCODING_TYPE = "JP2"
  INTERCHANGE_FORMAT = BINARY
  UNCOMPRESSED_FILE_NAME = "H6826_0000_P23.IMG"
  REQUIRED_STORAGE_BYTES = "127477152"
  ^DESCRIPTION = "JP2INFO.TXT"
END_OBJECT = COMPRESSED_FILE
END
