PDS_VERSION_ID = PDS3
/* FILE DATA ELEMENTS */
RECORD_TYPE = STREAM
/* POINTERS TO DATA OBJECTS */
^COMPRESSED_FILE = "H6828_0000_RE3.JP2"
/* IDENTIFICATION DATA ELEMENTS */
DATA_SET_ID = "MEX-M-HRSC-5-REFDR-MAPPROJECTED-V3.0"
DATA_SET_NAME = "MARS EXPRESS HRSC MAP PROJECTED REFDR V3.0"
DETECTOR_ID = MEX_HRSC_RED
EVENT_TYPE = "MARS-REGIONAL-MAPPING-Gl-La-At"
INSTRUMENT_HOST_ID = MEX
INSTRUMENT_HOST_NAME = "MARS EXPRESS"
INSTRUMENT_ID = HRSC
INSTRUMENT_NAME = "HIGH RESOLUTION STEREO CAMERA"
MISSION_NAME = "MARS EXPRESS"
MISSION_PHASE_NAME = ME_Phase_17
PROCESSING_LEVEL_ID = 3
PRODUCT_CREATION_TIME = 2016-06-29T12:07:32.000Z
PRODUCT_ID = "H6828_0000_RE3.JP2"
RELEASE_ID = 0076
REVISION_ID = 0000
/* QUALITY DATA ELEMENTS */
DATA_QUALITY_ID = 1
DATA_QUALITY_DESC = "Data calculated based on original SPICE kernels"
/* TIME DATA ELEMENTS */
SPACECRAFT_CLOCK_START_COUNT = "1/0189006219.08388"
SPACECRAFT_CLOCK_STOP_COUNT = "1/0189006631.57339"
START_TIME = 2009-04-28T13:45:34.654Z
STOP_TIME = 2009-04-28T13:50:06.979Z
/* ORBITAL DATA ELEMENTS */
ASCENDING_NODE_LONGITUDE = 87.47
MAXIMUM_RESOLUTION = 109.3
FOOTPRINT_POINT_LATITUDE = (-82.6062,-82.7896,-82.9622,-83.2082, -83.3581,-83.6046,-83.2962,-82.984, -82.5611,-82.3475,-82.1293,-81.9119, -81.6919,-81.4727,-81.2466,-81.0216, -80.7973,-80.5694,-80.2246,-79.8761, -79.6426,-79.2924,-78.9371,-78.5768, -78.3316,-78.083,-77.714,-77.4643, -77.2182,-76.9616,-76.7074,-76.3267, -76.0696,-75.6824,-75.4253,-75.1624, -74.7654,-74.5011,-74.2383,-73.9767, -73.7166,-73.3248,-72.939,-72.6808, -72.4257,-72.0431,-71.7893,-71.5369, -71.3888,-71.3668,-71.3208,-71.2891, -71.2385,-71.1766,-71.1426,-71.0935, -70.9962,-71.0526,-71.4258,-71.6733, -71.9186,-72.1672,-72.5412,-72.7935, -73.1748,-73.4283,-73.675,-73.9301, -74.1862,-74.5698,-74.8233,-75.0759, -75.3258,-75.5742,-75.8201,-76.1863, -76.5481,-76.9062,-77.1439,-77.3826, -77.7259,-77.9558,-78.1851,-78.4125, -78.6366,-78.8603,-79.0805,-79.4075, -79.7297,-79.9421,-80.152,-80.4629, -80.6676,-80.8692,-81.1678,-81.3643, -81.5573,-81.9361,-82.3041,-82.6062)
FOOTPRINT_POINT_LONGITUDE = (261.947,264.15,266.456,270.26,272.988, 276.126,277.274,278.326,279.599,280.185 ,280.746,281.275,281.782,282.262, 282.722,283.16,283.578,283.979,284.548, 285.082,285.419,285.903,286.359,286.788 ,287.061,287.321,287.699,287.938, 288.172,288.394,288.61,288.924,289.123, 289.412,289.6,289.779,290.038,290.203, 290.363,290.517,290.666,290.877,291.079 ,291.206,291.33,291.508,291.622,291.732 ,290.901,290.109,288.73,287.946,286.773 ,285.405,284.619,283.744,282.305, 281.231,280.985,280.819,280.654,280.477 ,280.201,280.003,279.689,279.473, 279.271,279.039,278.797,278.415,278.151 ,277.875,277.593,277.302,277.003, 276.533,276.042,275.522,275.157,274.764 ,274.204,273.797,273.37,272.926,272.473 ,271.997,271.508,270.74,269.927,269.359 ,268.768,267.838,267.185,266.509, 265.439,264.686,263.903,262.233,260.406 ,261.947)
ORBIT_NUMBER = 6828
ORBITAL_ECCENTRICITY = 0.576
ORBITAL_INCLINATION = 86.77
ORBITAL_SEMIMAJOR_AXIS = 8703.78
PERIAPSIS_ALTITUDE = 311.54
PERIAPSIS_ARGUMENT_ANGLE = 239.71
PERIAPSIS_TIME = 2009-04-28T13:35:03.000Z
SPACECRAFT_ORIENTATION = (0.0,-1.0,0.0)
^MEX_ORIENTATION_DESC = "MEX_ORIENTATION_DESC.TXT"
SPACECRAFT_POINTING_MODE = ACROSSTRACK
^MEX_POINTING_DESC = "MEX_POINTING_DESC.TXT"
RIGHT_ASCENSION = -1e+32
DECLINATION = -1e+32
OFFSET_ANGLE = 0.3
SPACECRAFT_SOLAR_DISTANCE = 2.067e+08
TARGET_NAME = MARS
/* CAMERA DATA ELEMENTS */
DETECTOR_TEMPERATURE = 18.5744
FOCAL_PLANE_TEMPERATURE = 7.9716
INST_CMPRS_NAME = "DISCRETE COSINE TRANSFORMATION (DCT)"
INST_CMPRS_RATIO = 9.66422
INST_CMPRS_QUALITY = 0
INST_CMPRS_QUANTZ_TBL_ID = 0
INSTRUMENT_TEMPERATURE = 11.0301
LENS_TEMPERATURE = 8.3794
MACROPIXEL_SIZE = 4
MISSING_FRAMES = 0
PIXEL_SUBSAMPLING_FLAG = N
SIGNAL_CHAIN_ID = 2
/* RADIOMETRIC DATA ELEMENTS */
BANDWIDTH = 48.0
CENTER_FILTER_WAVELENGTH = 748.0
RADIANCE_OFFSET = 1.61622
RADIANCE_SCALING_FACTOR = 0.0132671
REFLECTANCE_SCALING_FACTOR = 0.00129355
MEX:REFLECTANCE_OFFSET = 0.157583
/* IMAGE OBJECT DEFINITIONS */
OBJECT = IMAGE
  INTERCHANGE_FORMAT = BINARY
  LINES = 7495
  LINE_SAMPLES = 3491
  SAMPLE_TYPE = UNSIGNED_INTEGER
  SAMPLE_BITS = 8
  BANDS = 1
  BAND_STORAGE_TYPE = BAND_SEQUENTIAL
  MAXIMUM = 255
  MEAN = 173.667
  MINIMUM = 1
  STANDARD_DEVIATION = 89.2375
END_OBJECT = IMAGE
/* MAP OBJECT DEFINITIONS */
OBJECT = IMAGE_MAP_PROJECTION
  ^DATA_SET_MAP_PROJECTION_CATALOG= "DSMAP.CAT"
  A_AXIS_RADIUS = 3396.0
  B_AXIS_RADIUS = 3396.0
  C_AXIS_RADIUS = 3396.0
  CENTER_LATITUDE = 0.0
  CENTER_LONGITUDE = 281.0
  COORDINATE_SYSTEM_NAME = PLANETOGRAPHIC
  COORDINATE_SYSTEM_TYPE = "BODY-FIXED ROTATING"
  EASTERNMOST_LONGITUDE = 291.732
  FIRST_STANDARD_PARALLEL = "N/A"
  LINE_FIRST_PIXEL = 1
  LINE_LAST_PIXEL = 7495
  LINE_PROJECTION_OFFSET = -42053.125
  MAP_PROJECTION_ROTATION = 0.0
  MAP_PROJECTION_TYPE = SINUSOIDAL
  MAP_RESOLUTION = 592.713803866667
  MAP_SCALE = 0.1
  MAXIMUM_LATITUDE = -70.9962
  MINIMUM_LATITUDE = -83.6046
  POSITIVE_LONGITUDE_DIRECTION = EAST
  REFERENCE_LATITUDE = "N/A"
  REFERENCE_LONGITUDE = "N/A"
  SAMPLE_FIRST_PIXEL = 1
  SAMPLE_LAST_PIXEL = 3491
  SAMPLE_PROJECTION_OFFSET = 1615.125
  SECOND_STANDARD_PARALLEL = "N/A"
  WESTERNMOST_LONGITUDE = 260.406
END_OBJECT = IMAGE_MAP_PROJECTION
/* The JPEG2000 image data file associated with this label. */
OBJECT = COMPRESSED_FILE
  FILE_NAME = "H6828_0000_RE3.JP2"
  RECORD_TYPE = UNDEFINED
  FILE_RECORDS = UNK
  ENCODING_TYPE = "JP2"
  INTERCHANGE_FORMAT = BINARY
  UNCOMPRESSED_FILE_NAME = "H6828_0000_RE3.IMG"
  REQUIRED_STORAGE_BYTES = "26189482"
  ^DESCRIPTION = "JP2INFO.TXT"
END_OBJECT = COMPRESSED_FILE
END
