PDS_VERSION_ID = PDS3
/* FILE DATA ELEMENTS */
RECORD_TYPE = STREAM
/* POINTERS TO DATA OBJECTS */
^COMPRESSED_FILE = "H6831_0000_P23.JP2"
/* IDENTIFICATION DATA ELEMENTS */
DATA_SET_ID = "MEX-M-HRSC-5-REFDR-MAPPROJECTED-V3.0"
DATA_SET_NAME = "MARS EXPRESS HRSC MAP PROJECTED REFDR V3.0"
DETECTOR_ID = MEX_HRSC_P2
EVENT_TYPE = "MARS-LOCAL-COLOR-Im-Lc"
INSTRUMENT_HOST_ID = MEX
INSTRUMENT_HOST_NAME = "MARS EXPRESS"
INSTRUMENT_ID = HRSC
INSTRUMENT_NAME = "HIGH RESOLUTION STEREO CAMERA"
MISSION_NAME = "MARS EXPRESS"
MISSION_PHASE_NAME = ME_Phase_17
PROCESSING_LEVEL_ID = 3
PRODUCT_CREATION_TIME = 2016-06-29T12:07:32.000Z
PRODUCT_ID = "H6831_0000_P23.JP2"
RELEASE_ID = 0076
REVISION_ID = 0000
/* QUALITY DATA ELEMENTS */
DATA_QUALITY_ID = 1
DATA_QUALITY_DESC = "Data calculated based on original SPICE kernels"
/* TIME DATA ELEMENTS */
SPACECRAFT_CLOCK_START_COUNT = "1/0189080809.07287"
SPACECRAFT_CLOCK_STOP_COUNT = "1/0189081455.28644"
START_TIME = 2009-04-29T10:29:04.914Z
STOP_TIME = 2009-04-29T10:36:00.091Z
/* ORBITAL DATA ELEMENTS */
ASCENDING_NODE_LONGITUDE = 87.41
MAXIMUM_RESOLUTION = 66.9
FOOTPRINT_POINT_LATITUDE = (-75.8482,-75.9737,-76.0871,-76.1884, -76.2775,-76.3544,-76.0694,-75.6932, -75.319,-74.9461,-74.5744,-74.2057, -73.8382,-73.4736,-72.9267,-72.5652, -72.2057,-71.8499,-71.4925,-71.1381, -70.7862,-70.4364,-70.0883,-69.7414, -69.3972,-69.0532,-68.7125,-68.3738, -68.0381,-67.7033,-67.3713,-67.0401, -66.711,-66.3837,-66.0583,-65.7348, -65.4131,-65.0934,-64.7758,-64.4595, -64.1455,-63.8332,-63.5229,-62.9069, -62.4487,-61.9959,-61.3994,-60.8097, -60.2267,-59.7657,-59.7601,-59.7512, -59.7419,-59.7274,-59.7103,-59.6883, -59.6483,-59.599,-59.5643,-59.5262, -59.7794,-60.3447,-60.9184,-61.4997, -62.0887,-62.6869,-63.1376,-63.8949, -64.3582,-64.9783,-65.2931,-65.6095, -65.9263,-66.2457,-66.5673,-66.8903, -67.3785,-67.8709,-68.2011,-68.5336, -68.8674,-69.2034,-69.7118,-70.0517, -70.392,-70.7346,-71.0799,-71.4264, -71.7749,-72.1266,-72.4786,-72.831, -73.185,-73.54,-73.8971,-74.4355, -74.7948,-75.1553,-75.5176,-75.8482)
FOOTPRINT_POINT_LONGITUDE = (334.751,336.477,338.222,339.981, 341.755,343.544,344.391,344.727,345.043 ,345.341,345.624,345.891,346.145, 346.386,346.724,346.936,347.139,347.333 ,347.516,347.692,347.861,348.023, 348.178,348.326,348.469,348.605,348.737 ,348.863,348.986,349.104,349.217, 349.327,349.432,349.534,349.633,349.728 ,349.82,349.909,349.996,350.08,350.161, 350.24,350.316,350.462,350.565,350.665, 350.793,350.914,351.028,350.844,349.65, 348.823,348.089,347.354,346.619,345.883 ,344.779,343.581,342.842,342.1,341.553, 341.448,341.331,341.203,341.063,340.906 ,340.785,340.572,340.426,340.224, 340.112,339.996,339.878,339.753,339.621 ,339.485,339.268,339.036,338.873, 338.701,338.523,338.334,338.031,337.821 ,337.605,337.376,337.131,336.876, 336.607,336.317,336.016,335.704,335.374 ,335.027,334.658,334.062,333.641, 333.194,332.715,334.751)
ORBIT_NUMBER = 6831
ORBITAL_ECCENTRICITY = 0.576
ORBITAL_INCLINATION = 86.78
ORBITAL_SEMIMAJOR_AXIS = 8700.93
PERIAPSIS_ALTITUDE = 311.69
PERIAPSIS_ARGUMENT_ANGLE = 239.18
PERIAPSIS_TIME = 2009-04-29T10:16:06.000Z
SPACECRAFT_ORIENTATION = (0.0,-1.0,0.0)
^MEX_ORIENTATION_DESC = "MEX_ORIENTATION_DESC.TXT"
SPACECRAFT_POINTING_MODE = ACROSSTRACK
^MEX_POINTING_DESC = "MEX_POINTING_DESC.TXT"
RIGHT_ASCENSION = -1e+32
DECLINATION = -1e+32
OFFSET_ANGLE = 0.8
SPACECRAFT_SOLAR_DISTANCE = 2.06714e+08
TARGET_NAME = MARS
/* CAMERA DATA ELEMENTS */
DETECTOR_TEMPERATURE = 18.7783
FOCAL_PLANE_TEMPERATURE = 10.0106
INST_CMPRS_NAME = "DISCRETE COSINE TRANSFORMATION (DCT)"
INST_CMPRS_RATIO = 9.16956
INST_CMPRS_QUALITY = 0
INST_CMPRS_QUANTZ_TBL_ID = 0
INSTRUMENT_TEMPERATURE = 11.234
LENS_TEMPERATURE = 9.195
MACROPIXEL_SIZE = 2
MISSING_FRAMES = 0
PIXEL_SUBSAMPLING_FLAG = N
SIGNAL_CHAIN_ID = 3
/* RADIOMETRIC DATA ELEMENTS */
BANDWIDTH = 177.0
CENTER_FILTER_WAVELENGTH = 676.5
RADIANCE_OFFSET = 5.77959
RADIANCE_SCALING_FACTOR = 0.0242713
REFLECTANCE_SCALING_FACTOR = 0.000549909
MEX:REFLECTANCE_OFFSET = 0.130947
/* IMAGE OBJECT DEFINITIONS */
OBJECT = IMAGE
  INTERCHANGE_FORMAT = BINARY
  LINES = 20153
  LINE_SAMPLES = 6972
  SAMPLE_TYPE = UNSIGNED_INTEGER
  SAMPLE_BITS = 8
  BANDS = 1
  BAND_STORAGE_TYPE = BAND_SEQUENTIAL
  MAXIMUM = 255
  MEAN = 118.882
  MINIMUM = 1
  STANDARD_DEVIATION = 74.3078
END_OBJECT = IMAGE
/* MAP OBJECT DEFINITIONS */
OBJECT = IMAGE_MAP_PROJECTION
  ^DATA_SET_MAP_PROJECTION_CATALOG= "DSMAP.CAT"
  A_AXIS_RADIUS = 3396.0
  B_AXIS_RADIUS = 3396.0
  C_AXIS_RADIUS = 3396.0
  CENTER_LATITUDE = 0.0
  CENTER_LONGITUDE = 344.0
  COORDINATE_SYSTEM_NAME = PLANETOGRAPHIC
  COORDINATE_SYSTEM_TYPE = "BODY-FIXED ROTATING"
  EASTERNMOST_LONGITUDE = 351.028
  FIRST_STANDARD_PARALLEL = "N/A"
  LINE_FIRST_PIXEL = 1
  LINE_LAST_PIXEL = 20153
  LINE_PROJECTION_OFFSET = -70486.75
  MAP_PROJECTION_ROTATION = 0.0
  MAP_PROJECTION_TYPE = SINUSOIDAL
  MAP_RESOLUTION = 1185.42760773333
  MAP_SCALE = 0.05
  MAXIMUM_LATITUDE = -59.5262
  MINIMUM_LATITUDE = -76.3544
  POSITIVE_LONGITUDE_DIRECTION = EAST
  REFERENCE_LATITUDE = "N/A"
  REFERENCE_LONGITUDE = "N/A"
  SAMPLE_FIRST_PIXEL = 1
  SAMPLE_LAST_PIXEL = 6972
  SAMPLE_PROJECTION_OFFSET = 3212.75
  SECOND_STANDARD_PARALLEL = "N/A"
  WESTERNMOST_LONGITUDE = 332.715
END_OBJECT = IMAGE_MAP_PROJECTION
/* The JPEG2000 image data file associated with this label. */
OBJECT = COMPRESSED_FILE
  FILE_NAME = "H6831_0000_P23.JP2"
  RECORD_TYPE = UNDEFINED
  FILE_RECORDS = UNK
  ENCODING_TYPE = "JP2"
  INTERCHANGE_FORMAT = BINARY
  UNCOMPRESSED_FILE_NAME = "H6831_0000_P23.IMG"
  REQUIRED_STORAGE_BYTES = "140541576"
  ^DESCRIPTION = "JP2INFO.TXT"
END_OBJECT = COMPRESSED_FILE
END
