PDS_VERSION_ID = PDS3
/* FILE DATA ELEMENTS */
RECORD_TYPE = STREAM
/* POINTERS TO DATA OBJECTS */
^COMPRESSED_FILE = "H6834_0000_BL3.JP2"
/* IDENTIFICATION DATA ELEMENTS */
DATA_SET_ID = "MEX-M-HRSC-5-REFDR-MAPPROJECTED-V3.0"
DATA_SET_NAME = "MARS EXPRESS HRSC MAP PROJECTED REFDR V3.0"
DETECTOR_ID = MEX_HRSC_BLUE
EVENT_TYPE = "MARS-REGIONAL-MAPPING-Te-Gl-La"
INSTRUMENT_HOST_ID = MEX
INSTRUMENT_HOST_NAME = "MARS EXPRESS"
INSTRUMENT_ID = HRSC
INSTRUMENT_NAME = "HIGH RESOLUTION STEREO CAMERA"
MISSION_NAME = "MARS EXPRESS"
MISSION_PHASE_NAME = ME_Phase_17
PROCESSING_LEVEL_ID = 3
PRODUCT_CREATION_TIME = 2016-06-29T12:07:32.000Z
PRODUCT_ID = "H6834_0000_BL3.JP2"
RELEASE_ID = 0076
REVISION_ID = 0000
/* QUALITY DATA ELEMENTS */
DATA_QUALITY_ID = 1
DATA_QUALITY_DESC = "Data calculated based on original SPICE kernels"
/* TIME DATA ELEMENTS */
SPACECRAFT_CLOCK_START_COUNT = "1/0189155132.08238"
SPACECRAFT_CLOCK_STOP_COUNT = "1/0189155518.04500"
START_TIME = 2009-04-30T07:06:40.219Z
STOP_TIME = 2009-04-30T07:10:20.713Z
/* ORBITAL DATA ELEMENTS */
ASCENDING_NODE_LONGITUDE = 87.35
MAXIMUM_RESOLUTION = 94.8
FOOTPRINT_POINT_LATITUDE = (-83.4007,-83.6356,-83.8622,-84.0799, -84.2879,-84.4859,-84.6391,-84.575, -84.2478,-83.9921,-83.6411,-83.3713, -83.1869,-82.907,-82.7173,-82.5265, -82.2347,-82.0382,-81.8386,-81.5373, -81.3327,-81.1276,-80.9194,-80.7106, -80.499,-80.2865,-80.0715,-79.8556, -79.637,-79.4178,-79.1956,-78.9734, -78.7478,-78.4087,-78.1805,-77.9498, -77.6016,-77.3676,-77.1312,-76.8941, -76.6549,-76.414,-76.0502,-75.6827, -75.3113,-74.9364,-74.6849,-74.4311, -74.1758,-73.9191,-73.8383,-73.7701, -73.7273,-73.6699,-73.5893,-73.529, -73.4358,-73.3112,-73.2263,-73.475, -73.7223,-73.9678,-74.211,-74.5728, -74.9306,-75.2844,-75.6341,-75.9797, -76.2082,-76.4342,-76.6586,-76.8816, -77.1019,-77.3212,-77.5377,-77.7526, -77.9657,-78.2811,-78.4899,-78.6955, -78.9,-79.1014,-79.3017,-79.499, -79.6951,-79.888,-80.1736,-80.3616, -80.5468,-80.7292,-80.9102,-81.0878, -81.2627,-81.435,-81.769,-82.0927, -82.4026,-82.7704,-83.0482,-83.4007)
FOOTPRINT_POINT_LONGITUDE = (1.91756,3.70435,5.60859,7.63791, 9.79722,12.0977,14.0786,16.4834,18.9896 ,20.7109,22.7991,24.2258,25.1243, 26.3841,27.1762,27.9267,28.9934,29.6623 ,30.3049,31.2117,31.7881,32.3365, 32.8652,33.37,33.8568,34.3226,34.7719, 35.2026,35.6188,36.0178,36.404,36.7743, 37.1333,37.6469,37.9744,38.292,38.7478, 39.0388,39.3213,39.5941,39.8589,40.1154 ,40.4852,40.8386,41.1764,41.4993, 41.7068,41.9092,42.1056,42.2962,40.9965 ,39.6772,38.9264,37.9915,36.7766, 35.9394,34.7362,33.2616,32.3141,32.0568 ,31.7923,31.52,31.2409,30.8059,30.3515, 29.8811,29.3867,28.8656,28.5054,28.1369 ,27.7572,27.3679,26.9638,26.5467, 26.1193,25.6707,25.2187,24.4984,24.003, 23.4966,22.9609,22.414,21.8472,21.2664, 20.6624,20.0408,19.0595,18.389,17.685, 16.9533,16.2005,15.4305,14.6018,13.7776 ,11.9611,10.0344,7.97165,5.16411, 2.73833,1.91756)
ORBIT_NUMBER = 6834
ORBITAL_ECCENTRICITY = 0.576
ORBITAL_INCLINATION = 86.76
ORBITAL_SEMIMAJOR_AXIS = 8703.33
PERIAPSIS_ALTITUDE = 311.25
PERIAPSIS_ARGUMENT_ANGLE = 238.68
PERIAPSIS_TIME = 2009-04-30T06:57:07.000Z
SPACECRAFT_ORIENTATION = (0.0,-1.0,0.0)
^MEX_ORIENTATION_DESC = "MEX_ORIENTATION_DESC.TXT"
SPACECRAFT_POINTING_MODE = ACROSSTRACK
^MEX_POINTING_DESC = "MEX_POINTING_DESC.TXT"
RIGHT_ASCENSION = -1e+32
DECLINATION = -1e+32
OFFSET_ANGLE = 1.0
SPACECRAFT_SOLAR_DISTANCE = 2.0673e+08
TARGET_NAME = MARS
/* CAMERA DATA ELEMENTS */
DETECTOR_TEMPERATURE = 18.1666
FOCAL_PLANE_TEMPERATURE = 7.9716
INST_CMPRS_NAME = "DISCRETE COSINE TRANSFORMATION (DCT)"
INST_CMPRS_RATIO = 17.5529
INST_CMPRS_QUALITY = 0
INST_CMPRS_QUANTZ_TBL_ID = 0
INSTRUMENT_TEMPERATURE = 11.0301
LENS_TEMPERATURE = 8.1755
MACROPIXEL_SIZE = 4
MISSING_FRAMES = 0
PIXEL_SUBSAMPLING_FLAG = N
SIGNAL_CHAIN_ID = 2
/* RADIOMETRIC DATA ELEMENTS */
BANDWIDTH = 76.0
CENTER_FILTER_WAVELENGTH = 444.0
RADIANCE_OFFSET = 0.918782
RADIANCE_SCALING_FACTOR = 0.00573821
REFLECTANCE_SCALING_FACTOR = 0.000251966
MEX:REFLECTANCE_OFFSET = 0.0403438
/* IMAGE OBJECT DEFINITIONS */
OBJECT = IMAGE
  INTERCHANGE_FORMAT = BINARY
  LINES = 6824
  LINE_SAMPLES = 4095
  SAMPLE_TYPE = UNSIGNED_INTEGER
  SAMPLE_BITS = 8
  BANDS = 1
  BAND_STORAGE_TYPE = BAND_SEQUENTIAL
  MAXIMUM = 255
  MEAN = 222.172
  MINIMUM = 1
  STANDARD_DEVIATION = 74.3074
END_OBJECT = IMAGE
/* MAP OBJECT DEFINITIONS */
OBJECT = IMAGE_MAP_PROJECTION
  ^DATA_SET_MAP_PROJECTION_CATALOG= "DSMAP.CAT"
  A_AXIS_RADIUS = 3396.0
  B_AXIS_RADIUS = 3396.0
  C_AXIS_RADIUS = 3396.0
  CENTER_LATITUDE = 0.0
  CENTER_LONGITUDE = 29.0
  COORDINATE_SYSTEM_NAME = PLANETOGRAPHIC
  COORDINATE_SYSTEM_TYPE = "BODY-FIXED ROTATING"
  EASTERNMOST_LONGITUDE = 42.2962
  FIRST_STANDARD_PARALLEL = "N/A"
  LINE_FIRST_PIXEL = 1
  LINE_LAST_PIXEL = 6824
  LINE_PROJECTION_OFFSET = -43408.125
  MAP_PROJECTION_ROTATION = 0.0
  MAP_PROJECTION_TYPE = SINUSOIDAL
  MAP_RESOLUTION = 592.713803866667
  MAP_SCALE = 0.1
  MAXIMUM_LATITUDE = -73.22629999999999
  MINIMUM_LATITUDE = -84.6391
  POSITIVE_LONGITUDE_DIRECTION = EAST
  REFERENCE_LATITUDE = "N/A"
  REFERENCE_LONGITUDE = "N/A"
  SAMPLE_FIRST_PIXEL = 1
  SAMPLE_LAST_PIXEL = 4095
  SAMPLE_PROJECTION_OFFSET = 1920.625
  SECOND_STANDARD_PARALLEL = "N/A"
  WESTERNMOST_LONGITUDE = 1.91756
END_OBJECT = IMAGE_MAP_PROJECTION
/* The JPEG2000 image data file associated with this label. */
OBJECT = COMPRESSED_FILE
  FILE_NAME = "H6834_0000_BL3.JP2"
  RECORD_TYPE = UNDEFINED
  FILE_RECORDS = UNK
  ENCODING_TYPE = "JP2"
  INTERCHANGE_FORMAT = BINARY
  UNCOMPRESSED_FILE_NAME = "H6834_0000_BL3.IMG"
  REQUIRED_STORAGE_BYTES = "27968850"
  ^DESCRIPTION = "JP2INFO.TXT"
END_OBJECT = COMPRESSED_FILE
END
