PDS_VERSION_ID = PDS3
/* FILE DATA ELEMENTS */
RECORD_TYPE = STREAM
/* POINTERS TO DATA OBJECTS */
^COMPRESSED_FILE = "H6834_0000_ND3.JP2"
/* IDENTIFICATION DATA ELEMENTS */
DATA_SET_ID = "MEX-M-HRSC-5-REFDR-MAPPROJECTED-V3.0"
DATA_SET_NAME = "MARS EXPRESS HRSC MAP PROJECTED REFDR V3.0"
DETECTOR_ID = MEX_HRSC_NADIR
EVENT_TYPE = "MARS-REGIONAL-MAPPING-Te-Gl-La"
INSTRUMENT_HOST_ID = MEX
INSTRUMENT_HOST_NAME = "MARS EXPRESS"
INSTRUMENT_ID = HRSC
INSTRUMENT_NAME = "HIGH RESOLUTION STEREO CAMERA"
MISSION_NAME = "MARS EXPRESS"
MISSION_PHASE_NAME = ME_Phase_17
PROCESSING_LEVEL_ID = 3
PRODUCT_CREATION_TIME = 2016-06-29T12:07:32.000Z
PRODUCT_ID = "H6834_0000_ND3.JP2"
RELEASE_ID = 0076
REVISION_ID = 0000
/* QUALITY DATA ELEMENTS */
DATA_QUALITY_ID = 1
DATA_QUALITY_DESC = "Data calculated based on original SPICE kernels"
/* TIME DATA ELEMENTS */
SPACECRAFT_CLOCK_START_COUNT = "1/0189155132.08238"
SPACECRAFT_CLOCK_STOP_COUNT = "1/0189155518.04500"
START_TIME = 2009-04-30T07:06:29.646Z
STOP_TIME = 2009-04-30T07:10:04.670Z
/* ORBITAL DATA ELEMENTS */
ASCENDING_NODE_LONGITUDE = 87.35
MAXIMUM_RESOLUTION = 23.3
FOOTPRINT_POINT_LATITUDE = (-83.4163,-83.6643,-83.9032,-84.1321, -84.3505,-84.5579,-84.7483,-84.4236, -83.9987,-83.8236,-83.6447,-83.4631, -83.1865,-82.9982,-82.8088,-82.6153, -82.4209,-82.1242,-81.9244,-81.6199, -81.4154,-81.2075,-80.9989,-80.6815, -80.4687,-80.2525,-80.0362,-79.8164, -79.5965,-79.3734,-79.0367,-78.8102, -78.5818,-78.3522,-78.1205,-77.8878, -77.6526,-77.2973,-77.0588,-76.8177, -76.4538,-76.0862,-75.7148,-75.4655, -75.2138,-74.961,-74.7065,-74.4498, -74.192,-73.9326,-73.8365,-73.7841, -73.7389,-73.6908,-73.633,-73.5354, -73.4678,-73.38,-73.2863,-73.2196, -73.4712,-73.8457,-74.2161,-74.5823, -74.9442,-75.3023,-75.6561,-75.8896, -76.1208,-76.4644,-76.6916,-76.9165, -77.2499,-77.4706,-77.688,-77.9046, -78.1182,-78.3305,-78.5404,-78.8515, -79.158,-79.3594,-79.559,-79.756, -79.9515,-80.1431,-80.3351,-80.5223, -80.7992,-80.9808,-81.2488,-81.4224, -81.6774,-81.8432,-82.0882,-82.2461, -82.4782,-82.7743,-82.9866,-83.4163)
FOOTPRINT_POINT_LONGITUDE = (1.79623,3.648,5.62924,7.7483,10.0133, 12.437,14.928,17.6309,20.6117,21.6928, 22.7235,23.7006,25.0717,25.9321,26.7462 ,27.5289,28.27,29.3209,29.9796,30.9175, 31.5057,32.0732,32.6136,33.3855,33.8716 ,34.342,34.7908,35.2256,35.6408,36.0432 ,36.6167,36.9824,37.3351,37.6755, 38.0042,38.321,38.6283,39.0694,39.3509, 39.6246,40.0182,40.3935,40.7522,40.9819 ,41.2052,41.4216,41.6318,41.8365, 42.0351,42.2279,40.8787,39.901,39.1214, 38.3441,37.4718,36.1196,35.2538,34.2016 ,33.1524,32.4416,32.1817,31.7779, 31.3567,30.9162,30.4568,29.9799,29.4794 ,29.1285,28.7702,28.2131,27.827,27.432, 26.8122,26.3858,25.9398,25.4832,25.0074 ,24.5186,24.0148,23.2273,22.3961, 21.8214,21.2262,20.6131,19.9766,19.3148 ,18.6388,17.9363,16.8187,16.0561, 14.8451,13.9956,12.6464,11.7114,10.2487 ,9.22676,7.61534,5.33611,3.51891, 1.79623)
ORBIT_NUMBER = 6834
ORBITAL_ECCENTRICITY = 0.576
ORBITAL_INCLINATION = 86.76
ORBITAL_SEMIMAJOR_AXIS = 8703.33
PERIAPSIS_ALTITUDE = 311.25
PERIAPSIS_ARGUMENT_ANGLE = 238.68
PERIAPSIS_TIME = 2009-04-30T06:57:07.000Z
SPACECRAFT_ORIENTATION = (0.0,-1.0,0.0)
^MEX_ORIENTATION_DESC = "MEX_ORIENTATION_DESC.TXT"
SPACECRAFT_POINTING_MODE = ACROSSTRACK
^MEX_POINTING_DESC = "MEX_POINTING_DESC.TXT"
RIGHT_ASCENSION = -1e+32
DECLINATION = -1e+32
OFFSET_ANGLE = 1.0
SPACECRAFT_SOLAR_DISTANCE = 2.0673e+08
TARGET_NAME = MARS
/* CAMERA DATA ELEMENTS */
DETECTOR_TEMPERATURE = 18.1666
FOCAL_PLANE_TEMPERATURE = 7.9716
INST_CMPRS_NAME = "DISCRETE COSINE TRANSFORMATION (DCT)"
INST_CMPRS_RATIO = 6.54763
INST_CMPRS_QUALITY = 0
INST_CMPRS_QUANTZ_TBL_ID = 0
INSTRUMENT_TEMPERATURE = 11.0301
LENS_TEMPERATURE = 8.1755
MACROPIXEL_SIZE = 1
MISSING_FRAMES = 0
PIXEL_SUBSAMPLING_FLAG = N
SIGNAL_CHAIN_ID = 0
/* RADIOMETRIC DATA ELEMENTS */
BANDWIDTH = 177.0
CENTER_FILTER_WAVELENGTH = 677.5
RADIANCE_OFFSET = 6.16784
RADIANCE_SCALING_FACTOR = 0.0505925
REFLECTANCE_SCALING_FACTOR = 0.00114863
MEX:REFLECTANCE_OFFSET = 0.140032
/* IMAGE OBJECT DEFINITIONS */
OBJECT = IMAGE
  INTERCHANGE_FORMAT = BINARY
  LINES = 27294
  LINE_SAMPLES = 16378
  SAMPLE_TYPE = UNSIGNED_INTEGER
  SAMPLE_BITS = 8
  BANDS = 1
  BAND_STORAGE_TYPE = BAND_SEQUENTIAL
  MAXIMUM = 255
  MEAN = 153.822
  MINIMUM = 1
  STANDARD_DEVIATION = 78.4483
END_OBJECT = IMAGE
/* MAP OBJECT DEFINITIONS */
OBJECT = IMAGE_MAP_PROJECTION
  ^DATA_SET_MAP_PROJECTION_CATALOG= "DSMAP.CAT"
  A_AXIS_RADIUS = 3396.0
  B_AXIS_RADIUS = 3396.0
  C_AXIS_RADIUS = 3396.0
  CENTER_LATITUDE = 0.0
  CENTER_LONGITUDE = 29.0
  COORDINATE_SYSTEM_NAME = PLANETOGRAPHIC
  COORDINATE_SYSTEM_TYPE = "BODY-FIXED ROTATING"
  EASTERNMOST_LONGITUDE = 42.2279
  FIRST_STANDARD_PARALLEL = "N/A"
  LINE_FIRST_PIXEL = 1
  LINE_LAST_PIXEL = 27294
  LINE_PROJECTION_OFFSET = -173631.0
  MAP_PROJECTION_ROTATION = 0.0
  MAP_PROJECTION_TYPE = SINUSOIDAL
  MAP_RESOLUTION = 2370.85521546667
  MAP_SCALE = 0.025
  MAXIMUM_LATITUDE = -73.2196
  MINIMUM_LATITUDE = -84.7483
  POSITIVE_LONGITUDE_DIRECTION = EAST
  REFERENCE_LATITUDE = "N/A"
  REFERENCE_LONGITUDE = "N/A"
  SAMPLE_FIRST_PIXEL = 1
  SAMPLE_LAST_PIXEL = 16378
  SAMPLE_PROJECTION_OFFSET = 7684.0
  SECOND_STANDARD_PARALLEL = "N/A"
  WESTERNMOST_LONGITUDE = 1.79623
END_OBJECT = IMAGE_MAP_PROJECTION
/* The JPEG2000 image data file associated with this label. */
OBJECT = COMPRESSED_FILE
  FILE_NAME = "H6834_0000_ND3.JP2"
  RECORD_TYPE = UNDEFINED
  FILE_RECORDS = UNK
  ENCODING_TYPE = "JP2"
  INTERCHANGE_FORMAT = BINARY
  UNCOMPRESSED_FILE_NAME = "H6834_0000_ND3.IMG"
  REQUIRED_STORAGE_BYTES = "447070266"
  ^DESCRIPTION = "JP2INFO.TXT"
END_OBJECT = COMPRESSED_FILE
END
