PDS_VERSION_ID = PDS3
/* FILE DATA ELEMENTS */
RECORD_TYPE = STREAM
/* POINTERS TO DATA OBJECTS */
^COMPRESSED_FILE = "H6834_0000_P23.JP2"
/* IDENTIFICATION DATA ELEMENTS */
DATA_SET_ID = "MEX-M-HRSC-5-REFDR-MAPPROJECTED-V3.0"
DATA_SET_NAME = "MARS EXPRESS HRSC MAP PROJECTED REFDR V3.0"
DETECTOR_ID = MEX_HRSC_P2
EVENT_TYPE = "MARS-REGIONAL-MAPPING-Te-Gl-La"
INSTRUMENT_HOST_ID = MEX
INSTRUMENT_HOST_NAME = "MARS EXPRESS"
INSTRUMENT_ID = HRSC
INSTRUMENT_NAME = "HIGH RESOLUTION STEREO CAMERA"
MISSION_NAME = "MARS EXPRESS"
MISSION_PHASE_NAME = ME_Phase_17
PROCESSING_LEVEL_ID = 3
PRODUCT_CREATION_TIME = 2016-06-29T12:07:32.000Z
PRODUCT_ID = "H6834_0000_P23.JP2"
RELEASE_ID = 0076
REVISION_ID = 0000
/* QUALITY DATA ELEMENTS */
DATA_QUALITY_ID = 1
DATA_QUALITY_DESC = "Data calculated based on original SPICE kernels"
/* TIME DATA ELEMENTS */
SPACECRAFT_CLOCK_START_COUNT = "1/0189155132.08238"
SPACECRAFT_CLOCK_STOP_COUNT = "1/0189155518.04500"
START_TIME = 2009-04-30T07:07:12.994Z
STOP_TIME = 2009-04-30T07:11:13.591Z
/* ORBITAL DATA ELEMENTS */
ASCENDING_NODE_LONGITUDE = 87.35
MAXIMUM_RESOLUTION = 51.5
FOOTPRINT_POINT_LATITUDE = (-83.407,-83.6571,-83.8968,-84.1254, -84.342,-84.546,-84.5023,-84.1668, -83.9032,-83.5404,-83.2623,-83.0731, -82.8824,-82.6875,-82.4935,-82.2964, -82.0974,-81.8945,-81.5889,-81.3825, -81.0685,-80.7512,-80.4302,-80.2139, -79.9953,-79.6648,-79.3298,-79.1062, -78.8788,-78.6496,-78.3056,-77.9561, -77.7227,-77.4864,-77.2491,-76.8884, -76.6477,-76.4028,-76.1585,-75.9133, -75.6654,-75.4155,-75.1639,-74.9121, -74.6619,-74.4135,-74.1638,-73.9152, -73.8203,-73.7893,-73.7492,-73.6719, -73.6175,-73.5304,-73.4725,-73.4115, -73.3475,-73.2796,-73.3435,-73.5827, -73.8227,-74.0632,-74.425,-74.6664, -74.9058,-75.1429,-75.4956,-75.8457, -76.0763,-76.419,-76.6444,-76.8673, -77.201,-77.4212,-77.6382,-77.8544, -78.0676,-78.2798,-78.4896,-78.6965, -79.0044,-79.2074,-79.4068,-79.7025, -79.9937,-80.1851,-80.4664,-80.6518, -80.8332,-81.102,-81.279,-81.5371, -81.7061,-81.8717,-82.0345,-82.1934, -82.5765,-82.8659,-83.1395,-83.407)
FOOTPRINT_POINT_LONGITUDE = (2.45664,4.52033,6.72584,9.08299,11.599 ,14.2878,18.0969,20.5181,22.1873, 24.2179,25.601,26.4694,27.2902,28.0786, 28.8193,29.529,30.2049,30.8556,31.7716, 32.3499,33.1734,33.9442,34.6683,35.1273 ,35.5695,36.2002,36.7964,37.1741, 37.5403,37.893,38.3975,38.8775,39.1835, 39.48,39.7662,40.1795,40.4433,40.7002, 40.9484,41.1887,41.4221,41.649,41.8692, 42.0818,42.2865,42.4838,42.674,42.8574, 41.3846,40.6334,39.7779,38.2853,37.3272 ,35.9488,35.1045,34.2619,33.4212, 32.5836,31.7955,31.544,31.2825,31.0116, 30.5846,30.2866,29.9803,29.6674,29.1792 ,28.6604,28.3033,27.7474,27.3671, 26.9828,26.3574,25.9217,25.4835,25.0235 ,24.5555,24.0624,23.5619,23.0451, 22.2267,21.6589,21.0796,20.169,19.2023, 18.5319,17.4938,16.7574,16.0213,14.8292 ,13.9807,12.6746,11.7528,10.7976, 9.80546,8.78373,6.04842,3.68572,1.14429 ,2.45664)
ORBIT_NUMBER = 6834
ORBITAL_ECCENTRICITY = 0.576
ORBITAL_INCLINATION = 86.76
ORBITAL_SEMIMAJOR_AXIS = 8703.33
PERIAPSIS_ALTITUDE = 311.25
PERIAPSIS_ARGUMENT_ANGLE = 238.68
PERIAPSIS_TIME = 2009-04-30T06:57:07.000Z
SPACECRAFT_ORIENTATION = (0.0,-1.0,0.0)
^MEX_ORIENTATION_DESC = "MEX_ORIENTATION_DESC.TXT"
SPACECRAFT_POINTING_MODE = ACROSSTRACK
^MEX_POINTING_DESC = "MEX_POINTING_DESC.TXT"
RIGHT_ASCENSION = -1e+32
DECLINATION = -1e+32
OFFSET_ANGLE = 1.0
SPACECRAFT_SOLAR_DISTANCE = 2.0673e+08
TARGET_NAME = MARS
/* CAMERA DATA ELEMENTS */
DETECTOR_TEMPERATURE = 18.3705
FOCAL_PLANE_TEMPERATURE = 7.9716
INST_CMPRS_NAME = "DISCRETE COSINE TRANSFORMATION (DCT)"
INST_CMPRS_RATIO = 13.4047
INST_CMPRS_QUALITY = 0
INST_CMPRS_QUANTZ_TBL_ID = 0
INSTRUMENT_TEMPERATURE = 11.0301
LENS_TEMPERATURE = 8.1755
MACROPIXEL_SIZE = 2
MISSING_FRAMES = 0
PIXEL_SUBSAMPLING_FLAG = N
SIGNAL_CHAIN_ID = 3
/* RADIOMETRIC DATA ELEMENTS */
BANDWIDTH = 177.0
CENTER_FILTER_WAVELENGTH = 676.5
RADIANCE_OFFSET = 6.36496
RADIANCE_SCALING_FACTOR = 0.0344008
REFLECTANCE_SCALING_FACTOR = 0.000779534
MEX:REFLECTANCE_OFFSET = 0.144232
/* IMAGE OBJECT DEFINITIONS */
OBJECT = IMAGE
  INTERCHANGE_FORMAT = BINARY
  LINES = 13647
  LINE_SAMPLES = 8189
  SAMPLE_TYPE = UNSIGNED_INTEGER
  SAMPLE_BITS = 8
  BANDS = 1
  BAND_STORAGE_TYPE = BAND_SEQUENTIAL
  MAXIMUM = 255
  MEAN = 206.664
  MINIMUM = 1
  STANDARD_DEVIATION = 82.9249
END_OBJECT = IMAGE
/* MAP OBJECT DEFINITIONS */
OBJECT = IMAGE_MAP_PROJECTION
  ^DATA_SET_MAP_PROJECTION_CATALOG= "DSMAP.CAT"
  A_AXIS_RADIUS = 3396.0
  B_AXIS_RADIUS = 3396.0
  C_AXIS_RADIUS = 3396.0
  CENTER_LATITUDE = 0.0
  CENTER_LONGITUDE = 29.0
  COORDINATE_SYSTEM_NAME = PLANETOGRAPHIC
  COORDINATE_SYSTEM_TYPE = "BODY-FIXED ROTATING"
  EASTERNMOST_LONGITUDE = 42.8574
  FIRST_STANDARD_PARALLEL = "N/A"
  LINE_FIRST_PIXEL = 1
  LINE_LAST_PIXEL = 13647
  LINE_PROJECTION_OFFSET = -86815.75
  MAP_PROJECTION_ROTATION = 0.0
  MAP_PROJECTION_TYPE = SINUSOIDAL
  MAP_RESOLUTION = 1185.42760773333
  MAP_SCALE = 0.05
  MAXIMUM_LATITUDE = -73.2796
  MINIMUM_LATITUDE = -84.54600000000001
  POSITIVE_LONGITUDE_DIRECTION = EAST
  REFERENCE_LATITUDE = "N/A"
  REFERENCE_LONGITUDE = "N/A"
  SAMPLE_FIRST_PIXEL = 1
  SAMPLE_LAST_PIXEL = 8189
  SAMPLE_PROJECTION_OFFSET = 3841.75
  SECOND_STANDARD_PARALLEL = "N/A"
  WESTERNMOST_LONGITUDE = 1.14429
END_OBJECT = IMAGE_MAP_PROJECTION
/* The JPEG2000 image data file associated with this label. */
OBJECT = COMPRESSED_FILE
  FILE_NAME = "H6834_0000_P23.JP2"
  RECORD_TYPE = UNDEFINED
  FILE_RECORDS = UNK
  ENCODING_TYPE = "JP2"
  INTERCHANGE_FORMAT = BINARY
  UNCOMPRESSED_FILE_NAME = "H6834_0000_P23.IMG"
  REQUIRED_STORAGE_BYTES = "111788039"
  ^DESCRIPTION = "JP2INFO.TXT"
END_OBJECT = COMPRESSED_FILE
END
