PDS_VERSION_ID = PDS3
/* FILE DATA ELEMENTS */
RECORD_TYPE = STREAM
/* POINTERS TO DATA OBJECTS */
^COMPRESSED_FILE = "H6835_0000_BL3.JP2"
/* IDENTIFICATION DATA ELEMENTS */
DATA_SET_ID = "MEX-M-HRSC-5-REFDR-MAPPROJECTED-V3.0"
DATA_SET_NAME = "MARS EXPRESS HRSC MAP PROJECTED REFDR V3.0"
DETECTOR_ID = MEX_HRSC_BLUE
EVENT_TYPE = "MARS-REGIONAL-MAPPING-Im-Fl-Gl"
INSTRUMENT_HOST_ID = MEX
INSTRUMENT_HOST_NAME = "MARS EXPRESS"
INSTRUMENT_ID = HRSC
INSTRUMENT_NAME = "HIGH RESOLUTION STEREO CAMERA"
MISSION_NAME = "MARS EXPRESS"
MISSION_PHASE_NAME = ME_Phase_17
PROCESSING_LEVEL_ID = 3
PRODUCT_CREATION_TIME = 2016-06-29T12:07:32.000Z
PRODUCT_ID = "H6835_0000_BL3.JP2"
RELEASE_ID = 0076
REVISION_ID = 0000
/* QUALITY DATA ELEMENTS */
DATA_QUALITY_ID = 1
DATA_QUALITY_DESC = "Data calculated based on original SPICE kernels"
/* TIME DATA ELEMENTS */
SPACECRAFT_CLOCK_START_COUNT = "1/0189180288.08251"
SPACECRAFT_CLOCK_STOP_COUNT = "1/0189181032.43521"
START_TIME = 2009-04-30T14:07:01.015Z
STOP_TIME = 2009-04-30T14:12:17.873Z
/* ORBITAL DATA ELEMENTS */
ASCENDING_NODE_LONGITUDE = 87.33
MAXIMUM_RESOLUTION = 83.4
FOOTPRINT_POINT_LATITUDE = (-65.6668,-65.7077,-65.7504,-65.7853, -65.8395,-65.8665,-65.8907,-65.912, -65.9304,-65.9557,-65.987,-65.5642, -65.2839,-65.0045,-64.7265,-64.4495, -64.1738,-63.8982,-63.6242,-63.3516, -63.0798,-62.8092,-62.5394,-62.2702, -62.002,-61.7353,-61.4694,-61.2049, -60.941,-60.6779,-60.4166,-60.1563, -59.8961,-59.6384,-59.252,-58.9923, -58.7362,-58.2311,-57.7301,-57.4768, -56.984,-56.6143,-56.1234,-55.6342, -55.1455,-54.6742,-54.1995,-53.7274, -53.2596,-53.1083,-53.1148,-53.1162, -53.1142,-53.1094,-53.0982,-53.0841, -53.065,-53.0415,-53.0203,-52.987, -52.9561,-53.3003,-53.7625,-54.1101, -54.5771,-55.1646,-55.637,-56.1161, -56.5992,-56.9649,-57.3331,-57.8257, -58.3226,-58.8242,-59.0764,-59.3294, -59.5833,-59.8385,-60.0946,-60.3515, -60.6099,-60.869,-61.1291,-61.3903, -61.6522,-61.9155,-62.1798,-62.4449, -62.7111,-62.9784,-63.2468,-63.5162, -63.7865,-64.0579,-64.3302,-64.6037, -64.8776,-65.153,-65.5691,-65.6668)
FOOTPRINT_POINT_LONGITUDE = (299.868,300.535,301.288,301.959, 303.136,303.811,304.486,305.163,305.842 ,307.035,307.822,307.906,307.96,308.012 ,308.064,308.115,308.164,308.209, 308.255,308.301,308.344,308.387,308.428 ,308.466,308.503,308.541,308.577, 308.613,308.647,308.68,308.714,308.747, 308.776,308.81,308.853,308.87,308.895, 308.956,309.014,309.029,309.091,309.128 ,309.171,309.206,309.23,309.292,309.331 ,309.366,309.4,308.57,307.81,307.305, 306.548,305.878,304.958,304.289,303.452 ,302.699,302.114,301.366,300.76,300.742 ,300.715,300.698,300.673,300.642,300.62 ,300.585,300.546,300.511,300.473, 300.425,300.371,300.309,300.277,300.244 ,300.211,300.175,300.137,300.099, 300.058,300.017,299.973,299.928,299.883 ,299.834,299.783,299.732,299.678, 299.622,299.563,299.502,299.44,299.375, 299.308,299.237,299.168,299.093,298.969 ,299.868)
ORBIT_NUMBER = 6835
ORBITAL_ECCENTRICITY = 0.576
ORBITAL_INCLINATION = 86.77
ORBITAL_SEMIMAJOR_AXIS = 8704.76
PERIAPSIS_ALTITUDE = 311.65
PERIAPSIS_ARGUMENT_ANGLE = 238.52
PERIAPSIS_TIME = 2009-04-30T13:50:53.000Z
SPACECRAFT_ORIENTATION = (0.0,-1.0,0.0)
^MEX_ORIENTATION_DESC = "MEX_ORIENTATION_DESC.TXT"
SPACECRAFT_POINTING_MODE = NADIR
^MEX_POINTING_DESC = "MEX_POINTING_DESC.TXT"
RIGHT_ASCENSION = -1e+32
DECLINATION = -1e+32
OFFSET_ANGLE = -1e+32
SPACECRAFT_SOLAR_DISTANCE = 2.06736e+08
TARGET_NAME = MARS
/* CAMERA DATA ELEMENTS */
DETECTOR_TEMPERATURE = 18.1666
FOCAL_PLANE_TEMPERATURE = 9.3989
INST_CMPRS_NAME = "DISCRETE COSINE TRANSFORMATION (DCT)"
INST_CMPRS_RATIO = 6.54456
INST_CMPRS_QUALITY = 0
INST_CMPRS_QUANTZ_TBL_ID = 0
INSTRUMENT_TEMPERATURE = 11.0301
LENS_TEMPERATURE = 8.9911
MACROPIXEL_SIZE = 2
MISSING_FRAMES = 0
PIXEL_SUBSAMPLING_FLAG = N
SIGNAL_CHAIN_ID = 2
/* RADIOMETRIC DATA ELEMENTS */
BANDWIDTH = 76.0
CENTER_FILTER_WAVELENGTH = 444.0
RADIANCE_OFFSET = 0.936848
RADIANCE_SCALING_FACTOR = 0.00146424
REFLECTANCE_SCALING_FACTOR = 6.42984e-05
MEX:REFLECTANCE_OFFSET = 0.0411393
/* IMAGE OBJECT DEFINITIONS */
OBJECT = IMAGE
  INTERCHANGE_FORMAT = BINARY
  LINES = 7734
  LINE_SAMPLES = 2974
  SAMPLE_TYPE = UNSIGNED_INTEGER
  SAMPLE_BITS = 8
  BANDS = 1
  BAND_STORAGE_TYPE = BAND_SEQUENTIAL
  MAXIMUM = 255
  MEAN = 135.907
  MINIMUM = 1
  STANDARD_DEVIATION = 24.6839
END_OBJECT = IMAGE
/* MAP OBJECT DEFINITIONS */
OBJECT = IMAGE_MAP_PROJECTION
  ^DATA_SET_MAP_PROJECTION_CATALOG= "DSMAP.CAT"
  A_AXIS_RADIUS = 3396.0
  B_AXIS_RADIUS = 3396.0
  C_AXIS_RADIUS = 3396.0
  CENTER_LATITUDE = 0.0
  CENTER_LONGITUDE = 305.0
  COORDINATE_SYSTEM_NAME = PLANETOGRAPHIC
  COORDINATE_SYSTEM_TYPE = "BODY-FIXED ROTATING"
  EASTERNMOST_LONGITUDE = 309.4
  FIRST_STANDARD_PARALLEL = "N/A"
  LINE_FIRST_PIXEL = 1
  LINE_LAST_PIXEL = 7734
  LINE_PROJECTION_OFFSET = -31384.75
  MAP_PROJECTION_ROTATION = 0.0
  MAP_PROJECTION_TYPE = SINUSOIDAL
  MAP_RESOLUTION = 592.713803866667
  MAP_SCALE = 0.1
  MAXIMUM_LATITUDE = -52.9561
  MINIMUM_LATITUDE = -65.98699999999999
  POSITIVE_LONGITUDE_DIRECTION = EAST
  REFERENCE_LATITUDE = "N/A"
  REFERENCE_LONGITUDE = "N/A"
  SAMPLE_FIRST_PIXEL = 1
  SAMPLE_LAST_PIXEL = 2974
  SAMPLE_PROJECTION_OFFSET = 1471.75
  SECOND_STANDARD_PARALLEL = "N/A"
  WESTERNMOST_LONGITUDE = 298.969
END_OBJECT = IMAGE_MAP_PROJECTION
/* The JPEG2000 image data file associated with this label. */
OBJECT = COMPRESSED_FILE
  FILE_NAME = "H6835_0000_BL3.JP2"
  RECORD_TYPE = UNDEFINED
  FILE_RECORDS = UNK
  ENCODING_TYPE = "JP2"
  INTERCHANGE_FORMAT = BINARY
  UNCOMPRESSED_FILE_NAME = "H6835_0000_BL3.IMG"
  REQUIRED_STORAGE_BYTES = "23024708"
  ^DESCRIPTION = "JP2INFO.TXT"
END_OBJECT = COMPRESSED_FILE
END
