PDS_VERSION_ID = PDS3
/* FILE DATA ELEMENTS */
RECORD_TYPE = STREAM
/* POINTERS TO DATA OBJECTS */
^COMPRESSED_FILE = "H6836_0000_BL3.JP2"
/* IDENTIFICATION DATA ELEMENTS */
DATA_SET_ID = "MEX-M-HRSC-5-REFDR-MAPPROJECTED-V3.0"
DATA_SET_NAME = "MARS EXPRESS HRSC MAP PROJECTED REFDR V3.0"
DETECTOR_ID = MEX_HRSC_BLUE
EVENT_TYPE = "MARS-REGIONAL-MAPPING-Im-Gl-La"
INSTRUMENT_HOST_ID = MEX
INSTRUMENT_HOST_NAME = "MARS EXPRESS"
INSTRUMENT_ID = HRSC
INSTRUMENT_NAME = "HIGH RESOLUTION STEREO CAMERA"
MISSION_NAME = "MARS EXPRESS"
MISSION_PHASE_NAME = ME_Phase_17
PROCESSING_LEVEL_ID = 3
PRODUCT_CREATION_TIME = 2016-06-29T12:07:32.000Z
PRODUCT_ID = "H6836_0000_BL3.JP2"
RELEASE_ID = 0076
REVISION_ID = 0000
/* QUALITY DATA ELEMENTS */
DATA_QUALITY_ID = 1
DATA_QUALITY_DESC = "Data calculated based on original SPICE kernels"
/* TIME DATA ELEMENTS */
SPACECRAFT_CLOCK_START_COUNT = "1/0189204811.08367"
SPACECRAFT_CLOCK_STOP_COUNT = "1/0189205282.58131"
START_TIME = 2009-04-30T20:54:43.650Z
STOP_TIME = 2009-04-30T20:59:21.850Z
/* ORBITAL DATA ELEMENTS */
ASCENDING_NODE_LONGITUDE = 87.31
MAXIMUM_RESOLUTION = 100.6
FOOTPRINT_POINT_LATITUDE = (-82.5978,-82.7828,-82.9574,-83.1211, -83.2732,-83.5107,-83.1772,-82.7229, -82.2584,-81.7842,-81.3006,-80.9324, -80.6844,-80.4336,-80.054,-79.7989, -79.5406,-79.2812,-79.0192,-78.7551, -78.4895,-78.2213,-77.9512,-77.6795, -77.4053,-77.1289,-76.851,-76.5713, -76.2886,-76.0043,-75.7183,-75.4306, -75.1398,-74.8473,-74.5534,-74.2563, -73.8051,-73.5022,-73.1979,-72.8912, -72.5827,-72.2715,-71.9585,-71.642, -71.3242,-71.0079,-70.6925,-70.3783, -70.0652,-69.7529,-69.686,-69.6458, -69.5826,-69.5082,-69.4113,-69.3391, -69.2394,-69.545,-69.8515,-70.1592, -70.4679,-70.9325,-71.2421,-71.5495, -71.8544,-72.1568,-72.457,-72.7551, -73.0505,-73.3429,-73.6335,-73.9216, -74.2078,-74.4917,-74.7733,-75.0519, -75.3285,-75.6032,-75.8757,-76.1451, -76.5455,-76.8093,-77.0711,-77.3304, -77.5869,-77.8416,-78.0936,-78.3426, -78.59,-78.8341,-79.1956,-79.5514, -79.7856,-80.0162,-80.4699,-81.0206, -81.4466,-81.8591,-82.2573,-82.5978)
FOOTPRINT_POINT_LONGITUDE = (174.331,176.395,178.555,180.81,183.16, 187.132,188.468,190.071,191.499,192.776 ,193.925,194.711,195.204,195.675, 196.339,196.756,197.156,197.538,197.904 ,198.255,198.591,198.914,199.225, 199.522,199.809,200.084,200.35,200.605, 200.851,201.089,201.319,201.54,201.754, 201.961,202.163,202.355,202.628,202.804 ,202.977,203.144,203.306,203.463, 203.616,203.761,203.904,204.043,204.176 ,204.304,204.426,204.544,202.983, 201.936,200.545,199.158,197.604,196.572 ,195.26,195.093,194.921,194.74,194.551, 194.255,194.048,193.831,193.61,193.382, 193.146,192.901,192.649,192.397,192.129 ,191.853,191.565,191.267,190.96,190.641 ,190.314,189.971,189.617,189.252, 188.678,188.278,187.863,187.43,186.983, 186.516,186.033,185.534,185.014,184.473 ,183.619,182.71,182.073,181.409,179.993 ,178.045,176.324,174.445,172.384, 174.331)
ORBIT_NUMBER = 6836
ORBITAL_ECCENTRICITY = 0.576
ORBITAL_INCLINATION = 86.77
ORBITAL_SEMIMAJOR_AXIS = 8705.13
PERIAPSIS_ALTITUDE = 311.04
PERIAPSIS_ARGUMENT_ANGLE = 238.34
PERIAPSIS_TIME = 2009-04-30T20:44:33.000Z
SPACECRAFT_ORIENTATION = (0.0,-1.0,0.0)
^MEX_ORIENTATION_DESC = "MEX_ORIENTATION_DESC.TXT"
SPACECRAFT_POINTING_MODE = ACROSSTRACK
^MEX_POINTING_DESC = "MEX_POINTING_DESC.TXT"
RIGHT_ASCENSION = -1e+32
DECLINATION = -1e+32
OFFSET_ANGLE = 0.5
SPACECRAFT_SOLAR_DISTANCE = 2.06742e+08
TARGET_NAME = MARS
/* CAMERA DATA ELEMENTS */
DETECTOR_TEMPERATURE = 18.1666
FOCAL_PLANE_TEMPERATURE = 8.7872
INST_CMPRS_NAME = "DISCRETE COSINE TRANSFORMATION (DCT)"
INST_CMPRS_RATIO = 12.8874
INST_CMPRS_QUALITY = 0
INST_CMPRS_QUANTZ_TBL_ID = 0
INSTRUMENT_TEMPERATURE = 11.234
LENS_TEMPERATURE = 9.195
MACROPIXEL_SIZE = 4
MISSING_FRAMES = 0
PIXEL_SUBSAMPLING_FLAG = N
SIGNAL_CHAIN_ID = 2
/* RADIOMETRIC DATA ELEMENTS */
BANDWIDTH = 76.0
CENTER_FILTER_WAVELENGTH = 444.0
RADIANCE_OFFSET = 0.811148
RADIANCE_SCALING_FACTOR = 0.00445837
REFLECTANCE_SCALING_FACTOR = 0.00019579
MEX:REFLECTANCE_OFFSET = 0.0356216
/* IMAGE OBJECT DEFINITIONS */
OBJECT = IMAGE
  INTERCHANGE_FORMAT = BINARY
  LINES = 8457
  LINE_SAMPLES = 3850
  SAMPLE_TYPE = UNSIGNED_INTEGER
  SAMPLE_BITS = 8
  BANDS = 1
  BAND_STORAGE_TYPE = BAND_SEQUENTIAL
  MAXIMUM = 255
  MEAN = 41.8505
  MINIMUM = 1
  STANDARD_DEVIATION = 24.2463
END_OBJECT = IMAGE
/* MAP OBJECT DEFINITIONS */
OBJECT = IMAGE_MAP_PROJECTION
  ^DATA_SET_MAP_PROJECTION_CATALOG= "DSMAP.CAT"
  A_AXIS_RADIUS = 3396.0
  B_AXIS_RADIUS = 3396.0
  C_AXIS_RADIUS = 3396.0
  CENTER_LATITUDE = 0.0
  CENTER_LONGITUDE = 194.0
  COORDINATE_SYSTEM_NAME = PLANETOGRAPHIC
  COORDINATE_SYSTEM_TYPE = "BODY-FIXED ROTATING"
  EASTERNMOST_LONGITUDE = 204.544
  FIRST_STANDARD_PARALLEL = "N/A"
  LINE_FIRST_PIXEL = 1
  LINE_LAST_PIXEL = 8457
  LINE_PROJECTION_OFFSET = -41046.625
  MAP_PROJECTION_ROTATION = 0.0
  MAP_PROJECTION_TYPE = SINUSOIDAL
  MAP_RESOLUTION = 592.713803866667
  MAP_SCALE = 0.1
  MAXIMUM_LATITUDE = -69.2394
  MINIMUM_LATITUDE = -83.5107
  POSITIVE_LONGITUDE_DIRECTION = EAST
  REFERENCE_LATITUDE = "N/A"
  REFERENCE_LONGITUDE = "N/A"
  SAMPLE_FIRST_PIXEL = 1
  SAMPLE_LAST_PIXEL = 3850
  SAMPLE_PROJECTION_OFFSET = 1711.125
  SECOND_STANDARD_PARALLEL = "N/A"
  WESTERNMOST_LONGITUDE = 172.384
END_OBJECT = IMAGE_MAP_PROJECTION
/* The JPEG2000 image data file associated with this label. */
OBJECT = COMPRESSED_FILE
  FILE_NAME = "H6836_0000_BL3.JP2"
  RECORD_TYPE = UNDEFINED
  FILE_RECORDS = UNK
  ENCODING_TYPE = "JP2"
  INTERCHANGE_FORMAT = BINARY
  UNCOMPRESSED_FILE_NAME = "H6836_0000_BL3.IMG"
  REQUIRED_STORAGE_BYTES = "32582550"
  ^DESCRIPTION = "JP2INFO.TXT"
END_OBJECT = COMPRESSED_FILE
END
