PDS_VERSION_ID = PDS3
/* FILE DATA ELEMENTS */
RECORD_TYPE = STREAM
/* POINTERS TO DATA OBJECTS */
^COMPRESSED_FILE = "H6836_0000_S13.JP2"
/* IDENTIFICATION DATA ELEMENTS */
DATA_SET_ID = "MEX-M-HRSC-5-REFDR-MAPPROJECTED-V3.0"
DATA_SET_NAME = "MARS EXPRESS HRSC MAP PROJECTED REFDR V3.0"
DETECTOR_ID = MEX_HRSC_S1
EVENT_TYPE = "MARS-REGIONAL-MAPPING-Im-Gl-La"
INSTRUMENT_HOST_ID = MEX
INSTRUMENT_HOST_NAME = "MARS EXPRESS"
INSTRUMENT_ID = HRSC
INSTRUMENT_NAME = "HIGH RESOLUTION STEREO CAMERA"
MISSION_NAME = "MARS EXPRESS"
MISSION_PHASE_NAME = ME_Phase_17
PROCESSING_LEVEL_ID = 3
PRODUCT_CREATION_TIME = 2016-06-29T12:07:32.000Z
PRODUCT_ID = "H6836_0000_S13.JP2"
RELEASE_ID = 0076
REVISION_ID = 0000
/* QUALITY DATA ELEMENTS */
DATA_QUALITY_ID = 1
DATA_QUALITY_DESC = "Data calculated based on original SPICE kernels"
/* TIME DATA ELEMENTS */
SPACECRAFT_CLOCK_START_COUNT = "1/0189204811.08367"
SPACECRAFT_CLOCK_STOP_COUNT = "1/0189205282.58131"
START_TIME = 2009-04-30T20:53:33.543Z
STOP_TIME = 2009-04-30T20:57:27.054Z
/* ORBITAL DATA ELEMENTS */
ASCENDING_NODE_LONGITUDE = 87.31
MAXIMUM_RESOLUTION = 48
FOOTPRINT_POINT_LATITUDE = (-82.638,-82.8287,-83.0101,-83.1818, -83.3431,-83.4937,-83.6332,-83.2272, -83.004,-82.7797,-82.4361,-82.2052, -81.8528,-81.6157,-81.2546,-81.012, -80.6419,-80.3941,-80.142,-79.8894, -79.5047,-79.2472,-78.9855,-78.7236, -78.458,-78.1916,-77.9216,-77.6512, -77.3773,-76.9632,-76.6847,-76.4036, -76.1221,-75.8378,-75.5487,-75.113, -74.8198,-74.374,-74.076,-73.6337, -73.3329,-73.0253,-72.7158,-72.4043, -72.09,-71.7767,-71.4601,-71.1392, -70.8163,-70.4913,-70.163,-69.8328, -69.7363,-69.6624,-69.5846,-69.497, -69.4174,-69.3581,-69.4295,-69.7516, -70.2324,-70.707,-71.0204,-71.485, -71.9446,-72.2487,-72.5501,-72.8472, -73.1435,-73.5896,-73.8799,-74.1679, -74.4517,-74.8747,-75.1523,-75.4298, -75.7031,-75.9753,-76.2444,-76.5125, -76.777,-77.1691,-77.556,-77.8095, -78.1864,-78.4363,-78.6814,-79.0473, -79.2864,-79.5242,-79.7577,-80.1043, -80.4429,-80.6666,-80.8862,-81.2113, -81.4228,-81.7354,-82.2375,-82.638)
FOOTPRINT_POINT_LONGITUDE = (172.964,174.827,176.782,178.832, 180.974,183.214,185.551,187.453,188.303 ,189.098,190.216,190.906,191.878, 192.483,193.335,193.866,194.62,195.09, 195.542,195.972,196.583,196.966,197.336 ,197.689,198.028,198.353,198.667, 198.966,199.256,199.669,199.932,200.185 ,200.427,200.661,200.892,201.219, 201.428,201.73,201.922,202.186,202.359, 202.531,202.698,202.859,203.016,203.165 ,203.309,203.452,203.59,203.723,203.853 ,203.979,202.5,201.171,199.925,198.683, 197.679,196.987,195.875,195.694,195.411 ,195.116,194.912,194.592,194.258, 194.027,193.787,193.541,193.286,192.892 ,192.616,192.331,192.036,191.575, 191.255,190.924,190.582,190.227,189.86, 189.479,189.085,188.467,187.813,187.357 ,186.641,186.137,185.618,184.796, 184.222,183.621,183.001,182.014,180.968 ,180.231,179.464,178.244,177.39,176.026 ,173.544,172.964)
ORBIT_NUMBER = 6836
ORBITAL_ECCENTRICITY = 0.576
ORBITAL_INCLINATION = 86.77
ORBITAL_SEMIMAJOR_AXIS = 8705.13
PERIAPSIS_ALTITUDE = 311.04
PERIAPSIS_ARGUMENT_ANGLE = 238.34
PERIAPSIS_TIME = 2009-04-30T20:44:33.000Z
SPACECRAFT_ORIENTATION = (0.0,-1.0,0.0)
^MEX_ORIENTATION_DESC = "MEX_ORIENTATION_DESC.TXT"
SPACECRAFT_POINTING_MODE = ACROSSTRACK
^MEX_POINTING_DESC = "MEX_POINTING_DESC.TXT"
RIGHT_ASCENSION = -1e+32
DECLINATION = -1e+32
OFFSET_ANGLE = 0.5
SPACECRAFT_SOLAR_DISTANCE = 2.06742e+08
TARGET_NAME = MARS
/* CAMERA DATA ELEMENTS */
DETECTOR_TEMPERATURE = 17.5549
FOCAL_PLANE_TEMPERATURE = 8.7872
INST_CMPRS_NAME = "DISCRETE COSINE TRANSFORMATION (DCT)"
INST_CMPRS_RATIO = 11.236
INST_CMPRS_QUALITY = 0
INST_CMPRS_QUANTZ_TBL_ID = 0
INSTRUMENT_TEMPERATURE = 11.234
LENS_TEMPERATURE = 9.195
MACROPIXEL_SIZE = 2
MISSING_FRAMES = 0
PIXEL_SUBSAMPLING_FLAG = N
SIGNAL_CHAIN_ID = 1
/* RADIOMETRIC DATA ELEMENTS */
BANDWIDTH = 180.0
CENTER_FILTER_WAVELENGTH = 677.0
RADIANCE_OFFSET = 6.53804
RADIANCE_SCALING_FACTOR = 0.0201578
REFLECTANCE_SCALING_FACTOR = 0.000449513
MEX:REFLECTANCE_OFFSET = 0.145796
/* IMAGE OBJECT DEFINITIONS */
OBJECT = IMAGE
  INTERCHANGE_FORMAT = BINARY
  LINES = 16914
  LINE_SAMPLES = 7699
  SAMPLE_TYPE = UNSIGNED_INTEGER
  SAMPLE_BITS = 8
  BANDS = 1
  BAND_STORAGE_TYPE = BAND_SEQUENTIAL
  MAXIMUM = 255
  MEAN = 100.851
  MINIMUM = 1
  STANDARD_DEVIATION = 39.856
END_OBJECT = IMAGE
/* MAP OBJECT DEFINITIONS */
OBJECT = IMAGE_MAP_PROJECTION
  ^DATA_SET_MAP_PROJECTION_CATALOG= "DSMAP.CAT"
  A_AXIS_RADIUS = 3396.0
  B_AXIS_RADIUS = 3396.0
  C_AXIS_RADIUS = 3396.0
  CENTER_LATITUDE = 0.0
  CENTER_LONGITUDE = 194.0
  COORDINATE_SYSTEM_NAME = PLANETOGRAPHIC
  COORDINATE_SYSTEM_TYPE = "BODY-FIXED ROTATING"
  EASTERNMOST_LONGITUDE = 203.979
  FIRST_STANDARD_PARALLEL = "N/A"
  LINE_FIRST_PIXEL = 1
  LINE_LAST_PIXEL = 16914
  LINE_PROJECTION_OFFSET = -82092.75
  MAP_PROJECTION_ROTATION = 0.0
  MAP_PROJECTION_TYPE = SINUSOIDAL
  MAP_RESOLUTION = 1185.42760773333
  MAP_SCALE = 0.05
  MAXIMUM_LATITUDE = -69.35809999999999
  MINIMUM_LATITUDE = -83.6332
  POSITIVE_LONGITUDE_DIRECTION = EAST
  REFERENCE_LATITUDE = "N/A"
  REFERENCE_LONGITUDE = "N/A"
  SAMPLE_FIRST_PIXEL = 1
  SAMPLE_LAST_PIXEL = 7699
  SAMPLE_PROJECTION_OFFSET = 3422.75
  SECOND_STANDARD_PARALLEL = "N/A"
  WESTERNMOST_LONGITUDE = 172.964
END_OBJECT = IMAGE_MAP_PROJECTION
/* The JPEG2000 image data file associated with this label. */
OBJECT = COMPRESSED_FILE
  FILE_NAME = "H6836_0000_S13.JP2"
  RECORD_TYPE = UNDEFINED
  FILE_RECORDS = UNK
  ENCODING_TYPE = "JP2"
  INTERCHANGE_FORMAT = BINARY
  UNCOMPRESSED_FILE_NAME = "H6836_0000_S13.IMG"
  REQUIRED_STORAGE_BYTES = "130251682"
  ^DESCRIPTION = "JP2INFO.TXT"
END_OBJECT = COMPRESSED_FILE
END
