PDS_VERSION_ID = PDS3
/* FILE DATA ELEMENTS */
RECORD_TYPE = STREAM
/* POINTERS TO DATA OBJECTS */
^COMPRESSED_FILE = "H6841_0000_P13.JP2"
/* IDENTIFICATION DATA ELEMENTS */
DATA_SET_ID = "MEX-M-HRSC-5-REFDR-MAPPROJECTED-V3.0"
DATA_SET_NAME = "MARS EXPRESS HRSC MAP PROJECTED REFDR V3.0"
DETECTOR_ID = MEX_HRSC_P1
EVENT_TYPE = "MARS-REGIONAL-MAPPING-Gl-La"
INSTRUMENT_HOST_ID = MEX
INSTRUMENT_HOST_NAME = "MARS EXPRESS"
INSTRUMENT_ID = HRSC
INSTRUMENT_NAME = "HIGH RESOLUTION STEREO CAMERA"
MISSION_NAME = "MARS EXPRESS"
MISSION_PHASE_NAME = ME_Phase_17
PROCESSING_LEVEL_ID = 3
PRODUCT_CREATION_TIME = 2016-06-29T12:07:32.000Z
PRODUCT_ID = "H6841_0000_P13.JP2"
RELEASE_ID = 0076
REVISION_ID = 0000
/* QUALITY DATA ELEMENTS */
DATA_QUALITY_ID = 1
DATA_QUALITY_DESC = "Data calculated based on original SPICE kernels"
/* TIME DATA ELEMENTS */
SPACECRAFT_CLOCK_START_COUNT = "1/0189328870.09045"
SPACECRAFT_CLOCK_STOP_COUNT = "1/0189329132.29187"
START_TIME = 2009-05-02T07:21:29.716Z
STOP_TIME = 2009-05-02T07:23:20.829Z
/* ORBITAL DATA ELEMENTS */
ASCENDING_NODE_LONGITUDE = 87.21
MAXIMUM_RESOLUTION = 43.9
FOOTPRINT_POINT_LATITUDE = (-85.6639,-85.8568,-85.9842,-86.1107, -86.2984,-86.5289,-86.6496,-86.8717, -87.0301,-87.0002,-86.8363,-86.705, -86.5671,-86.3276,-86.0741,-85.9175, -85.7002,-85.5898,-85.3666,-85.2515, -85.1356,-85.0185,-84.901,-84.7834, -84.6628,-84.5416,-84.4191,-84.2972, -84.1105,-83.9222,-83.7962,-83.669, -83.4752,-83.3455,-83.216,-83.0193, -82.887,-82.7546,-82.556,-82.4208, -82.2857,-82.1503,-81.9457,-81.8079, -81.6701,-81.5323,-81.3227,-81.1825, -81.1051,-81.0719,-81.0191,-80.9687, -80.922,-80.8584,-80.7521,-80.6786, -80.6015,-80.4935,-80.4288,-80.4334, -80.564,-80.6928,-80.8233,-80.951, -81.0787,-81.2058,-81.3307,-81.4551, -81.5791,-81.7024,-81.8233,-81.9439, -82.1236,-82.3005,-82.4172,-82.5327, -82.6475,-82.7607,-82.8722,-82.9827, -83.0931,-83.2017,-83.3081,-83.414, -83.5173,-83.6705,-83.8194,-83.917, -84.0133,-84.1553,-84.3415,-84.4309, -84.6027,-84.7255,-84.9203,-85.0652, -85.1998,-85.2943,-85.4379,-85.6639)
FOOTPRINT_POINT_LONGITUDE = (1.35653,2.53632,3.38616,4.29269, 5.76938,7.84084,9.06213,11.6112,13.724, 17.7337,21.2511,23.6703,25.9492,29.2899 ,32.253,33.8524,35.84,36.758,38.4506, 39.2514,40.013,40.7463,41.4398,42.0927, 42.733,43.3446,43.9381,44.4932,45.2984, 46.0551,46.5336,46.9993,47.6673,48.0917 ,48.496,49.0812,49.4539,49.812,50.3211, 50.6538,50.9734,51.2821,51.7277,52.0143 ,52.2905,52.5568,52.9447,53.1938, 52.3121,51.4965,50.2837,49.2208,48.302, 47.1347,45.3526,44.2285,43.1234,41.6781 ,40.8494,39.924,39.5549,39.1751,38.7891 ,38.3921,37.983,37.5623,37.1347,36.6938 ,36.2393,35.7716,35.2961,34.8053, 34.0398,33.2455,32.6974,32.1322,31.5483 ,30.9515,30.3391,29.7069,29.0522, 28.3785,27.6921,26.9817,26.2511,25.1095 ,23.9278,23.1077,22.2603,20.937,19.0773 ,18.1062,16.0803,14.4951,11.6844, 9.30228,6.79983,4.82993,1.4052,1.35653)
ORBIT_NUMBER = 6841
ORBITAL_ECCENTRICITY = 0.576
ORBITAL_INCLINATION = 86.77
ORBITAL_SEMIMAJOR_AXIS = 8704.95
PERIAPSIS_ALTITUDE = 311.1
PERIAPSIS_ARGUMENT_ANGLE = 237.49
PERIAPSIS_TIME = 2009-05-02T07:13:02.000Z
SPACECRAFT_ORIENTATION = (0.0,-1.0,0.0)
^MEX_ORIENTATION_DESC = "MEX_ORIENTATION_DESC.TXT"
SPACECRAFT_POINTING_MODE = NADIR
^MEX_POINTING_DESC = "MEX_POINTING_DESC.TXT"
RIGHT_ASCENSION = -1e+32
DECLINATION = -1e+32
OFFSET_ANGLE = -1e+32
SPACECRAFT_SOLAR_DISTANCE = 2.06773e+08
TARGET_NAME = MARS
/* CAMERA DATA ELEMENTS */
DETECTOR_TEMPERATURE = 17.5549
FOCAL_PLANE_TEMPERATURE = 8.7872
INST_CMPRS_NAME = "DISCRETE COSINE TRANSFORMATION (DCT)"
INST_CMPRS_RATIO = 14.4821
INST_CMPRS_QUALITY = 0
INST_CMPRS_QUANTZ_TBL_ID = 0
INSTRUMENT_TEMPERATURE = 11.4379
LENS_TEMPERATURE = 9.3989
MACROPIXEL_SIZE = 2
MISSING_FRAMES = 0
PIXEL_SUBSAMPLING_FLAG = N
SIGNAL_CHAIN_ID = 3
/* RADIOMETRIC DATA ELEMENTS */
BANDWIDTH = 174.0
CENTER_FILTER_WAVELENGTH = 675.0
RADIANCE_OFFSET = 4.51044
RADIANCE_SCALING_FACTOR = 0.0430519
REFLECTANCE_SCALING_FACTOR = 0.000990072
MEX:REFLECTANCE_OFFSET = 0.103727
/* IMAGE OBJECT DEFINITIONS */
OBJECT = IMAGE
  INTERCHANGE_FORMAT = BINARY
  LINES = 7975
  LINE_SAMPLES = 6589
  SAMPLE_TYPE = UNSIGNED_INTEGER
  SAMPLE_BITS = 8
  BANDS = 1
  BAND_STORAGE_TYPE = BAND_SEQUENTIAL
  MAXIMUM = 255
  MEAN = 227.477
  MINIMUM = 1
  STANDARD_DEVIATION = 57.3401
END_OBJECT = IMAGE
/* MAP OBJECT DEFINITIONS */
OBJECT = IMAGE_MAP_PROJECTION
  ^DATA_SET_MAP_PROJECTION_CATALOG= "DSMAP.CAT"
  A_AXIS_RADIUS = 3396.0
  B_AXIS_RADIUS = 3396.0
  C_AXIS_RADIUS = 3396.0
  CENTER_LATITUDE = 0.0
  CENTER_LONGITUDE = 35.0
  COORDINATE_SYSTEM_NAME = PLANETOGRAPHIC
  COORDINATE_SYSTEM_TYPE = "BODY-FIXED ROTATING"
  EASTERNMOST_LONGITUDE = 53.1938
  FIRST_STANDARD_PARALLEL = "N/A"
  LINE_FIRST_PIXEL = 1
  LINE_LAST_PIXEL = 7975
  LINE_PROJECTION_OFFSET = -95237.25
  MAP_PROJECTION_ROTATION = 0.0
  MAP_PROJECTION_TYPE = SINUSOIDAL
  MAP_RESOLUTION = 1185.42760773333
  MAP_SCALE = 0.05
  MAXIMUM_LATITUDE = -80.4288
  MINIMUM_LATITUDE = -87.0301
  POSITIVE_LONGITUDE_DIRECTION = EAST
  REFERENCE_LATITUDE = "N/A"
  REFERENCE_LONGITUDE = "N/A"
  SAMPLE_FIRST_PIXEL = 1
  SAMPLE_LAST_PIXEL = 6589
  SAMPLE_PROJECTION_OFFSET = 3200.25
  SECOND_STANDARD_PARALLEL = "N/A"
  WESTERNMOST_LONGITUDE = 1.35653
END_OBJECT = IMAGE_MAP_PROJECTION
/* The JPEG2000 image data file associated with this label. */
OBJECT = COMPRESSED_FILE
  FILE_NAME = "H6841_0000_P13.JP2"
  RECORD_TYPE = UNDEFINED
  FILE_RECORDS = UNK
  ENCODING_TYPE = "JP2"
  INTERCHANGE_FORMAT = BINARY
  UNCOMPRESSED_FILE_NAME = "H6841_0000_P13.IMG"
  REQUIRED_STORAGE_BYTES = "52580220"
  ^DESCRIPTION = "JP2INFO.TXT"
END_OBJECT = COMPRESSED_FILE
END
