PDS_VERSION_ID = PDS3
/* FILE DATA ELEMENTS */
RECORD_TYPE = STREAM
/* POINTERS TO DATA OBJECTS */
^COMPRESSED_FILE = "H6842_0000_ND3.JP2"
/* IDENTIFICATION DATA ELEMENTS */
DATA_SET_ID = "MEX-M-HRSC-5-REFDR-MAPPROJECTED-V3.0"
DATA_SET_NAME = "MARS EXPRESS HRSC MAP PROJECTED REFDR V3.0"
DETECTOR_ID = MEX_HRSC_NADIR
EVENT_TYPE = "MARS-REGIONAL-MAPPING-Gl-La"
INSTRUMENT_HOST_ID = MEX
INSTRUMENT_HOST_NAME = "MARS EXPRESS"
INSTRUMENT_ID = HRSC
INSTRUMENT_NAME = "HIGH RESOLUTION STEREO CAMERA"
MISSION_NAME = "MARS EXPRESS"
MISSION_PHASE_NAME = ME_Phase_17
PROCESSING_LEVEL_ID = 3
PRODUCT_CREATION_TIME = 2016-06-29T12:07:32.000Z
PRODUCT_ID = "H6842_0000_ND3.JP2"
RELEASE_ID = 0076
REVISION_ID = 0000
/* QUALITY DATA ELEMENTS */
DATA_QUALITY_ID = 1
DATA_QUALITY_DESC = "Data calculated based on original SPICE kernels"
/* TIME DATA ELEMENTS */
SPACECRAFT_CLOCK_START_COUNT = "1/0189353634.09057"
SPACECRAFT_CLOCK_STOP_COUNT = "1/0189353957.34413"
START_TIME = 2009-05-02T14:14:43.570Z
STOP_TIME = 2009-05-02T14:17:50.564Z
/* ORBITAL DATA ELEMENTS */
ASCENDING_NODE_LONGITUDE = 87.19
MAXIMUM_RESOLUTION = 20.5
FOOTPRINT_POINT_LATITUDE = (-85.5289,-85.8689,-86.0853,-86.3517, -86.6345,-86.8289,-87.0833,-87.2571, -87.361,-87.497,-87.5726,-87.6351, -87.6834,-87.7149,-87.7303,-87.7193, -87.6904,-87.6443,-87.582,-87.5049, -87.4128,-87.3079,-87.192,-87.0646, -86.9279,-86.7839,-86.6306,-86.3902, -86.2217,-86.0483,-85.78,-85.5956, -85.4086,-85.2164,-84.9244,-84.7243, -84.4216,-84.215,-84.0074,-83.6907, -83.4779,-83.2616,-83.0445,-82.8247, -82.6032,-82.267,-82.0415,-81.8126, -81.4677,-81.2353,-81.1596,-81.1029, -80.9908,-80.8644,-80.7151,-80.6009, -80.5187,-80.7343,-80.9467,-81.1575, -81.3646,-81.6713,-81.8717,-82.0708, -82.2656,-82.4585,-82.6469,-82.9248, -83.1053,-83.2835,-83.5416,-83.7098, -83.9523,-84.1095,-84.2603,-84.4071, -84.6173,-84.7501,-84.8768,-85.0539, -85.1642,-85.2663,-85.3615,-85.4492, -85.5267,-85.5967,-85.6582,-85.7096, -85.7521,-85.7856,-85.8092,-85.8247, -85.8282,-85.8188,-85.8001,-85.736, -85.6082,-85.508,-85.3523,-85.5289)
FOOTPRINT_POINT_LONGITUDE = (207.862,205.219,203.251,200.431,196.8, 193.74,199.127,203.863,207.356,213.097, 217.245,221.713,226.39,231.229,238.741, 243.769,248.702,253.549,258.184,262.553 ,266.685,270.527,274.061,277.336, 280.341,283.082,285.612,289.001,291.024 ,292.885,295.393,296.91,298.301,299.599 ,301.36,302.432,303.903,304.806,305.645 ,306.811,307.525,308.2,308.839,309.44, 310.004,310.798,311.289,311.758,312.416 ,312.828,310.874,309.537,307.21,304.944 ,302.605,300.999,298.285,297.652, 297.003,296.311,295.599,294.456,293.649 ,292.815,291.937,291.013,290.051, 288.511,287.429,286.286,284.475,283.184 ,281.14,279.682,278.166,276.565,274.033 ,272.237,270.358,267.389,265.29,263.13, 260.874,258.537,256.134,253.649,251.097 ,248.508,245.857,243.162,240.471, 237.753,233.667,230.981,228.309,223.11, 216.933,213.42,209.056,207.862)
ORBIT_NUMBER = 6842
ORBITAL_ECCENTRICITY = 0.576
ORBITAL_INCLINATION = 86.77
ORBITAL_SEMIMAJOR_AXIS = 8705.37
PERIAPSIS_ALTITUDE = 311.73
PERIAPSIS_ARGUMENT_ANGLE = 237.32
PERIAPSIS_TIME = 2009-05-02T14:06:45.000Z
SPACECRAFT_ORIENTATION = (0.0,-1.0,0.0)
^MEX_ORIENTATION_DESC = "MEX_ORIENTATION_DESC.TXT"
SPACECRAFT_POINTING_MODE = NADIR
^MEX_POINTING_DESC = "MEX_POINTING_DESC.TXT"
RIGHT_ASCENSION = -1e+32
DECLINATION = -1e+32
OFFSET_ANGLE = -1e+32
SPACECRAFT_SOLAR_DISTANCE = 2.0678e+08
TARGET_NAME = MARS
/* CAMERA DATA ELEMENTS */
DETECTOR_TEMPERATURE = 18.5744
FOCAL_PLANE_TEMPERATURE = 8.9911
INST_CMPRS_NAME = "DISCRETE COSINE TRANSFORMATION (DCT)"
INST_CMPRS_RATIO = 5.50821
INST_CMPRS_QUALITY = 0
INST_CMPRS_QUANTZ_TBL_ID = 0
INSTRUMENT_TEMPERATURE = 11.4379
LENS_TEMPERATURE = 9.195
MACROPIXEL_SIZE = 1
MISSING_FRAMES = 2
PIXEL_SUBSAMPLING_FLAG = N
SIGNAL_CHAIN_ID = 0
/* RADIOMETRIC DATA ELEMENTS */
BANDWIDTH = 177.0
CENTER_FILTER_WAVELENGTH = 677.5
RADIANCE_OFFSET = 4.41264
RADIANCE_SCALING_FACTOR = 0.061704
REFLECTANCE_SCALING_FACTOR = 0.00140157
MEX:REFLECTANCE_OFFSET = 0.10023
/* IMAGE OBJECT DEFINITIONS */
OBJECT = IMAGE
  INTERCHANGE_FORMAT = BINARY
  LINES = 23718
  LINE_SAMPLES = 18097
  SAMPLE_TYPE = UNSIGNED_INTEGER
  SAMPLE_BITS = 8
  BANDS = 1
  BAND_STORAGE_TYPE = BAND_SEQUENTIAL
  MAXIMUM = 255
  MEAN = 157.558
  MINIMUM = 1
  STANDARD_DEVIATION = 60.0771
END_OBJECT = IMAGE
/* MAP OBJECT DEFINITIONS */
OBJECT = IMAGE_MAP_PROJECTION
  ^DATA_SET_MAP_PROJECTION_CATALOG= "DSMAP.CAT"
  A_AXIS_RADIUS = 3396.0
  B_AXIS_RADIUS = 3396.0
  C_AXIS_RADIUS = 3396.0
  CENTER_LATITUDE = -90.0
  CENTER_LONGITUDE = 0.0
  COORDINATE_SYSTEM_NAME = PLANETOGRAPHIC
  COORDINATE_SYSTEM_TYPE = "BODY-FIXED ROTATING"
  EASTERNMOST_LONGITUDE = 312.828
  FIRST_STANDARD_PARALLEL = "N/A"
  LINE_FIRST_PIXEL = 1
  LINE_LAST_PIXEL = 23718
  LINE_PROJECTION_OFFSET = 14117.0
  MAP_PROJECTION_ROTATION = 0
  MAP_PROJECTION_TYPE = STEREOGRAPHIC
  MAP_RESOLUTION = 2370.85521546667
  MAP_SCALE = 0.025
  MAXIMUM_LATITUDE = -80.5187
  MINIMUM_LATITUDE = -87.7303
  POSITIVE_LONGITUDE_DIRECTION = EAST
  REFERENCE_LATITUDE = "N/A"
  REFERENCE_LONGITUDE = "N/A"
  SAMPLE_FIRST_PIXEL = 1
  SAMPLE_LAST_PIXEL = 18097
  SAMPLE_PROJECTION_OFFSET = 19944.0
  SECOND_STANDARD_PARALLEL = "N/A"
  WESTERNMOST_LONGITUDE = 193.74
END_OBJECT = IMAGE_MAP_PROJECTION
/* The JPEG2000 image data file associated with this label. */
OBJECT = COMPRESSED_FILE
  FILE_NAME = "H6842_0000_ND3.JP2"
  RECORD_TYPE = UNDEFINED
  FILE_RECORDS = UNK
  ENCODING_TYPE = "JP2"
  INTERCHANGE_FORMAT = BINARY
  UNCOMPRESSED_FILE_NAME = "H6842_0000_ND3.IMG"
  REQUIRED_STORAGE_BYTES = "429278937"
  ^DESCRIPTION = "JP2INFO.TXT"
END_OBJECT = COMPRESSED_FILE
END
