PDS_VERSION_ID = PDS3
/* FILE DATA ELEMENTS */
RECORD_TYPE = STREAM
/* POINTERS TO DATA OBJECTS */
^COMPRESSED_FILE = "H6842_0000_P13.JP2"
/* IDENTIFICATION DATA ELEMENTS */
DATA_SET_ID = "MEX-M-HRSC-5-REFDR-MAPPROJECTED-V3.0"
DATA_SET_NAME = "MARS EXPRESS HRSC MAP PROJECTED REFDR V3.0"
DETECTOR_ID = MEX_HRSC_P1
EVENT_TYPE = "MARS-REGIONAL-MAPPING-Gl-La"
INSTRUMENT_HOST_ID = MEX
INSTRUMENT_HOST_NAME = "MARS EXPRESS"
INSTRUMENT_ID = HRSC
INSTRUMENT_NAME = "HIGH RESOLUTION STEREO CAMERA"
MISSION_NAME = "MARS EXPRESS"
MISSION_PHASE_NAME = ME_Phase_17
PROCESSING_LEVEL_ID = 3
PRODUCT_CREATION_TIME = 2016-06-29T12:07:32.000Z
PRODUCT_ID = "H6842_0000_P13.JP2"
RELEASE_ID = 0076
REVISION_ID = 0000
/* QUALITY DATA ELEMENTS */
DATA_QUALITY_ID = 1
DATA_QUALITY_DESC = "Data calculated based on original SPICE kernels"
/* TIME DATA ELEMENTS */
SPACECRAFT_CLOCK_START_COUNT = "1/0189353634.09057"
SPACECRAFT_CLOCK_STOP_COUNT = "1/0189353957.34413"
START_TIME = 2009-05-02T14:14:11.674Z
STOP_TIME = 2009-05-02T14:17:05.427Z
/* ORBITAL DATA ELEMENTS */
ASCENDING_NODE_LONGITUDE = 87.19
MAXIMUM_RESOLUTION = 40.1
FOOTPRINT_POINT_LATITUDE = (-85.6748,-86.0482,-86.3427,-86.5276, -86.8412,-87.1433,-87.2521,-87.3507, -87.4391,-87.5505,-87.6076,-87.6506, -87.6765,-87.6861,-87.6787,-87.6539, -87.6124,-87.5542,-87.481,-87.394, -87.2926,-87.1797,-86.9917,-86.8532, -86.7073,-86.5549,-86.3942,-86.2277, -86.0578,-85.8813,-85.7004,-85.5161, -85.3269,-85.1346,-84.9396,-84.7393, -84.5382,-84.2317,-84.024,-83.8151, -83.6014,-83.3875,-83.0599,-82.8406, -82.6185,-82.3949,-82.1701,-81.9418, -81.5984,-81.249,-81.1831,-81.0863, -80.9842,-80.9023,-80.7565,-80.6418, -80.5627,-80.7806,-80.9959,-81.2078, -81.5219,-81.7262,-82.0269,-82.2266, -82.4211,-82.6124,-82.8015,-83.077, -83.2576,-83.4331,-83.6049,-83.7737, -83.9364,-84.0956,-84.2503,-84.3984, -84.5439,-84.7505,-84.8799,-85.063, -85.1742,-85.2802,-85.4256,-85.5124, -85.6244,-85.689,-85.7436,-85.7895, -85.8261,-85.8527,-85.8707,-85.8789, -85.8719,-85.8553,-85.8295,-85.7517, -85.6717,-85.5741,-85.4623,-85.6748)
FOOTPRINT_POINT_LONGITUDE = (205.304,201.877,198.561,196.101, 195.001,201.993,205.254,208.76,212.53, 218.735,223.178,227.842,232.614,237.545 ,242.497,247.348,252.129,256.746, 261.123,265.229,269.111,272.699,277.537 ,280.475,283.156,285.601,287.871, 289.958,291.837,293.589,295.207,296.697 ,298.082,299.359,300.546,301.665, 302.687,304.093,304.955,305.758,306.523 ,307.231,308.237,308.848,309.432, 309.977,310.496,310.99,311.679,312.323, 310.816,308.64,306.649,305.218,302.934, 301.331,298.709,298.071,297.41,296.717, 295.62,294.846,293.622,292.752,291.846, 290.897,289.896,288.315,287.186,286.013 ,284.776,283.471,282.114,280.681, 279.174,277.605,275.941,273.3,271.442, 268.474,266.418,264.253,260.831,258.456 ,254.763,252.207,249.61,246.944,244.22, 241.501,238.729,234.544,231.81,229.108, 226.427,221.243,217.545,213.991,210.649 ,205.304)
ORBIT_NUMBER = 6842
ORBITAL_ECCENTRICITY = 0.576
ORBITAL_INCLINATION = 86.77
ORBITAL_SEMIMAJOR_AXIS = 8705.37
PERIAPSIS_ALTITUDE = 311.73
PERIAPSIS_ARGUMENT_ANGLE = 237.32
PERIAPSIS_TIME = 2009-05-02T14:06:45.000Z
SPACECRAFT_ORIENTATION = (0.0,-1.0,0.0)
^MEX_ORIENTATION_DESC = "MEX_ORIENTATION_DESC.TXT"
SPACECRAFT_POINTING_MODE = NADIR
^MEX_POINTING_DESC = "MEX_POINTING_DESC.TXT"
RIGHT_ASCENSION = -1e+32
DECLINATION = -1e+32
OFFSET_ANGLE = -1e+32
SPACECRAFT_SOLAR_DISTANCE = 2.0678e+08
TARGET_NAME = MARS
/* CAMERA DATA ELEMENTS */
DETECTOR_TEMPERATURE = 17.5549
FOCAL_PLANE_TEMPERATURE = 8.9911
INST_CMPRS_NAME = "DISCRETE COSINE TRANSFORMATION (DCT)"
INST_CMPRS_RATIO = 11.3957
INST_CMPRS_QUALITY = 0
INST_CMPRS_QUANTZ_TBL_ID = 0
INSTRUMENT_TEMPERATURE = 11.4379
LENS_TEMPERATURE = 9.195
MACROPIXEL_SIZE = 2
MISSING_FRAMES = 0
PIXEL_SUBSAMPLING_FLAG = N
SIGNAL_CHAIN_ID = 3
/* RADIOMETRIC DATA ELEMENTS */
BANDWIDTH = 174.0
CENTER_FILTER_WAVELENGTH = 675.0
RADIANCE_OFFSET = 5.05884
RADIANCE_SCALING_FACTOR = 0.0482059
REFLECTANCE_SCALING_FACTOR = 0.00110867
MEX:REFLECTANCE_OFFSET = 0.116346
/* IMAGE OBJECT DEFINITIONS */
OBJECT = IMAGE
  INTERCHANGE_FORMAT = BINARY
  LINES = 11859
  LINE_SAMPLES = 9049
  SAMPLE_TYPE = UNSIGNED_INTEGER
  SAMPLE_BITS = 8
  BANDS = 1
  BAND_STORAGE_TYPE = BAND_SEQUENTIAL
  MAXIMUM = 255
  MEAN = 204.148
  MINIMUM = 1
  STANDARD_DEVIATION = 76.6535
END_OBJECT = IMAGE
/* MAP OBJECT DEFINITIONS */
OBJECT = IMAGE_MAP_PROJECTION
  ^DATA_SET_MAP_PROJECTION_CATALOG= "DSMAP.CAT"
  A_AXIS_RADIUS = 3396.0
  B_AXIS_RADIUS = 3396.0
  C_AXIS_RADIUS = 3396.0
  CENTER_LATITUDE = -90.0
  CENTER_LONGITUDE = 0.0
  COORDINATE_SYSTEM_NAME = PLANETOGRAPHIC
  COORDINATE_SYSTEM_TYPE = "BODY-FIXED ROTATING"
  EASTERNMOST_LONGITUDE = 312.323
  FIRST_STANDARD_PARALLEL = "N/A"
  LINE_FIRST_PIXEL = 1
  LINE_LAST_PIXEL = 11859
  LINE_PROJECTION_OFFSET = 7058.25
  MAP_PROJECTION_ROTATION = 0.0
  MAP_PROJECTION_TYPE = STEREOGRAPHIC
  MAP_RESOLUTION = 1185.42760773333
  MAP_SCALE = 0.05
  MAXIMUM_LATITUDE = -80.56270000000001
  MINIMUM_LATITUDE = -87.6861
  POSITIVE_LONGITUDE_DIRECTION = EAST
  REFERENCE_LATITUDE = "N/A"
  REFERENCE_LONGITUDE = "N/A"
  SAMPLE_FIRST_PIXEL = 1
  SAMPLE_LAST_PIXEL = 9049
  SAMPLE_PROJECTION_OFFSET = 9971.75
  SECOND_STANDARD_PARALLEL = "N/A"
  WESTERNMOST_LONGITUDE = 195.001
END_OBJECT = IMAGE_MAP_PROJECTION
/* The JPEG2000 image data file associated with this label. */
OBJECT = COMPRESSED_FILE
  FILE_NAME = "H6842_0000_P13.JP2"
  RECORD_TYPE = UNDEFINED
  FILE_RECORDS = UNK
  ENCODING_TYPE = "JP2"
  INTERCHANGE_FORMAT = BINARY
  UNCOMPRESSED_FILE_NAME = "H6842_0000_P13.IMG"
  REQUIRED_STORAGE_BYTES = "107348287"
  ^DESCRIPTION = "JP2INFO.TXT"
END_OBJECT = COMPRESSED_FILE
END
