PDS_VERSION_ID = PDS3
/* FILE DATA ELEMENTS */
RECORD_TYPE = STREAM
/* POINTERS TO DATA OBJECTS */
^COMPRESSED_FILE = "H6842_0000_RE3.JP2"
/* IDENTIFICATION DATA ELEMENTS */
DATA_SET_ID = "MEX-M-HRSC-5-REFDR-MAPPROJECTED-V3.0"
DATA_SET_NAME = "MARS EXPRESS HRSC MAP PROJECTED REFDR V3.0"
DETECTOR_ID = MEX_HRSC_RED
EVENT_TYPE = "MARS-REGIONAL-MAPPING-Gl-La"
INSTRUMENT_HOST_ID = MEX
INSTRUMENT_HOST_NAME = "MARS EXPRESS"
INSTRUMENT_ID = HRSC
INSTRUMENT_NAME = "HIGH RESOLUTION STEREO CAMERA"
MISSION_NAME = "MARS EXPRESS"
MISSION_PHASE_NAME = ME_Phase_17
PROCESSING_LEVEL_ID = 3
PRODUCT_CREATION_TIME = 2016-06-29T12:07:32.000Z
PRODUCT_ID = "H6842_0000_RE3.JP2"
RELEASE_ID = 0076
REVISION_ID = 0000
/* QUALITY DATA ELEMENTS */
DATA_QUALITY_ID = 1
DATA_QUALITY_DESC = "Data calculated based on original SPICE kernels"
/* TIME DATA ELEMENTS */
SPACECRAFT_CLOCK_START_COUNT = "1/0189353634.09057"
SPACECRAFT_CLOCK_STOP_COUNT = "1/0189353957.34413"
START_TIME = 2009-05-02T14:15:29.619Z
STOP_TIME = 2009-05-02T14:19:00.486Z
/* ORBITAL DATA ELEMENTS */
ASCENDING_NODE_LONGITUDE = 87.19
MAXIMUM_RESOLUTION = 92.4
FOOTPRINT_POINT_LATITUDE = (-85.5893,-85.8518,-86.1687,-86.4462, -86.6718,-86.9092,-87.2856,-87.5434, -87.6273,-87.6981,-87.7765,-87.8085, -87.8232,-87.8108,-87.7584,-87.7015, -87.6291,-87.5413,-87.4398,-87.3268, -87.2014,-87.0676,-86.9228,-86.7717, -86.6155,-86.4506,-86.2822,-86.1078, -85.8389,-85.6548,-85.4685,-85.2775, -85.0812,-84.8828,-84.5833,-84.2775, -84.0714,-83.8634,-83.6544,-83.4424, -83.12,-82.9031,-82.6845,-82.3536, -82.13,-81.9047,-81.6782,-81.4494, -81.2429,-81.1475,-81.0762,-81.0198, -80.9439,-80.8279,-80.7564,-80.6619, -80.5238,-80.3593,-80.573,-80.7808, -80.9876,-81.1932,-81.4962,-81.697, -81.8912,-82.0847,-82.37,-82.6489, -82.8316,-83.0099,-83.2713,-83.4412, -83.6065,-83.8481,-84.0033,-84.1548, -84.3003,-84.5085,-84.6414,-84.8286, -84.9461,-85.0567,-85.1603,-85.2567, -85.3867,-85.4633,-85.5315,-85.5912, -85.6415,-85.7005,-85.7281,-85.7536, -85.7583,-85.754,-85.7403,-85.687, -85.5728,-85.4476,-85.3371,-85.5893)
FOOTPRINT_POINT_LONGITUDE = (208.996,207.112,204.423,201.576, 198.808,193.125,201.667,210.747,214.914 ,219.359,226.497,231.567,239.354,244.58 ,252.212,257.114,261.729,266.078, 270.128,273.843,277.292,280.423,283.31, 285.929,288.308,290.5,292.487,294.321, 296.782,298.262,299.622,300.884,302.052 ,303.136,304.618,305.952,306.77,307.537 ,308.256,308.933,309.872,310.455, 311.006,311.777,312.256,312.713,313.145 ,313.557,313.911,311.198,309.472, 308.236,306.712,304.622,303.45,302.012, 300.032,297.931,297.311,296.69,296.03, 295.336,294.244,293.456,292.669,291.829 ,290.49,289.054,288.035,286.975,285.287 ,284.092,282.844,280.844,279.433,277.94 ,276.391,273.951,272.201,269.456, 267.516,265.491,263.39,261.209,257.815, 255.422,253.002,250.478,247.937,244.024 ,241.41,237.471,234.834,232.194,229.561 ,224.433,218.297,213.693,210.453, 208.996)
ORBIT_NUMBER = 6842
ORBITAL_ECCENTRICITY = 0.576
ORBITAL_INCLINATION = 86.77
ORBITAL_SEMIMAJOR_AXIS = 8705.37
PERIAPSIS_ALTITUDE = 311.73
PERIAPSIS_ARGUMENT_ANGLE = 237.32
PERIAPSIS_TIME = 2009-05-02T14:06:45.000Z
SPACECRAFT_ORIENTATION = (0.0,-1.0,0.0)
^MEX_ORIENTATION_DESC = "MEX_ORIENTATION_DESC.TXT"
SPACECRAFT_POINTING_MODE = NADIR
^MEX_POINTING_DESC = "MEX_POINTING_DESC.TXT"
RIGHT_ASCENSION = -1e+32
DECLINATION = -1e+32
OFFSET_ANGLE = -1e+32
SPACECRAFT_SOLAR_DISTANCE = 2.0678e+08
TARGET_NAME = MARS
/* CAMERA DATA ELEMENTS */
DETECTOR_TEMPERATURE = 18.7783
FOCAL_PLANE_TEMPERATURE = 8.9911
INST_CMPRS_NAME = "DISCRETE COSINE TRANSFORMATION (DCT)"
INST_CMPRS_RATIO = 14.9907
INST_CMPRS_QUALITY = 0
INST_CMPRS_QUANTZ_TBL_ID = 0
INSTRUMENT_TEMPERATURE = 11.4379
LENS_TEMPERATURE = 9.195
MACROPIXEL_SIZE = 4
MISSING_FRAMES = 0
PIXEL_SUBSAMPLING_FLAG = N
SIGNAL_CHAIN_ID = 2
/* RADIOMETRIC DATA ELEMENTS */
BANDWIDTH = 48.0
CENTER_FILTER_WAVELENGTH = 748.0
RADIANCE_OFFSET = 1.29971
RADIANCE_SCALING_FACTOR = 0.0101938
REFLECTANCE_SCALING_FACTOR = 0.000994674
MEX:REFLECTANCE_OFFSET = 0.126821
/* IMAGE OBJECT DEFINITIONS */
OBJECT = IMAGE
  INTERCHANGE_FORMAT = BINARY
  LINES = 5930
  LINE_SAMPLES = 4525
  SAMPLE_TYPE = UNSIGNED_INTEGER
  SAMPLE_BITS = 8
  BANDS = 1
  BAND_STORAGE_TYPE = BAND_SEQUENTIAL
  MAXIMUM = 255
  MEAN = 216.857
  MINIMUM = 1
  STANDARD_DEVIATION = 69.9851
END_OBJECT = IMAGE
/* MAP OBJECT DEFINITIONS */
OBJECT = IMAGE_MAP_PROJECTION
  ^DATA_SET_MAP_PROJECTION_CATALOG= "DSMAP.CAT"
  A_AXIS_RADIUS = 3396.0
  B_AXIS_RADIUS = 3396.0
  C_AXIS_RADIUS = 3396.0
  CENTER_LATITUDE = -90.0
  CENTER_LONGITUDE = 0.0
  COORDINATE_SYSTEM_NAME = PLANETOGRAPHIC
  COORDINATE_SYSTEM_TYPE = "BODY-FIXED ROTATING"
  EASTERNMOST_LONGITUDE = 313.911
  FIRST_STANDARD_PARALLEL = "N/A"
  LINE_FIRST_PIXEL = 1
  LINE_LAST_PIXEL = 5930
  LINE_PROJECTION_OFFSET = 3528.875
  MAP_PROJECTION_ROTATION = 0.0
  MAP_PROJECTION_TYPE = STEREOGRAPHIC
  MAP_RESOLUTION = 592.713803866667
  MAP_SCALE = 0.1
  MAXIMUM_LATITUDE = -80.3593
  MINIMUM_LATITUDE = -87.8232
  POSITIVE_LONGITUDE_DIRECTION = EAST
  REFERENCE_LATITUDE = "N/A"
  REFERENCE_LONGITUDE = "N/A"
  SAMPLE_FIRST_PIXEL = 1
  SAMPLE_LAST_PIXEL = 4525
  SAMPLE_PROJECTION_OFFSET = 4985.625
  SECOND_STANDARD_PARALLEL = "N/A"
  WESTERNMOST_LONGITUDE = 193.125
END_OBJECT = IMAGE_MAP_PROJECTION
/* The JPEG2000 image data file associated with this label. */
OBJECT = COMPRESSED_FILE
  FILE_NAME = "H6842_0000_RE3.JP2"
  RECORD_TYPE = UNDEFINED
  FILE_RECORDS = UNK
  ENCODING_TYPE = "JP2"
  INTERCHANGE_FORMAT = BINARY
  UNCOMPRESSED_FILE_NAME = "H6842_0000_RE3.IMG"
  REQUIRED_STORAGE_BYTES = "26860400"
  ^DESCRIPTION = "JP2INFO.TXT"
END_OBJECT = COMPRESSED_FILE
END
