PDS_VERSION_ID = PDS3
/* FILE DATA ELEMENTS */
RECORD_TYPE = STREAM
/* POINTERS TO DATA OBJECTS */
^COMPRESSED_FILE = "H6844_0000_S23.JP2"
/* IDENTIFICATION DATA ELEMENTS */
DATA_SET_ID = "MEX-M-HRSC-5-REFDR-MAPPROJECTED-V3.0"
DATA_SET_NAME = "MARS EXPRESS HRSC MAP PROJECTED REFDR V3.0"
DETECTOR_ID = MEX_HRSC_S2
EVENT_TYPE = "MARS-REGIONAL-MAPPING-Gl-La"
INSTRUMENT_HOST_ID = MEX
INSTRUMENT_HOST_NAME = "MARS EXPRESS"
INSTRUMENT_ID = HRSC
INSTRUMENT_NAME = "HIGH RESOLUTION STEREO CAMERA"
MISSION_NAME = "MARS EXPRESS"
MISSION_PHASE_NAME = ME_Phase_17
PROCESSING_LEVEL_ID = 3
PRODUCT_CREATION_TIME = 2016-06-29T12:07:32.000Z
PRODUCT_ID = "H6844_0000_S23.JP2"
RELEASE_ID = 0076
REVISION_ID = 0000
/* QUALITY DATA ELEMENTS */
DATA_QUALITY_ID = 1
DATA_QUALITY_DESC = "Data calculated based on original SPICE kernels"
/* TIME DATA ELEMENTS */
SPACECRAFT_CLOCK_START_COUNT = "1/0189403198.09079"
SPACECRAFT_CLOCK_STOP_COUNT = "1/0189403603.07532"
START_TIME = 2009-05-03T04:01:22.792Z
STOP_TIME = 2009-05-03T04:06:43.603Z
/* ORBITAL DATA ELEMENTS */
ASCENDING_NODE_LONGITUDE = 87.16
MAXIMUM_RESOLUTION = 42.8
FOOTPRINT_POINT_LATITUDE = (-81.5126,-81.4979,-81.4392,-81.3664, -82.0461,-82.5547,-82.894,-83.2365, -83.7527,-84.0988,-84.4492,-84.8032, -85.1591,-85.5173,-85.8795,-86.2417, -86.6072,-87.1559,-87.5222,-87.8893, -88.2503,-88.6024,-88.9325,-89.2021, -89.3273,-89.2305,-88.9643,-88.6211, -88.2414,-87.8419,-87.4297,-87.0074, -86.577,-86.1395,-85.6939,-85.2407, -84.7807,-84.3137,-83.8462,-83.3791, -82.9122,-82.4461,-81.9795,-81.2794, -80.8117,-80.3463,-79.8787,-79.4114, -78.9462,-78.2483,-78.2143,-78.1347, -78.0111,-77.9026,-78.5512,-79.0143, -79.4787,-80.1728,-80.6359,-81.3284, -81.7897,-82.2504,-82.7107,-83.1697, -83.6261,-84.0808,-84.7533,-85.1902, -85.6156,-86.029,-86.4276,-86.8141, -87.1796,-87.5201,-87.828,-88.0883, -88.2862,-88.3998,-88.4148,-88.3314, -88.1654,-87.9378,-87.5285,-87.2253, -86.9058,-86.5798,-86.246,-85.9102, -85.4026,-85.0603,-84.7225,-84.3805, -84.0403,-83.7012,-83.3662,-82.8683, -82.3728,-82.0362,-81.5126)
FOOTPRINT_POINT_LONGITUDE = (315.807,311.968,307.967,304.999, 303.682,303.363,303.132,302.877,302.424 ,302.067,301.668,301.226,300.7,300.088, 299.368,298.487,297.39,295.173,293.125, 290.321,286.305,280.148,269.947,251.711 ,221.504,189.469,169.269,158.101, 151.478,147.205,144.274,142.126,140.503 ,139.267,138.246,137.394,136.69,136.086 ,135.575,135.151,134.795,134.503, 134.236,133.886,133.657,133.506,133.313 ,133.139,133.035,132.836,129.38,125.799 ,122.271,119.914,118.566,118.231, 117.875,117.265,116.812,116.031,115.439 ,114.777,114.032,113.185,112.208,111.08 ,109.051,107.42,105.486,103.171,100.357 ,96.9016,92.5684,87.0587,79.9754, 70.9039,59.4826,45.9393,31.4188,17.7095 ,6.00151,356.372,346.333,341.298, 337.276,334.079,331.45,329.285,326.658, 325.198,323.967,322.863,321.886,321.035 ,320.286,319.329,318.484,317.97, 315.807)
ORBIT_NUMBER = 6844
ORBITAL_ECCENTRICITY = 0.576
ORBITAL_INCLINATION = 86.78
ORBITAL_SEMIMAJOR_AXIS = 8703.4
PERIAPSIS_ALTITUDE = 311.56
PERIAPSIS_ARGUMENT_ANGLE = 236.96
PERIAPSIS_TIME = 2009-05-03T03:54:07.000Z
SPACECRAFT_ORIENTATION = (0.0,-1.0,0.0)
^MEX_ORIENTATION_DESC = "MEX_ORIENTATION_DESC.TXT"
SPACECRAFT_POINTING_MODE = INERT
^MEX_POINTING_DESC = "MEX_POINTING_DESC.TXT"
RIGHT_ASCENSION = 301.399
DECLINATION = 85.911
OFFSET_ANGLE = -1e+32
SPACECRAFT_SOLAR_DISTANCE = 2.06794e+08
TARGET_NAME = MARS
/* CAMERA DATA ELEMENTS */
DETECTOR_TEMPERATURE = 18.5744
FOCAL_PLANE_TEMPERATURE = 8.1755
INST_CMPRS_NAME = "DISCRETE COSINE TRANSFORMATION (DCT)"
INST_CMPRS_RATIO = 5.76545
INST_CMPRS_QUALITY = 0
INST_CMPRS_QUANTZ_TBL_ID = 0
INSTRUMENT_TEMPERATURE = 11.234
LENS_TEMPERATURE = 8.5833
MACROPIXEL_SIZE = 2
MISSING_FRAMES = 1
PIXEL_SUBSAMPLING_FLAG = N
SIGNAL_CHAIN_ID = 1
/* RADIOMETRIC DATA ELEMENTS */
BANDWIDTH = 178.0
CENTER_FILTER_WAVELENGTH = 679.0
RADIANCE_OFFSET = 4.99646
RADIANCE_SCALING_FACTOR = 0.0528801
REFLECTANCE_SCALING_FACTOR = 0.00119757
MEX:REFLECTANCE_OFFSET = 0.113154
/* IMAGE OBJECT DEFINITIONS */
OBJECT = IMAGE
  INTERCHANGE_FORMAT = BINARY
  LINES = 34633
  LINE_SAMPLES = 41087
  SAMPLE_TYPE = UNSIGNED_INTEGER
  SAMPLE_BITS = 8
  BANDS = 1
  BAND_STORAGE_TYPE = BAND_SEQUENTIAL
  MAXIMUM = 255
  MEAN = 103.013
  MINIMUM = 1
  STANDARD_DEVIATION = 61.8493
END_OBJECT = IMAGE
/* MAP OBJECT DEFINITIONS */
OBJECT = IMAGE_MAP_PROJECTION
  ^DATA_SET_MAP_PROJECTION_CATALOG= "DSMAP.CAT"
  A_AXIS_RADIUS = 3396.0
  B_AXIS_RADIUS = 3396.0
  C_AXIS_RADIUS = 3396.0
  CENTER_LATITUDE = -90.0
  CENTER_LONGITUDE = 0.0
  COORDINATE_SYSTEM_NAME = PLANETOGRAPHIC
  COORDINATE_SYSTEM_TYPE = "BODY-FIXED ROTATING"
  EASTERNMOST_LONGITUDE = 360.0
  FIRST_STANDARD_PARALLEL = "N/A"
  LINE_FIRST_PIXEL = 1
  LINE_LAST_PIXEL = 34633
  LINE_PROJECTION_OFFSET = 15224.25
  MAP_PROJECTION_ROTATION = 0.0
  MAP_PROJECTION_TYPE = STEREOGRAPHIC
  MAP_RESOLUTION = 2370.85521546667
  MAP_SCALE = 0.025
  MAXIMUM_LATITUDE = -77.90260000000001
  MINIMUM_LATITUDE = -90.0
  POSITIVE_LONGITUDE_DIRECTION = EAST
  REFERENCE_LATITUDE = "N/A"
  REFERENCE_LONGITUDE = "N/A"
  SAMPLE_FIRST_PIXEL = 1
  SAMPLE_LAST_PIXEL = 41087
  SAMPLE_PROJECTION_OFFSET = 16623.75
  SECOND_STANDARD_PARALLEL = "N/A"
  WESTERNMOST_LONGITUDE = 0.0
END_OBJECT = IMAGE_MAP_PROJECTION
/* The JPEG2000 image data file associated with this label. */
OBJECT = COMPRESSED_FILE
  FILE_NAME = "H6844_0000_S23.JP2"
  RECORD_TYPE = UNDEFINED
  FILE_RECORDS = UNK
  ENCODING_TYPE = "JP2"
  INTERCHANGE_FORMAT = BINARY
  UNCOMPRESSED_FILE_NAME = "H6844_0000_S23.IMG"
  REQUIRED_STORAGE_BYTES = "1423089332"
  ^DESCRIPTION = "JP2INFO.TXT"
END_OBJECT = COMPRESSED_FILE
END
