PDS_VERSION_ID = PDS3
/* FILE DATA ELEMENTS */
RECORD_TYPE = STREAM
/* POINTERS TO DATA OBJECTS */
^COMPRESSED_FILE = "H6845_0000_IR3.JP2"
/* IDENTIFICATION DATA ELEMENTS */
DATA_SET_ID = "MEX-M-HRSC-5-REFDR-MAPPROJECTED-V3.0"
DATA_SET_NAME = "MARS EXPRESS HRSC MAP PROJECTED REFDR V3.0"
DETECTOR_ID = MEX_HRSC_IR
EVENT_TYPE = "MARS-REGIONAL-MAPPING-Gl-La"
INSTRUMENT_HOST_ID = MEX
INSTRUMENT_HOST_NAME = "MARS EXPRESS"
INSTRUMENT_ID = HRSC
INSTRUMENT_NAME = "HIGH RESOLUTION STEREO CAMERA"
MISSION_NAME = "MARS EXPRESS"
MISSION_PHASE_NAME = ME_Phase_17
PROCESSING_LEVEL_ID = 3
PRODUCT_CREATION_TIME = 2016-06-29T12:07:32.000Z
PRODUCT_ID = "H6845_0000_IR3.JP2"
RELEASE_ID = 0076
REVISION_ID = 0000
/* QUALITY DATA ELEMENTS */
DATA_QUALITY_ID = 1
DATA_QUALITY_DESC = "Data calculated based on original SPICE kernels"
/* TIME DATA ELEMENTS */
SPACECRAFT_CLOCK_START_COUNT = "1/0189428182.09056"
SPACECRAFT_CLOCK_STOP_COUNT = "1/0189428462.34036"
START_TIME = 2009-05-03T10:56:33.361Z
STOP_TIME = 2009-05-03T10:58:26.796Z
/* ORBITAL DATA ELEMENTS */
ASCENDING_NODE_LONGITUDE = 87.14
MAXIMUM_RESOLUTION = 92.7
FOOTPRINT_POINT_LATITUDE = (-84.9062,-85.036,-85.1498,-85.3589, -85.4681,-85.6282,-85.7324,-85.8343, -85.9338,-86.0307,-86.1711,-86.2551, -86.051,-85.8387,-85.6761,-85.5096, -85.2255,-85.0517,-84.8742,-84.6329, -84.3909,-84.2008,-84.0763,-83.8894, -83.7623,-83.571,-83.443,-83.3149, -83.1844,-83.0533,-82.9225,-82.7259, -82.5255,-82.3918,-82.2581,-82.122, -81.9174,-81.7806,-81.5742,-81.3663, -81.2261,-81.0866,-80.9475,-80.7391, -80.5989,-80.4596,-80.3207,-80.181, -79.9715,-79.8319,-79.7837,-79.7393, -79.6643,-79.5938,-79.5403,-79.48, -79.4302,-79.3559,-79.2437,-79.139, -79.3541,-79.1246,-79.3796,-79.5121, -79.7102,-79.9076,-80.0387,-80.1699, -80.3006,-80.4964,-80.6265,-80.7564, -80.8848,-81.0754,-81.2018,-81.3902, -81.5751,-81.6976,-81.8199,-81.9399, -82.0589,-82.2361,-82.3534,-82.4682, -82.5817,-82.6951,-82.8078,-82.9186, -83.082,-83.1897,-83.2966,-83.4533, -83.7086,-83.9067,-84.0965,-84.1926, -84.3757,-84.5911,-84.717,-84.9062)
FOOTPRINT_POINT_LONGITUDE = (328.934,329.975,330.947,332.898, 334.012,335.79,337.048,338.37,339.758, 341.217,343.546,346.894,349.201,351.299 ,352.738,354.085,356.118,357.235, 358.283,359.592,360.765,361.634,362.156 ,362.895,363.368,364.044,364.472, 364.882,365.283,365.671,366.04,366.569, 367.078,367.401,367.712,368.02,368.459, 368.74,369.147,369.533,369.787,370.028, 370.26,370.594,370.813,371.021,371.221, 371.418,371.704,371.887,370.827,369.756 ,368.107,366.715,365.803,364.782, 363.996,362.887,361.363,360.082,359.898 ,359.869,359.161,358.867,358.411, 357.936,357.608,357.271,356.924,356.385 ,356.012,355.628,355.235,354.629,354.21 ,353.558,352.885,352.419,351.938, 351.449,350.945,350.161,349.617,349.064 ,348.496,347.907,347.299,346.677, 345.714,345.045,344.354,343.287,341.395 ,339.774,338.068,337.156,335.27,332.771 ,331.16,328.934)
ORBIT_NUMBER = 6845
ORBITAL_ECCENTRICITY = 0.576
ORBITAL_INCLINATION = 86.77
ORBITAL_SEMIMAJOR_AXIS = 8705.35
PERIAPSIS_ALTITUDE = 311.98
PERIAPSIS_ARGUMENT_ANGLE = 236.77
PERIAPSIS_TIME = 2009-05-03T10:47:44.000Z
SPACECRAFT_ORIENTATION = (0.0,-1.0,0.0)
^MEX_ORIENTATION_DESC = "MEX_ORIENTATION_DESC.TXT"
SPACECRAFT_POINTING_MODE = NADIR
^MEX_POINTING_DESC = "MEX_POINTING_DESC.TXT"
RIGHT_ASCENSION = -1e+32
DECLINATION = -1e+32
OFFSET_ANGLE = -1e+32
SPACECRAFT_SOLAR_DISTANCE = 2.06802e+08
TARGET_NAME = MARS
/* CAMERA DATA ELEMENTS */
DETECTOR_TEMPERATURE = 17.1471
FOCAL_PLANE_TEMPERATURE = 8.3794
INST_CMPRS_NAME = "DISCRETE COSINE TRANSFORMATION (DCT)"
INST_CMPRS_RATIO = 10.5647
INST_CMPRS_QUALITY = 0
INST_CMPRS_QUANTZ_TBL_ID = 0
INSTRUMENT_TEMPERATURE = 11.234
LENS_TEMPERATURE = 8.7872
MACROPIXEL_SIZE = 4
MISSING_FRAMES = 0
PIXEL_SUBSAMPLING_FLAG = N
SIGNAL_CHAIN_ID = 2
/* RADIOMETRIC DATA ELEMENTS */
BANDWIDTH = 81.0
CENTER_FILTER_WAVELENGTH = 955.5
RADIANCE_OFFSET = 1.95998
RADIANCE_SCALING_FACTOR = 0.0115646
REFLECTANCE_SCALING_FACTOR = 0.001067
MEX:REFLECTANCE_OFFSET = 0.180838
/* IMAGE OBJECT DEFINITIONS */
OBJECT = IMAGE
  INTERCHANGE_FORMAT = BINARY
  LINES = 4257
  LINE_SAMPLES = 3097
  SAMPLE_TYPE = UNSIGNED_INTEGER
  SAMPLE_BITS = 8
  BANDS = 1
  BAND_STORAGE_TYPE = BAND_SEQUENTIAL
  MAXIMUM = 255
  MEAN = 179.722
  MINIMUM = 1
  STANDARD_DEVIATION = 25.8584
END_OBJECT = IMAGE
/* MAP OBJECT DEFINITIONS */
OBJECT = IMAGE_MAP_PROJECTION
  ^DATA_SET_MAP_PROJECTION_CATALOG= "DSMAP.CAT"
  A_AXIS_RADIUS = 3396.0
  B_AXIS_RADIUS = 3396.0
  C_AXIS_RADIUS = 3396.0
  CENTER_LATITUDE = 0.0
  CENTER_LONGITUDE = 357.0
  COORDINATE_SYSTEM_NAME = PLANETOGRAPHIC
  COORDINATE_SYSTEM_TYPE = "BODY-FIXED ROTATING"
  EASTERNMOST_LONGITUDE = 11.887
  FIRST_STANDARD_PARALLEL = "N/A"
  LINE_FIRST_PIXEL = 1
  LINE_LAST_PIXEL = 4257
  LINE_PROJECTION_OFFSET = -46854.625
  MAP_PROJECTION_ROTATION = 0.0
  MAP_PROJECTION_TYPE = SINUSOIDAL
  MAP_RESOLUTION = 592.713803866667
  MAP_SCALE = 0.1
  MAXIMUM_LATITUDE = -79.1246
  MINIMUM_LATITUDE = -86.2551
  POSITIVE_LONGITUDE_DIRECTION = EAST
  REFERENCE_LATITUDE = "N/A"
  REFERENCE_LONGITUDE = "N/A"
  SAMPLE_FIRST_PIXEL = 1
  SAMPLE_LAST_PIXEL = 3097
  SAMPLE_PROJECTION_OFFSET = 1483.875
  SECOND_STANDARD_PARALLEL = "N/A"
  WESTERNMOST_LONGITUDE = -31.066
END_OBJECT = IMAGE_MAP_PROJECTION
/* The JPEG2000 image data file associated with this label. */
OBJECT = COMPRESSED_FILE
  FILE_NAME = "H6845_0000_IR3.JP2"
  RECORD_TYPE = UNDEFINED
  FILE_RECORDS = UNK
  ENCODING_TYPE = "JP2"
  INTERCHANGE_FORMAT = BINARY
  UNCOMPRESSED_FILE_NAME = "H6845_0000_IR3.IMG"
  REQUIRED_STORAGE_BYTES = "13208705"
  ^DESCRIPTION = "JP2INFO.TXT"
END_OBJECT = COMPRESSED_FILE
END
