PDS_VERSION_ID = PDS3
/* FILE DATA ELEMENTS */
RECORD_TYPE = STREAM
/* POINTERS TO DATA OBJECTS */
^COMPRESSED_FILE = "H6849_0000_ND3.JP2"
/* IDENTIFICATION DATA ELEMENTS */
DATA_SET_ID = "MEX-M-HRSC-5-REFDR-MAPPROJECTED-V3.0"
DATA_SET_NAME = "MARS EXPRESS HRSC MAP PROJECTED REFDR V3.0"
DETECTOR_ID = MEX_HRSC_NADIR
EVENT_TYPE = "MARS-REGIONAL-MAPPING-Gl-La"
INSTRUMENT_HOST_ID = MEX
INSTRUMENT_HOST_NAME = "MARS EXPRESS"
INSTRUMENT_ID = HRSC
INSTRUMENT_NAME = "HIGH RESOLUTION STEREO CAMERA"
MISSION_NAME = "MARS EXPRESS"
MISSION_PHASE_NAME = ME_Phase_17
PROCESSING_LEVEL_ID = 3
PRODUCT_CREATION_TIME = 2016-06-29T12:07:32.000Z
PRODUCT_ID = "H6849_0000_ND3.JP2"
RELEASE_ID = 0076
REVISION_ID = 0000
/* QUALITY DATA ELEMENTS */
DATA_QUALITY_ID = 1
DATA_QUALITY_DESC = "Data calculated based on original SPICE kernels"
/* TIME DATA ELEMENTS */
SPACECRAFT_CLOCK_START_COUNT = "1/0189527321.07307"
SPACECRAFT_CLOCK_STOP_COUNT = "1/0189527698.57227"
START_TIME = 2009-05-04T14:29:25.401Z
STOP_TIME = 2009-05-04T14:33:33.400Z
/* ORBITAL DATA ELEMENTS */
ASCENDING_NODE_LONGITUDE = 87.06
MAXIMUM_RESOLUTION = 18.5
FOOTPRINT_POINT_LATITUDE = (-81.9209,-82.1035,-82.1853,-82.2605, -82.3645,-82.7267,-82.969,-83.2105, -83.5773,-83.8217,-84.065,-84.3123, -84.5581,-84.9264,-85.173,-85.4176, -85.6632,-85.9071,-86.1477,-86.3891, -86.7418,-86.973,-87.3039,-87.5138, -87.7999,-87.9684,-88.1079,-88.2519, -88.2937,-88.287,-88.2316,-88.1297, -87.9895,-87.8154,-87.6168,-87.3957, -87.034,-86.7779,-86.5105,-86.0952, -85.8098,-85.5173,-85.0692,-84.6106, -84.1431,-83.6666,-83.3449,-83.0177, -82.7495,-82.5719,-82.4408,-82.2451, -82.0902,-82.1473,-82.4439,-82.7336, -83.1577,-83.5667,-83.8305,-84.0868, -84.3336,-84.5721,-84.7993,-85.1197, -85.3186,-85.5024,-85.6715,-85.8238, -86.018,-86.1234,-86.2067,-86.2687, -86.3077,-86.3228,-86.3044,-86.2643, -86.2039,-86.0768,-85.971,-85.8488, -85.6415,-85.4874,-85.3252,-85.1528, -84.8814,-84.6921,-84.4971,-84.2991, -84.0958,-83.8893,-83.6812,-83.4691, -83.2553,-83.0411,-82.8239,-82.6053, -82.3879,-82.1683,-81.9465,-81.9209)
FOOTPRINT_POINT_LONGITUDE = (184.887,181.596,179.884,178.127,175.24 ,175.887,176.358,176.862,177.704, 178.323,178.992,179.734,180.543,181.912 ,182.953,184.101,185.387,186.855, 188.501,190.389,193.745,196.454,201.387 ,205.455,212.943,219.129,226.332, 239.133,248.571,258.357,267.775,276.519 ,284.198,290.863,296.479,301.261, 307.025,310.166,312.863,316.224,318.103 ,319.752,321.869,323.651,325.176, 326.493,327.265,327.961,325.557,320.929 ,318.218,314.82,312.509,310.689,309.52, 308.269,306.205,303.896,302.198,300.364 ,298.381,296.226,293.9,290.044,287.203, 284.153,280.865,277.352,271.658,267.585 ,263.372,258.987,254.552,247.803, 243.364,239.0,234.809,228.834,225.129, 221.627,216.85,213.919,211.234,208.732, 205.344,203.293,201.394,199.652,198.026 ,196.521,195.132,193.831,192.622, 191.502,190.448,189.461,188.546,187.682 ,186.865,184.887)
ORBIT_NUMBER = 6849
ORBITAL_ECCENTRICITY = 0.576
ORBITAL_INCLINATION = 86.78
ORBITAL_SEMIMAJOR_AXIS = 8705.98
PERIAPSIS_ALTITUDE = 311.99
PERIAPSIS_ARGUMENT_ANGLE = 236.1
PERIAPSIS_TIME = 2009-05-04T14:22:34.000Z
SPACECRAFT_ORIENTATION = (0.0,-1.0,0.0)
^MEX_ORIENTATION_DESC = "MEX_ORIENTATION_DESC.TXT"
SPACECRAFT_POINTING_MODE = ACROSSTRACK
^MEX_POINTING_DESC = "MEX_POINTING_DESC.TXT"
RIGHT_ASCENSION = -1e+32
DECLINATION = -1e+32
OFFSET_ANGLE = -0.5
SPACECRAFT_SOLAR_DISTANCE = 2.06833e+08
TARGET_NAME = MARS
/* CAMERA DATA ELEMENTS */
DETECTOR_TEMPERATURE = 18.1666
FOCAL_PLANE_TEMPERATURE = 8.1755
INST_CMPRS_NAME = "DISCRETE COSINE TRANSFORMATION (DCT)"
INST_CMPRS_RATIO = 7.9687
INST_CMPRS_QUALITY = 0
INST_CMPRS_QUANTZ_TBL_ID = 0
INSTRUMENT_TEMPERATURE = 11.234
LENS_TEMPERATURE = 9.6028
MACROPIXEL_SIZE = 1
MISSING_FRAMES = 0
PIXEL_SUBSAMPLING_FLAG = N
SIGNAL_CHAIN_ID = 0
/* RADIOMETRIC DATA ELEMENTS */
BANDWIDTH = 177.0
CENTER_FILTER_WAVELENGTH = 677.5
RADIANCE_OFFSET = 3.48224
RADIANCE_SCALING_FACTOR = 0.046288
REFLECTANCE_SCALING_FACTOR = 0.00105194
MEX:REFLECTANCE_OFFSET = 0.0791375
/* IMAGE OBJECT DEFINITIONS */
OBJECT = IMAGE
  INTERCHANGE_FORMAT = BINARY
  LINES = 67481
  LINE_SAMPLES = 31294
  SAMPLE_TYPE = UNSIGNED_INTEGER
  SAMPLE_BITS = 8
  BANDS = 1
  BAND_STORAGE_TYPE = BAND_SEQUENTIAL
  MAXIMUM = 255
  MEAN = 162.693
  MINIMUM = 1
  STANDARD_DEVIATION = 100.914
END_OBJECT = IMAGE
/* MAP OBJECT DEFINITIONS */
OBJECT = IMAGE_MAP_PROJECTION
  ^DATA_SET_MAP_PROJECTION_CATALOG= "DSMAP.CAT"
  A_AXIS_RADIUS = 3396.0
  B_AXIS_RADIUS = 3396.0
  C_AXIS_RADIUS = 3396.0
  CENTER_LATITUDE = -90.0
  CENTER_LONGITUDE = 0.0
  COORDINATE_SYSTEM_NAME = PLANETOGRAPHIC
  COORDINATE_SYSTEM_TYPE = "BODY-FIXED ROTATING"
  EASTERNMOST_LONGITUDE = 327.961
  FIRST_STANDARD_PARALLEL = "N/A"
  LINE_FIRST_PIXEL = 1
  LINE_LAST_PIXEL = 67481
  LINE_PROJECTION_OFFSET = 28901.0
  MAP_PROJECTION_ROTATION = 0
  MAP_PROJECTION_TYPE = STEREOGRAPHIC
  MAP_RESOLUTION = 4741.71043093333
  MAP_SCALE = 0.0125
  MAXIMUM_LATITUDE = -81.9209
  MINIMUM_LATITUDE = -88.2937
  POSITIVE_LONGITUDE_DIRECTION = EAST
  REFERENCE_LATITUDE = "N/A"
  REFERENCE_LONGITUDE = "N/A"
  SAMPLE_FIRST_PIXEL = 1
  SAMPLE_LAST_PIXEL = 31294
  SAMPLE_PROJECTION_OFFSET = 28497.0
  SECOND_STANDARD_PARALLEL = "N/A"
  WESTERNMOST_LONGITUDE = 175.24
END_OBJECT = IMAGE_MAP_PROJECTION
/* The JPEG2000 image data file associated with this label. */
OBJECT = COMPRESSED_FILE
  FILE_NAME = "H6849_0000_ND3.JP2"
  RECORD_TYPE = UNDEFINED
  FILE_RECORDS = UNK
  ENCODING_TYPE = "JP2"
  INTERCHANGE_FORMAT = BINARY
  UNCOMPRESSED_FILE_NAME = "H6849_0000_ND3.IMG"
  REQUIRED_STORAGE_BYTES = "2111844296"
  ^DESCRIPTION = "JP2INFO.TXT"
END_OBJECT = COMPRESSED_FILE
END
