PDS_VERSION_ID = PDS3
/* FILE DATA ELEMENTS */
RECORD_TYPE = STREAM
/* POINTERS TO DATA OBJECTS */
^COMPRESSED_FILE = "H6849_0000_RE3.JP2"
/* IDENTIFICATION DATA ELEMENTS */
DATA_SET_ID = "MEX-M-HRSC-5-REFDR-MAPPROJECTED-V3.0"
DATA_SET_NAME = "MARS EXPRESS HRSC MAP PROJECTED REFDR V3.0"
DETECTOR_ID = MEX_HRSC_RED
EVENT_TYPE = "MARS-REGIONAL-MAPPING-Gl-La"
INSTRUMENT_HOST_ID = MEX
INSTRUMENT_HOST_NAME = "MARS EXPRESS"
INSTRUMENT_ID = HRSC
INSTRUMENT_NAME = "HIGH RESOLUTION STEREO CAMERA"
MISSION_NAME = "MARS EXPRESS"
MISSION_PHASE_NAME = ME_Phase_17
PROCESSING_LEVEL_ID = 3
PRODUCT_CREATION_TIME = 2016-06-29T12:07:32.000Z
PRODUCT_ID = "H6849_0000_RE3.JP2"
RELEASE_ID = 0076
REVISION_ID = 0000
/* QUALITY DATA ELEMENTS */
DATA_QUALITY_ID = 1
DATA_QUALITY_DESC = "Data calculated based on original SPICE kernels"
/* TIME DATA ELEMENTS */
SPACECRAFT_CLOCK_START_COUNT = "1/0189527321.07307"
SPACECRAFT_CLOCK_STOP_COUNT = "1/0189527698.57227"
START_TIME = 2009-05-04T14:30:05.323Z
STOP_TIME = 2009-05-04T14:34:42.211Z
/* ORBITAL DATA ELEMENTS */
ASCENDING_NODE_LONGITUDE = 87.06
MAXIMUM_RESOLUTION = 82.4
FOOTPRINT_POINT_LATITUDE = (-82.0614,-82.2367,-82.3136,-82.3831, -82.4556,-82.8769,-83.4896,-83.7351, -84.1066,-84.3537,-84.727,-84.9748, -85.2237,-85.5939,-85.8427,-86.0887, -86.3334,-86.5749,-86.8134,-87.0477, -87.2757,-87.4953,-87.7041,-87.8967, -88.1445,-88.3207,-88.3849,-88.3991, -88.3609,-88.2724,-88.1381,-87.9696, -87.7722,-87.5543,-87.3159,-87.0644, -86.8035,-86.533,-86.2557,-85.9715, -85.6786,-85.2335,-84.9301,-84.6247, -84.3133,-84.0034,-83.688,-83.2042, -82.879,-82.7387,-82.4974,-82.3809, -82.1662,-82.0303,-82.0823,-82.3731, -82.6591,-82.9397,-83.2151,-83.4837, -83.7445,-83.9971,-84.3617,-84.5929, -84.8141,-85.0241,-85.2207,-85.4045, -85.5738,-85.7272,-85.8633,-85.9809, -86.078,-86.1542,-86.2088,-86.241, -86.2502,-86.2372,-86.2029,-86.1483, -86.0311,-85.9305,-85.815,-85.6838, -85.5409,-85.3859,-85.1388,-84.9614, -84.779,-84.5891,-84.3955,-84.0952, -83.8914,-83.5783,-83.3675,-83.0458, -82.7219,-82.5028,-82.0652,-82.0614)
FOOTPRINT_POINT_LONGITUDE = (184.559,181.138,179.36,177.537,175.313 ,175.632,176.871,177.438,178.389, 179.095,180.293,181.193,182.195,183.895 ,185.24,186.75,188.469,190.43,192.711, 195.377,198.528,202.248,206.757,212.09, 222.105,234.812,244.586,254.955,265.17, 274.746,283.244,290.481,296.58,301.647, 305.896,309.455,312.455,315.016,317.219 ,319.124,320.778,322.907,324.122, 325.214,326.189,327.078,327.88,328.942, 329.578,325.313,319.583,317.295,313.769 ,311.852,310.0,308.853,307.618,306.287, 304.846,303.295,301.628,299.832,296.847 ,294.655,292.28,289.716,286.969,283.999 ,280.805,277.387,273.738,269.883, 265.857,261.663,257.356,253.022,248.564 ,244.193,239.908,235.76,229.86,226.147, 222.672,219.379,216.33,213.475,209.622, 207.264,205.1,203.084,201.232,198.693, 197.16,195.05,193.772,192.005,190.418, 189.437,187.668,184.559)
ORBIT_NUMBER = 6849
ORBITAL_ECCENTRICITY = 0.576
ORBITAL_INCLINATION = 86.78
ORBITAL_SEMIMAJOR_AXIS = 8705.98
PERIAPSIS_ALTITUDE = 311.99
PERIAPSIS_ARGUMENT_ANGLE = 236.1
PERIAPSIS_TIME = 2009-05-04T14:22:34.000Z
SPACECRAFT_ORIENTATION = (0.0,-1.0,0.0)
^MEX_ORIENTATION_DESC = "MEX_ORIENTATION_DESC.TXT"
SPACECRAFT_POINTING_MODE = ACROSSTRACK
^MEX_POINTING_DESC = "MEX_POINTING_DESC.TXT"
RIGHT_ASCENSION = -1e+32
DECLINATION = -1e+32
OFFSET_ANGLE = -0.5
SPACECRAFT_SOLAR_DISTANCE = 2.06833e+08
TARGET_NAME = MARS
/* CAMERA DATA ELEMENTS */
DETECTOR_TEMPERATURE = 18.5744
FOCAL_PLANE_TEMPERATURE = 8.1755
INST_CMPRS_NAME = "DISCRETE COSINE TRANSFORMATION (DCT)"
INST_CMPRS_RATIO = 12.188
INST_CMPRS_QUALITY = 0
INST_CMPRS_QUANTZ_TBL_ID = 0
INSTRUMENT_TEMPERATURE = 11.234
LENS_TEMPERATURE = 9.6028
MACROPIXEL_SIZE = 4
MISSING_FRAMES = 0
PIXEL_SUBSAMPLING_FLAG = N
SIGNAL_CHAIN_ID = 2
/* RADIOMETRIC DATA ELEMENTS */
BANDWIDTH = 48.0
CENTER_FILTER_WAVELENGTH = 748.0
RADIANCE_OFFSET = 1.01687
RADIANCE_SCALING_FACTOR = 0.00821606
REFLECTANCE_SCALING_FACTOR = 0.000802103
MEX:REFLECTANCE_OFFSET = 0.0992729
/* IMAGE OBJECT DEFINITIONS */
OBJECT = IMAGE
  INTERCHANGE_FORMAT = BINARY
  LINES = 16871
  LINE_SAMPLES = 7824
  SAMPLE_TYPE = UNSIGNED_INTEGER
  SAMPLE_BITS = 8
  BANDS = 1
  BAND_STORAGE_TYPE = BAND_SEQUENTIAL
  MAXIMUM = 255
  MEAN = 182.541
  MINIMUM = 1
  STANDARD_DEVIATION = 98.4826
END_OBJECT = IMAGE
/* MAP OBJECT DEFINITIONS */
OBJECT = IMAGE_MAP_PROJECTION
  ^DATA_SET_MAP_PROJECTION_CATALOG= "DSMAP.CAT"
  A_AXIS_RADIUS = 3396.0
  B_AXIS_RADIUS = 3396.0
  C_AXIS_RADIUS = 3396.0
  CENTER_LATITUDE = -90.0
  CENTER_LONGITUDE = 0.0
  COORDINATE_SYSTEM_NAME = PLANETOGRAPHIC
  COORDINATE_SYSTEM_TYPE = "BODY-FIXED ROTATING"
  EASTERNMOST_LONGITUDE = 329.578
  FIRST_STANDARD_PARALLEL = "N/A"
  LINE_FIRST_PIXEL = 1
  LINE_LAST_PIXEL = 16871
  LINE_PROJECTION_OFFSET = 7224.875
  MAP_PROJECTION_ROTATION = 0.0
  MAP_PROJECTION_TYPE = STEREOGRAPHIC
  MAP_RESOLUTION = 1185.42760773333
  MAP_SCALE = 0.05
  MAXIMUM_LATITUDE = -82.0303
  MINIMUM_LATITUDE = -88.3991
  POSITIVE_LONGITUDE_DIRECTION = EAST
  REFERENCE_LATITUDE = "N/A"
  REFERENCE_LONGITUDE = "N/A"
  SAMPLE_FIRST_PIXEL = 1
  SAMPLE_LAST_PIXEL = 7824
  SAMPLE_PROJECTION_OFFSET = 7123.875
  SECOND_STANDARD_PARALLEL = "N/A"
  WESTERNMOST_LONGITUDE = 175.313
END_OBJECT = IMAGE_MAP_PROJECTION
/* The JPEG2000 image data file associated with this label. */
OBJECT = COMPRESSED_FILE
  FILE_NAME = "H6849_0000_RE3.JP2"
  RECORD_TYPE = UNDEFINED
  FILE_RECORDS = UNK
  ENCODING_TYPE = "JP2"
  INTERCHANGE_FORMAT = BINARY
  UNCOMPRESSED_FILE_NAME = "H6849_0000_RE3.IMG"
  REQUIRED_STORAGE_BYTES = "132037824"
  ^DESCRIPTION = "JP2INFO.TXT"
END_OBJECT = COMPRESSED_FILE
END
