PDS_VERSION_ID = PDS3
/* FILE DATA ELEMENTS */
RECORD_TYPE = STREAM
/* POINTERS TO DATA OBJECTS */
^COMPRESSED_FILE = "H6853_0000_GR3.JP2"
/* IDENTIFICATION DATA ELEMENTS */
DATA_SET_ID = "MEX-M-HRSC-5-REFDR-MAPPROJECTED-V3.0"
DATA_SET_NAME = "MARS EXPRESS HRSC MAP PROJECTED REFDR V3.0"
DETECTOR_ID = MEX_HRSC_GREEN
EVENT_TYPE = "MARS-REGIONAL-MAPPING-Gl-Pf-La"
INSTRUMENT_HOST_ID = MEX
INSTRUMENT_HOST_NAME = "MARS EXPRESS"
INSTRUMENT_ID = HRSC
INSTRUMENT_NAME = "HIGH RESOLUTION STEREO CAMERA"
MISSION_NAME = "MARS EXPRESS"
MISSION_PHASE_NAME = ME_Phase_17
PROCESSING_LEVEL_ID = 3
PRODUCT_CREATION_TIME = 2016-06-29T12:07:32.000Z
PRODUCT_ID = "H6853_0000_GR3.JP2"
RELEASE_ID = 0076
REVISION_ID = 0000
/* QUALITY DATA ELEMENTS */
DATA_QUALITY_ID = 1
DATA_QUALITY_DESC = "Data calculated based on original SPICE kernels"
/* TIME DATA ELEMENTS */
SPACECRAFT_CLOCK_START_COUNT = "1/0189626800.08256"
SPACECRAFT_CLOCK_STOP_COUNT = "1/0189627132.34855"
START_TIME = 2009-05-05T18:07:33.297Z
STOP_TIME = 2009-05-05T18:10:03.016Z
/* ORBITAL DATA ELEMENTS */
ASCENDING_NODE_LONGITUDE = 86.98
MAXIMUM_RESOLUTION = 101.8
FOOTPRINT_POINT_LATITUDE = (-83.8029,-83.925,-84.1342,-84.235, -84.357,-84.531,-84.6191,-84.7347, -84.8146,-84.8907,-84.9096,-84.483, -84.1926,-83.8963,-83.5963,-83.4443, -83.292,-83.0606,-82.9054,-82.6712, -82.5133,-82.3553,-82.1955,-82.035, -81.8744,-81.7138,-81.4728,-81.2323, -81.0718,-80.9111,-80.7506,-80.5902, -80.4299,-80.2696,-80.1095,-79.9494, -79.7893,-79.5497,-79.39,-79.2303, -78.9906,-78.7518,-78.5927,-78.4339, -78.2754,-78.1172,-77.9585,-77.8002, -77.485,-77.078,-77.0272,-76.959, -76.9067,-76.8677,-76.8066,-76.7618, -76.6951,-76.6226,-76.5528,-76.496, -76.5962,-76.9754,-77.203,-77.5057, -77.8105,-77.962,-78.1135,-78.2651, -78.4931,-78.6444,-78.7955,-78.9468, -79.098,-79.2491,-79.4,-79.5508, -79.7013,-79.8518,-80.0019,-80.1518, -80.3014,-80.4507,-80.5996,-80.7481, -80.9708,-81.1179,-81.2651,-81.4113, -81.5548,-81.6979,-81.9093,-82.0486, -82.1872,-82.4572,-82.5912,-82.853, -83.0456,-83.2947,-83.5364,-83.8029)
FOOTPRINT_POINT_LONGITUDE = (254.013,255.267,257.619,258.858,260.47 ,263.013,264.435,266.468,268.003, 269.588,272.491,274.645,275.917,277.071 ,278.122,278.619,279.087,279.76,280.185 ,280.79,281.175,281.543,281.901,282.243 ,282.573,282.888,283.34,283.755,284.022 ,284.284,284.534,284.775,285.007,285.23 ,285.446,285.656,285.858,286.147, 286.333,286.515,286.783,287.031,287.192 ,287.344,287.491,287.63,287.775,287.914 ,288.166,288.14,286.655,284.953,283.833 ,283.053,281.95,281.181,280.094,279.02, 278.061,277.321,276.458,275.94,275.613, 275.151,274.673,274.42,274.16,273.892, 273.479,273.192,272.895,272.59,272.276, 271.952,271.618,271.274,270.918,270.551 ,270.172,269.78,269.375,268.957,268.524 ,268.075,267.376,266.885,266.379, 265.856,265.319,264.762,263.896,263.295 ,262.671,261.367,260.68,259.247,258.101 ,256.488,254.759,254.013)
ORBIT_NUMBER = 6853
ORBITAL_ECCENTRICITY = 0.576
ORBITAL_INCLINATION = 86.77
ORBITAL_SEMIMAJOR_AXIS = 8710.62
PERIAPSIS_ALTITUDE = 312.15
PERIAPSIS_ARGUMENT_ANGLE = 235.41
PERIAPSIS_TIME = 2009-05-05T17:57:17.000Z
SPACECRAFT_ORIENTATION = (0.0,-1.0,0.0)
^MEX_ORIENTATION_DESC = "MEX_ORIENTATION_DESC.TXT"
SPACECRAFT_POINTING_MODE = NADIR
^MEX_POINTING_DESC = "MEX_POINTING_DESC.TXT"
RIGHT_ASCENSION = -1e+32
DECLINATION = -1e+32
OFFSET_ANGLE = -1e+32
SPACECRAFT_SOLAR_DISTANCE = 2.06867e+08
TARGET_NAME = MARS
/* CAMERA DATA ELEMENTS */
DETECTOR_TEMPERATURE = 18.3705
FOCAL_PLANE_TEMPERATURE = 8.5833
INST_CMPRS_NAME = "DISCRETE COSINE TRANSFORMATION (DCT)"
INST_CMPRS_RATIO = 4.75347
INST_CMPRS_QUALITY = 0
INST_CMPRS_QUANTZ_TBL_ID = 0
INSTRUMENT_TEMPERATURE = 12.4574
LENS_TEMPERATURE = 8.9911
MACROPIXEL_SIZE = 4
MISSING_FRAMES = 0
PIXEL_SUBSAMPLING_FLAG = N
SIGNAL_CHAIN_ID = 2
/* RADIOMETRIC DATA ELEMENTS */
BANDWIDTH = 88.0
CENTER_FILTER_WAVELENGTH = 538.0
RADIANCE_OFFSET = 2.01319
RADIANCE_SCALING_FACTOR = 0.033069
REFLECTANCE_SCALING_FACTOR = 0.00121841
MEX:REFLECTANCE_OFFSET = 0.0741751
/* IMAGE OBJECT DEFINITIONS */
OBJECT = IMAGE
  INTERCHANGE_FORMAT = BINARY
  LINES = 5076
  LINE_SAMPLES = 3127
  SAMPLE_TYPE = UNSIGNED_INTEGER
  SAMPLE_BITS = 8
  BANDS = 1
  BAND_STORAGE_TYPE = BAND_SEQUENTIAL
  MAXIMUM = 255
  MEAN = 179.138
  MINIMUM = 1
  STANDARD_DEVIATION = 46.2426
END_OBJECT = IMAGE
/* MAP OBJECT DEFINITIONS */
OBJECT = IMAGE_MAP_PROJECTION
  ^DATA_SET_MAP_PROJECTION_CATALOG= "DSMAP.CAT"
  A_AXIS_RADIUS = 3396.0
  B_AXIS_RADIUS = 3396.0
  C_AXIS_RADIUS = 3396.0
  CENTER_LATITUDE = 0.0
  CENTER_LONGITUDE = 276.0
  COORDINATE_SYSTEM_NAME = PLANETOGRAPHIC
  COORDINATE_SYSTEM_TYPE = "BODY-FIXED ROTATING"
  EASTERNMOST_LONGITUDE = 288.166
  FIRST_STANDARD_PARALLEL = "N/A"
  LINE_FIRST_PIXEL = 1
  LINE_LAST_PIXEL = 5076
  LINE_PROJECTION_OFFSET = -45309.125
  MAP_PROJECTION_ROTATION = 0.0
  MAP_PROJECTION_TYPE = SINUSOIDAL
  MAP_RESOLUTION = 592.713803866667
  MAP_SCALE = 0.1
  MAXIMUM_LATITUDE = -76.496
  MINIMUM_LATITUDE = -84.9096
  POSITIVE_LONGITUDE_DIRECTION = EAST
  REFERENCE_LATITUDE = "N/A"
  REFERENCE_LONGITUDE = "N/A"
  SAMPLE_FIRST_PIXEL = 1
  SAMPLE_LAST_PIXEL = 3127
  SAMPLE_PROJECTION_OFFSET = 1464.375
  SECOND_STANDARD_PARALLEL = "N/A"
  WESTERNMOST_LONGITUDE = 254.013
END_OBJECT = IMAGE_MAP_PROJECTION
/* The JPEG2000 image data file associated with this label. */
OBJECT = COMPRESSED_FILE
  FILE_NAME = "H6853_0000_GR3.JP2"
  RECORD_TYPE = UNDEFINED
  FILE_RECORDS = UNK
  ENCODING_TYPE = "JP2"
  INTERCHANGE_FORMAT = BINARY
  UNCOMPRESSED_FILE_NAME = "H6853_0000_GR3.IMG"
  REQUIRED_STORAGE_BYTES = "15897668"
  ^DESCRIPTION = "JP2INFO.TXT"
END_OBJECT = COMPRESSED_FILE
END
