PDS_VERSION_ID = PDS3
/* FILE DATA ELEMENTS */
RECORD_TYPE = STREAM
/* POINTERS TO DATA OBJECTS */
^COMPRESSED_FILE = "H6853_0000_S23.JP2"
/* IDENTIFICATION DATA ELEMENTS */
DATA_SET_ID = "MEX-M-HRSC-5-REFDR-MAPPROJECTED-V3.0"
DATA_SET_NAME = "MARS EXPRESS HRSC MAP PROJECTED REFDR V3.0"
DETECTOR_ID = MEX_HRSC_S2
EVENT_TYPE = "MARS-REGIONAL-MAPPING-Gl-Pf-La"
INSTRUMENT_HOST_ID = MEX
INSTRUMENT_HOST_NAME = "MARS EXPRESS"
INSTRUMENT_ID = HRSC
INSTRUMENT_NAME = "HIGH RESOLUTION STEREO CAMERA"
MISSION_NAME = "MARS EXPRESS"
MISSION_PHASE_NAME = ME_Phase_17
PROCESSING_LEVEL_ID = 3
PRODUCT_CREATION_TIME = 2016-06-29T12:07:32.000Z
PRODUCT_ID = "H6853_0000_S23.JP2"
RELEASE_ID = 0076
REVISION_ID = 0000
/* QUALITY DATA ELEMENTS */
DATA_QUALITY_ID = 1
DATA_QUALITY_DESC = "Data calculated based on original SPICE kernels"
/* TIME DATA ELEMENTS */
SPACECRAFT_CLOCK_START_COUNT = "1/0189626800.08256"
SPACECRAFT_CLOCK_STOP_COUNT = "1/0189627132.34855"
START_TIME = 2009-05-05T18:09:04.329Z
STOP_TIME = 2009-05-05T18:12:13.016Z
/* ORBITAL DATA ELEMENTS */
ASCENDING_NODE_LONGITUDE = 86.98
MAXIMUM_RESOLUTION = 62.7
FOOTPRINT_POINT_LATITUDE = (-83.6692,-83.8286,-83.9522,-84.0721, -84.1738,-84.2862,-84.3942,-84.4975, -84.5961,-84.6896,-84.7778,-84.8503, -84.9657,-84.8048,-84.6444,-84.4846, -84.3222,-84.159,-83.995,-83.8313, -83.6679,-83.5046,-83.2605,-83.0968, -82.9339,-82.7708,-82.6082,-82.4462, -82.2829,-82.0417,-81.8815,-81.64, -81.4778,-81.3146,-81.1505,-80.8343, -80.6727,-80.5121,-80.3534,-80.1926, -79.8837,-79.4886,-79.251,-79.0912, -78.7839,-78.3948,-78.1632,-77.7777, -77.3198,-77.0716,-77.0424,-77.0217, -76.9929,-76.9449,-76.9064,-76.8775, -76.8334,-76.7733,-76.6997,-76.6604, -76.5878,-76.5182,-76.4603,-76.4505, -76.7388,-77.0312,-77.4675,-77.6852, -77.9785,-78.2726,-78.643,-78.9394, -79.2351,-79.5311,-79.8268,-79.9747, -80.1228,-80.2704,-80.4181,-80.6394, -80.7867,-80.9332,-81.0801,-81.2997, -81.4452,-81.5912,-81.7359,-81.8803, -82.0249,-82.1682,-82.3817,-82.5225, -82.6629,-82.8715,-83.0088,-83.1447, -83.2793,-83.4127,-83.5445,-83.6692)
FOOTPRINT_POINT_LONGITUDE = (254.336,256.05,257.482,258.97,260.32, 261.919,263.578,265.297,267.079,268.926 ,270.837,272.563,274.984,275.789, 276.543,277.251,277.917,278.545,279.137 ,279.696,280.225,280.725,281.429, 281.868,282.286,282.684,283.064,283.426 ,283.771,284.263,284.574,285.016, 285.294,285.56,285.815,286.304,286.532, 286.752,286.965,287.169,287.566,288.017 ,288.269,288.429,288.743,289.104, 289.309,289.629,289.988,289.573,288.401 ,287.672,286.657,285.504,284.501, 283.788,282.795,281.522,280.422,279.727 ,278.636,277.54,276.731,275.513,275.127 ,274.711,274.055,273.71,273.217,272.695 ,271.989,271.385,270.747,270.067, 269.342,268.96,268.565,268.157,267.733, 267.07,266.608,266.132,265.634,264.853, 264.31,263.739,263.152,262.54,261.896, 261.232,260.184,259.453,258.686,257.475 ,256.627,255.743,254.82,253.85,252.838, 254.336)
ORBIT_NUMBER = 6853
ORBITAL_ECCENTRICITY = 0.576
ORBITAL_INCLINATION = 86.77
ORBITAL_SEMIMAJOR_AXIS = 8710.62
PERIAPSIS_ALTITUDE = 312.15
PERIAPSIS_ARGUMENT_ANGLE = 235.41
PERIAPSIS_TIME = 2009-05-05T17:57:17.000Z
SPACECRAFT_ORIENTATION = (0.0,-1.0,0.0)
^MEX_ORIENTATION_DESC = "MEX_ORIENTATION_DESC.TXT"
SPACECRAFT_POINTING_MODE = NADIR
^MEX_POINTING_DESC = "MEX_POINTING_DESC.TXT"
RIGHT_ASCENSION = -1e+32
DECLINATION = -1e+32
OFFSET_ANGLE = -1e+32
SPACECRAFT_SOLAR_DISTANCE = 2.06867e+08
TARGET_NAME = MARS
/* CAMERA DATA ELEMENTS */
DETECTOR_TEMPERATURE = 18.7783
FOCAL_PLANE_TEMPERATURE = 8.5833
INST_CMPRS_NAME = "DISCRETE COSINE TRANSFORMATION (DCT)"
INST_CMPRS_RATIO = 13.0342
INST_CMPRS_QUALITY = 0
INST_CMPRS_QUANTZ_TBL_ID = 0
INSTRUMENT_TEMPERATURE = 12.4574
LENS_TEMPERATURE = 8.9911
MACROPIXEL_SIZE = 2
MISSING_FRAMES = 0
PIXEL_SUBSAMPLING_FLAG = N
SIGNAL_CHAIN_ID = 1
/* RADIOMETRIC DATA ELEMENTS */
BANDWIDTH = 178.0
CENTER_FILTER_WAVELENGTH = 679.0
RADIANCE_OFFSET = 6.59967
RADIANCE_SCALING_FACTOR = 0.0406702
REFLECTANCE_SCALING_FACTOR = 0.000921703
MEX:REFLECTANCE_OFFSET = 0.149567
/* IMAGE OBJECT DEFINITIONS */
OBJECT = IMAGE
  INTERCHANGE_FORMAT = BINARY
  LINES = 10151
  LINE_SAMPLES = 6253
  SAMPLE_TYPE = UNSIGNED_INTEGER
  SAMPLE_BITS = 8
  BANDS = 1
  BAND_STORAGE_TYPE = BAND_SEQUENTIAL
  MAXIMUM = 255
  MEAN = 233.304
  MINIMUM = 1
  STANDARD_DEVIATION = 45.9172
END_OBJECT = IMAGE
/* MAP OBJECT DEFINITIONS */
OBJECT = IMAGE_MAP_PROJECTION
  ^DATA_SET_MAP_PROJECTION_CATALOG= "DSMAP.CAT"
  A_AXIS_RADIUS = 3396.0
  B_AXIS_RADIUS = 3396.0
  C_AXIS_RADIUS = 3396.0
  CENTER_LATITUDE = 0.0
  CENTER_LONGITUDE = 276.0
  COORDINATE_SYSTEM_NAME = PLANETOGRAPHIC
  COORDINATE_SYSTEM_TYPE = "BODY-FIXED ROTATING"
  EASTERNMOST_LONGITUDE = 289.988
  FIRST_STANDARD_PARALLEL = "N/A"
  LINE_FIRST_PIXEL = 1
  LINE_LAST_PIXEL = 10151
  LINE_PROJECTION_OFFSET = -90617.75
  MAP_PROJECTION_ROTATION = 0.0
  MAP_PROJECTION_TYPE = SINUSOIDAL
  MAP_RESOLUTION = 1185.42760773333
  MAP_SCALE = 0.05
  MAXIMUM_LATITUDE = -76.45050000000001
  MINIMUM_LATITUDE = -84.9657
  POSITIVE_LONGITUDE_DIRECTION = EAST
  REFERENCE_LATITUDE = "N/A"
  REFERENCE_LONGITUDE = "N/A"
  SAMPLE_FIRST_PIXEL = 1
  SAMPLE_LAST_PIXEL = 6253
  SAMPLE_PROJECTION_OFFSET = 2929.25
  SECOND_STANDARD_PARALLEL = "N/A"
  WESTERNMOST_LONGITUDE = 252.838
END_OBJECT = IMAGE_MAP_PROJECTION
/* The JPEG2000 image data file associated with this label. */
OBJECT = COMPRESSED_FILE
  FILE_NAME = "H6853_0000_S23.JP2"
  RECORD_TYPE = UNDEFINED
  FILE_RECORDS = UNK
  ENCODING_TYPE = "JP2"
  INTERCHANGE_FORMAT = BINARY
  UNCOMPRESSED_FILE_NAME = "H6853_0000_S23.IMG"
  REQUIRED_STORAGE_BYTES = "63505468"
  ^DESCRIPTION = "JP2INFO.TXT"
END_OBJECT = COMPRESSED_FILE
END
