PDS_VERSION_ID = PDS3
/* FILE DATA ELEMENTS */
RECORD_TYPE = STREAM
/* POINTERS TO DATA OBJECTS */
^COMPRESSED_FILE = "H6855_0000_S23.JP2"
/* IDENTIFICATION DATA ELEMENTS */
DATA_SET_ID = "MEX-M-HRSC-5-REFDR-MAPPROJECTED-V3.0"
DATA_SET_NAME = "MARS EXPRESS HRSC MAP PROJECTED REFDR V3.0"
DETECTOR_ID = MEX_HRSC_S2
EVENT_TYPE = "MARS-REGIONAL-MAPPING-Gl-La"
INSTRUMENT_HOST_ID = MEX
INSTRUMENT_HOST_NAME = "MARS EXPRESS"
INSTRUMENT_ID = HRSC
INSTRUMENT_NAME = "HIGH RESOLUTION STEREO CAMERA"
MISSION_NAME = "MARS EXPRESS"
MISSION_PHASE_NAME = ME_Phase_17
PROCESSING_LEVEL_ID = 3
PRODUCT_CREATION_TIME = 2016-06-29T12:07:32.000Z
PRODUCT_ID = "H6855_0000_S23.JP2"
RELEASE_ID = 0076
REVISION_ID = 0000
/* QUALITY DATA ELEMENTS */
DATA_QUALITY_ID = 1
DATA_QUALITY_DESC = "Data calculated based on original SPICE kernels"
/* TIME DATA ELEMENTS */
SPACECRAFT_CLOCK_START_COUNT = "1/0189676405.07288"
SPACECRAFT_CLOCK_STOP_COUNT = "1/0189676845.23465"
START_TIME = 2009-05-06T07:55:36.305Z
STOP_TIME = 2009-05-06T08:00:45.872Z
/* ORBITAL DATA ELEMENTS */
ASCENDING_NODE_LONGITUDE = 86.94
MAXIMUM_RESOLUTION = 57.7
FOOTPRINT_POINT_LATITUDE = (-85.9589,-86.2774,-86.5894,-86.8924, -87.1832,-87.4576,-87.4648,-87.1671, -86.7421,-86.4096,-85.9492,-85.4745, -85.2323,-84.9867,-84.7382,-84.4877, -84.2348,-83.9799,-83.7229,-83.464, -83.202,-82.9386,-82.674,-82.4083, -82.1401,-81.8697,-81.5989,-81.3247, -81.0472,-80.7676,-80.4866,-80.2076, -79.9181,-79.6342,-79.2083,-78.9265, -78.6448,-78.366,-78.0881,-77.8116, -77.5367,-77.1261,-76.8508,-76.5798, -76.3116,-76.0441,-75.6449,-75.3767, -75.1164,-74.8053,-74.7823,-74.7448, -74.6752,-74.6039,-74.5573,-74.4504, -74.3484,-74.2811,-74.5146,-74.7682, -75.023,-75.2783,-75.5355,-75.7917, -76.0492,-76.4424,-76.7004,-76.9723, -77.2365,-77.6342,-77.8993,-78.1673, -78.5689,-78.8375,-79.2419,-79.5085, -79.7731,-80.035,-80.2944,-80.5502, -80.8036,-81.1792,-81.4253,-81.6684, -81.9077,-82.1436,-82.3767,-82.6057, -82.8312,-83.0533,-83.2713,-83.484, -83.7955,-84.19,-84.5599,-84.9041, -85.2895,-85.5559,-85.7278,-85.9589)
FOOTPRINT_POINT_LONGITUDE = (31.9627,34.418,37.322,40.794,44.9951, 50.1444,59.4391,64.0712,68.9288,71.8251 ,74.9578,77.4702,78.5478,79.5245, 80.4116,81.2245,81.9725,82.6601,83.2953 ,83.8838,84.4299,84.9385,85.4146, 85.8606,86.2776,86.6702,87.0418,87.3898 ,87.7158,88.0238,88.3158,88.5997, 88.8544,89.1057,89.4516,89.667,89.8689, 90.0623,90.2452,90.4193,90.585,90.8179, 90.9596,91.099,91.2344,91.363,91.5453, 91.6556,91.7702,90.7895,89.5455,88.0353 ,85.8624,84.1168,83.05,81.0766,79.388, 78.3587,77.8483,77.6331,77.408,77.1741, 76.9277,76.6744,76.4084,75.9733,75.6786 ,75.3364,74.9989,74.46,74.0797,73.6723, 73.0238,72.5606,71.8123,71.2842,70.7286 ,70.1452,69.5317,68.8906,68.2141, 67.1273,66.3557,65.5415,64.6858,63.7813 ,62.8213,61.8062,60.7297,59.583,58.3658 ,57.0786,54.9799,51.8923,48.4138,44.454 ,38.7903,33.6521,29.4456,31.9627)
ORBIT_NUMBER = 6855
ORBITAL_ECCENTRICITY = 0.576
ORBITAL_INCLINATION = 86.78
ORBITAL_SEMIMAJOR_AXIS = 8707.5
PERIAPSIS_ALTITUDE = 311.41
PERIAPSIS_ARGUMENT_ANGLE = 235.08
PERIAPSIS_TIME = 2009-05-06T07:44:42.000Z
SPACECRAFT_ORIENTATION = (0.0,-1.0,0.0)
^MEX_ORIENTATION_DESC = "MEX_ORIENTATION_DESC.TXT"
SPACECRAFT_POINTING_MODE = ACROSSTRACK
^MEX_POINTING_DESC = "MEX_POINTING_DESC.TXT"
RIGHT_ASCENSION = -1e+32
DECLINATION = -1e+32
OFFSET_ANGLE = -0.458
SPACECRAFT_SOLAR_DISTANCE = 2.06885e+08
TARGET_NAME = MARS
/* CAMERA DATA ELEMENTS */
DETECTOR_TEMPERATURE = 18.9822
FOCAL_PLANE_TEMPERATURE = 10.4184
INST_CMPRS_NAME = "DISCRETE COSINE TRANSFORMATION (DCT)"
INST_CMPRS_RATIO = 8.74138
INST_CMPRS_QUALITY = 0
INST_CMPRS_QUANTZ_TBL_ID = 0
INSTRUMENT_TEMPERATURE = 11.234
LENS_TEMPERATURE = 9.3989
MACROPIXEL_SIZE = 2
MISSING_FRAMES = 0
PIXEL_SUBSAMPLING_FLAG = N
SIGNAL_CHAIN_ID = 1
/* RADIOMETRIC DATA ELEMENTS */
BANDWIDTH = 178.0
CENTER_FILTER_WAVELENGTH = 679.0
RADIANCE_OFFSET = 5.65135
RADIANCE_SCALING_FACTOR = 0.0419032
REFLECTANCE_SCALING_FACTOR = 0.000949809
MEX:REFLECTANCE_OFFSET = 0.128098
/* IMAGE OBJECT DEFINITIONS */
OBJECT = IMAGE
  INTERCHANGE_FORMAT = BINARY
  LINES = 15746
  LINE_SAMPLES = 8399
  SAMPLE_TYPE = UNSIGNED_INTEGER
  SAMPLE_BITS = 8
  BANDS = 1
  BAND_STORAGE_TYPE = BAND_SEQUENTIAL
  MAXIMUM = 255
  MEAN = 81.9494
  MINIMUM = 1
  STANDARD_DEVIATION = 77.399
END_OBJECT = IMAGE
/* MAP OBJECT DEFINITIONS */
OBJECT = IMAGE_MAP_PROJECTION
  ^DATA_SET_MAP_PROJECTION_CATALOG= "DSMAP.CAT"
  A_AXIS_RADIUS = 3396.0
  B_AXIS_RADIUS = 3396.0
  C_AXIS_RADIUS = 3396.0
  CENTER_LATITUDE = 0.0
  CENTER_LONGITUDE = 76.0
  COORDINATE_SYSTEM_NAME = PLANETOGRAPHIC
  COORDINATE_SYSTEM_TYPE = "BODY-FIXED ROTATING"
  EASTERNMOST_LONGITUDE = 91.7702
  FIRST_STANDARD_PARALLEL = "N/A"
  LINE_FIRST_PIXEL = 1
  LINE_LAST_PIXEL = 15746
  LINE_PROJECTION_OFFSET = -88107.75
  MAP_PROJECTION_ROTATION = 0.0
  MAP_PROJECTION_TYPE = SINUSOIDAL
  MAP_RESOLUTION = 1185.42760773333
  MAP_SCALE = 0.05
  MAXIMUM_LATITUDE = -74.2811
  MINIMUM_LATITUDE = -87.4648
  POSITIVE_LONGITUDE_DIRECTION = EAST
  REFERENCE_LATITUDE = "N/A"
  REFERENCE_LONGITUDE = "N/A"
  SAMPLE_FIRST_PIXEL = 1
  SAMPLE_LAST_PIXEL = 8399
  SAMPLE_PROJECTION_OFFSET = 3982.75
  SECOND_STANDARD_PARALLEL = "N/A"
  WESTERNMOST_LONGITUDE = 29.4456
END_OBJECT = IMAGE_MAP_PROJECTION
/* The JPEG2000 image data file associated with this label. */
OBJECT = COMPRESSED_FILE
  FILE_NAME = "H6855_0000_S23.JP2"
  RECORD_TYPE = UNDEFINED
  FILE_RECORDS = UNK
  ENCODING_TYPE = "JP2"
  INTERCHANGE_FORMAT = BINARY
  UNCOMPRESSED_FILE_NAME = "H6855_0000_S23.IMG"
  REQUIRED_STORAGE_BYTES = "132284250"
  ^DESCRIPTION = "JP2INFO.TXT"
END_OBJECT = COMPRESSED_FILE
END
