PDS_VERSION_ID = PDS3
/* FILE DATA ELEMENTS */
RECORD_TYPE = STREAM
/* POINTERS TO DATA OBJECTS */
^COMPRESSED_FILE = "H6860_0000_IR3.JP2"
/* IDENTIFICATION DATA ELEMENTS */
DATA_SET_ID = "MEX-M-HRSC-5-REFDR-MAPPROJECTED-V3.0"
DATA_SET_NAME = "MARS EXPRESS HRSC MAP PROJECTED REFDR V3.0"
DETECTOR_ID = MEX_HRSC_IR
EVENT_TYPE = "MARS-REGIONAL-MAPPING-Gl-Pf-La"
INSTRUMENT_HOST_ID = MEX
INSTRUMENT_HOST_NAME = "MARS EXPRESS"
INSTRUMENT_ID = HRSC
INSTRUMENT_NAME = "HIGH RESOLUTION STEREO CAMERA"
MISSION_NAME = "MARS EXPRESS"
MISSION_PHASE_NAME = ME_Phase_17
PROCESSING_LEVEL_ID = 3
PRODUCT_CREATION_TIME = 2016-06-29T12:07:32.000Z
PRODUCT_ID = "H6860_0000_IR3.JP2"
RELEASE_ID = 0076
REVISION_ID = 0000
/* QUALITY DATA ELEMENTS */
DATA_QUALITY_ID = 1
DATA_QUALITY_DESC = "Data calculated based on original SPICE kernels"
/* TIME DATA ELEMENTS */
SPACECRAFT_CLOCK_START_COUNT = "1/0189800526.09061"
SPACECRAFT_CLOCK_STOP_COUNT = "1/0189800941.32122"
START_TIME = 2009-05-07T18:22:17.924Z
STOP_TIME = 2009-05-07T18:25:39.278Z
/* ORBITAL DATA ELEMENTS */
ASCENDING_NODE_LONGITUDE = 86.84
MAXIMUM_RESOLUTION = 96.2
FOOTPRINT_POINT_LATITUDE = (-85.7591,-86.0098,-86.2735,-86.5323, -86.7538,-87.1058,-87.1041,-86.8864, -86.5657,-86.2149,-85.8412,-85.5495, -85.3481,-85.1443,-84.9365,-84.7251, -84.512,-84.1846,-83.9644,-83.7398, -83.5141,-83.2851,-83.0523,-82.8203, -82.5845,-82.2274,-81.9886,-81.6293, -81.3846,-81.1454,-80.9057,-80.6615, -80.4224,-80.1845,-79.9431,-79.7059, -79.4655,-79.223,-78.9839,-78.7427, -78.5037,-78.2669,-78.0267,-77.7867, -77.5485,-77.3083,-77.0695,-76.7121, -76.4741,-76.0178,-75.9764,-75.9042, -75.8503,-75.7793,-75.6704,-75.492, -75.5421,-75.7708,-76.0052,-76.2346, -76.4662,-76.6956,-77.0402,-77.3819, -77.6111,-77.8352,-78.0641,-78.2947, -78.6379,-78.8694,-79.0952,-79.3272, -79.5535,-79.7804,-80.0062,-80.2308, -80.4548,-80.678,-80.9025,-81.1225, -81.3415,-81.5591,-81.7729,-81.9841, -82.191,-82.3965,-82.5976,-82.7944, -82.9889,-83.1782,-83.3639,-83.6333, -83.8082,-84.2218,-84.5267,-84.8064, -84.9983,-85.2251,-85.3745,-85.7591)
FOOTPRINT_POINT_LONGITUDE = (244.814,246.349,248.218,250.374, 252.546,256.842,261.658,266.391,271.748 ,276.216,279.941,282.327,283.77,285.089 ,286.312,287.443,288.486,289.924, 290.794,291.615,292.378,293.095,293.78, 294.404,295.0,295.828,296.335,297.042, 297.501,297.909,298.297,298.682,299.026 ,299.348,299.667,299.956,300.242, 300.521,300.777,301.029,301.263,301.481 ,301.7,301.91,302.107,302.301,302.485, 302.746,302.912,302.897,301.634,299.865 ,298.731,297.404,295.586,293.116, 292.177,291.917,291.648,291.368,291.078 ,290.776,290.301,289.797,289.443, 289.076,288.692,288.291,287.658,287.211 ,286.745,286.255,285.743,285.207, 284.645,284.055,283.436,282.784,282.097 ,281.376,280.616,279.816,278.982, 278.103,277.187,276.219,275.207,274.143 ,273.022,271.847,270.607,268.634, 267.223,263.38,259.946,256.159,253.068, 248.65,245.084,244.814)
ORBIT_NUMBER = 6860
ORBITAL_ECCENTRICITY = 0.576
ORBITAL_INCLINATION = 86.77
ORBITAL_SEMIMAJOR_AXIS = 8711.64
PERIAPSIS_ALTITUDE = 312.29
PERIAPSIS_ARGUMENT_ANGLE = 234.22
PERIAPSIS_TIME = 2009-05-07T18:13:08.000Z
SPACECRAFT_ORIENTATION = (0.0,-1.0,0.0)
^MEX_ORIENTATION_DESC = "MEX_ORIENTATION_DESC.TXT"
SPACECRAFT_POINTING_MODE = NADIR
^MEX_POINTING_DESC = "MEX_POINTING_DESC.TXT"
RIGHT_ASCENSION = -1e+32
DECLINATION = -1e+32
OFFSET_ANGLE = -1e+32
SPACECRAFT_SOLAR_DISTANCE = 2.06934e+08
TARGET_NAME = MARS
/* CAMERA DATA ELEMENTS */
DETECTOR_TEMPERATURE = 17.351
FOCAL_PLANE_TEMPERATURE = 8.7872
INST_CMPRS_NAME = "DISCRETE COSINE TRANSFORMATION (DCT)"
INST_CMPRS_RATIO = 6.9343
INST_CMPRS_QUALITY = 0
INST_CMPRS_QUANTZ_TBL_ID = 0
INSTRUMENT_TEMPERATURE = 11.234
LENS_TEMPERATURE = 9.3989
MACROPIXEL_SIZE = 4
MISSING_FRAMES = 0
PIXEL_SUBSAMPLING_FLAG = N
SIGNAL_CHAIN_ID = 2
/* RADIOMETRIC DATA ELEMENTS */
BANDWIDTH = 81.0
CENTER_FILTER_WAVELENGTH = 955.5
RADIANCE_OFFSET = 1.42358
RADIANCE_SCALING_FACTOR = 0.011838
REFLECTANCE_SCALING_FACTOR = 0.00109363
MEX:REFLECTANCE_OFFSET = 0.131515
/* IMAGE OBJECT DEFINITIONS */
OBJECT = IMAGE
  INTERCHANGE_FORMAT = BINARY
  LINES = 6996
  LINE_SAMPLES = 4278
  SAMPLE_TYPE = UNSIGNED_INTEGER
  SAMPLE_BITS = 8
  BANDS = 1
  BAND_STORAGE_TYPE = BAND_SEQUENTIAL
  MAXIMUM = 255
  MEAN = 192.298
  MINIMUM = 1
  STANDARD_DEVIATION = 43.225
END_OBJECT = IMAGE
/* MAP OBJECT DEFINITIONS */
OBJECT = IMAGE_MAP_PROJECTION
  ^DATA_SET_MAP_PROJECTION_CATALOG= "DSMAP.CAT"
  A_AXIS_RADIUS = 3396.0
  B_AXIS_RADIUS = 3396.0
  C_AXIS_RADIUS = 3396.0
  CENTER_LATITUDE = 0.0
  CENTER_LONGITUDE = 289.0
  COORDINATE_SYSTEM_NAME = PLANETOGRAPHIC
  COORDINATE_SYSTEM_TYPE = "BODY-FIXED ROTATING"
  EASTERNMOST_LONGITUDE = 302.912
  FIRST_STANDARD_PARALLEL = "N/A"
  LINE_FIRST_PIXEL = 1
  LINE_LAST_PIXEL = 6996
  LINE_PROJECTION_OFFSET = -44680.875
  MAP_PROJECTION_ROTATION = 0.0
  MAP_PROJECTION_TYPE = SINUSOIDAL
  MAP_RESOLUTION = 592.713803866667
  MAP_SCALE = 0.1
  MAXIMUM_LATITUDE = -75.492
  MINIMUM_LATITUDE = -87.1058
  POSITIVE_LONGITUDE_DIRECTION = EAST
  REFERENCE_LATITUDE = "N/A"
  REFERENCE_LONGITUDE = "N/A"
  SAMPLE_FIRST_PIXEL = 1
  SAMPLE_LAST_PIXEL = 4278
  SAMPLE_PROJECTION_OFFSET = 2157.375
  SECOND_STANDARD_PARALLEL = "N/A"
  WESTERNMOST_LONGITUDE = 244.814
END_OBJECT = IMAGE_MAP_PROJECTION
/* The JPEG2000 image data file associated with this label. */
OBJECT = COMPRESSED_FILE
  FILE_NAME = "H6860_0000_IR3.JP2"
  RECORD_TYPE = UNDEFINED
  FILE_RECORDS = UNK
  ENCODING_TYPE = "JP2"
  INTERCHANGE_FORMAT = BINARY
  UNCOMPRESSED_FILE_NAME = "H6860_0000_IR3.IMG"
  REQUIRED_STORAGE_BYTES = "29954556"
  ^DESCRIPTION = "JP2INFO.TXT"
END_OBJECT = COMPRESSED_FILE
END
