PDS_VERSION_ID = PDS3
/* FILE DATA ELEMENTS */
RECORD_TYPE = STREAM
/* POINTERS TO DATA OBJECTS */
^COMPRESSED_FILE = "H6860_0000_P13.JP2"
/* IDENTIFICATION DATA ELEMENTS */
DATA_SET_ID = "MEX-M-HRSC-5-REFDR-MAPPROJECTED-V3.0"
DATA_SET_NAME = "MARS EXPRESS HRSC MAP PROJECTED REFDR V3.0"
DETECTOR_ID = MEX_HRSC_P1
EVENT_TYPE = "MARS-REGIONAL-MAPPING-Gl-Pf-La"
INSTRUMENT_HOST_ID = MEX
INSTRUMENT_HOST_NAME = "MARS EXPRESS"
INSTRUMENT_ID = HRSC
INSTRUMENT_NAME = "HIGH RESOLUTION STEREO CAMERA"
MISSION_NAME = "MARS EXPRESS"
MISSION_PHASE_NAME = ME_Phase_17
PROCESSING_LEVEL_ID = 3
PRODUCT_CREATION_TIME = 2016-06-29T12:07:32.000Z
PRODUCT_ID = "H6860_0000_P13.JP2"
RELEASE_ID = 0076
REVISION_ID = 0000
/* QUALITY DATA ELEMENTS */
DATA_QUALITY_ID = 1
DATA_QUALITY_DESC = "Data calculated based on original SPICE kernels"
/* TIME DATA ELEMENTS */
SPACECRAFT_CLOCK_START_COUNT = "1/0189800526.09061"
SPACECRAFT_CLOCK_STOP_COUNT = "1/0189800941.32122"
START_TIME = 2009-05-07T18:22:27.600Z
STOP_TIME = 2009-05-07T18:25:53.720Z
/* ORBITAL DATA ELEMENTS */
ASCENDING_NODE_LONGITUDE = 86.84
MAXIMUM_RESOLUTION = 48
FOOTPRINT_POINT_LATITUDE = (-85.4465,-85.6607,-85.9429,-86.3239, -86.7102,-86.9539,-87.0371,-86.806, -86.4686,-86.2886,-86.1036,-85.9114, -85.6159,-85.4118,-85.2051,-84.8874, -84.6719,-84.3418,-84.1191,-83.8925, -83.6639,-83.4325,-83.1986,-82.9609, -82.7235,-82.4842,-82.2453,-82.0067, -81.6478,-81.4048,-81.166,-80.9265, -80.6844,-80.4454,-80.2077,-79.9675, -79.6106,-79.3697,-79.0108,-78.7717, -78.5334,-78.2972,-78.0584,-77.7012, -77.3443,-77.1067,-76.7514,-76.515, -76.2788,-76.0436,-75.9622,-75.8821, -75.791,-75.6594,-75.5887,-75.5207, -75.4018,-75.7454,-75.9773,-76.2052, -76.435,-76.6632,-77.0052,-77.2327, -77.4605,-77.7979,-78.1395,-78.3691, -78.5952,-78.8241,-79.1653,-79.3944, -79.7327,-79.9575,-80.1816,-80.4048, -80.6273,-80.8499,-81.1807,-81.3985, -81.7239,-81.9385,-82.1505,-82.3588, -82.5649,-82.7648,-83.0599,-83.2504, -83.4373,-83.6188,-83.7967,-83.9679, -84.1347,-84.2958,-84.4503,-84.6706, -84.8084,-85.0019,-85.2304,-85.4465)
FOOTPRINT_POINT_LONGITUDE = (243.481,244.611,246.304,249.059, 252.622,255.437,263.675,268.261,273.425 ,275.668,277.7,279.569,282.059,283.56, 284.929,286.789,287.91,289.443,290.37, 291.238,292.047,292.803,293.512,294.188 ,294.803,295.389,295.932,296.438, 297.143,297.599,298.006,298.393,298.772 ,299.117,299.438,299.755,300.188, 300.472,300.864,301.111,301.345,301.563 ,301.78,302.088,302.377,302.56,302.82, 302.985,303.144,303.295,301.758,299.774 ,297.926,295.676,294.621,293.68,292.194 ,291.811,291.546,291.269,290.981, 290.682,290.211,289.881,289.537,288.994 ,288.417,288.013,287.59,287.148,286.447 ,285.953,285.166,284.61,284.027,283.414 ,282.77,282.092,281.007,280.235,278.995 ,278.111,277.18,276.205,275.176,274.101 ,272.376,271.153,269.861,268.508, 267.072,265.575,263.988,262.32,260.569, 257.766,255.788,252.628,248.096, 243.481)
ORBIT_NUMBER = 6860
ORBITAL_ECCENTRICITY = 0.576
ORBITAL_INCLINATION = 86.77
ORBITAL_SEMIMAJOR_AXIS = 8711.64
PERIAPSIS_ALTITUDE = 312.29
PERIAPSIS_ARGUMENT_ANGLE = 234.22
PERIAPSIS_TIME = 2009-05-07T18:13:08.000Z
SPACECRAFT_ORIENTATION = (0.0,-1.0,0.0)
^MEX_ORIENTATION_DESC = "MEX_ORIENTATION_DESC.TXT"
SPACECRAFT_POINTING_MODE = NADIR
^MEX_POINTING_DESC = "MEX_POINTING_DESC.TXT"
RIGHT_ASCENSION = -1e+32
DECLINATION = -1e+32
OFFSET_ANGLE = -1e+32
SPACECRAFT_SOLAR_DISTANCE = 2.06934e+08
TARGET_NAME = MARS
/* CAMERA DATA ELEMENTS */
DETECTOR_TEMPERATURE = 17.351
FOCAL_PLANE_TEMPERATURE = 8.7872
INST_CMPRS_NAME = "DISCRETE COSINE TRANSFORMATION (DCT)"
INST_CMPRS_RATIO = 9.82805
INST_CMPRS_QUALITY = 0
INST_CMPRS_QUANTZ_TBL_ID = 0
INSTRUMENT_TEMPERATURE = 11.234
LENS_TEMPERATURE = 9.3989
MACROPIXEL_SIZE = 2
MISSING_FRAMES = 0
PIXEL_SUBSAMPLING_FLAG = N
SIGNAL_CHAIN_ID = 3
/* RADIOMETRIC DATA ELEMENTS */
BANDWIDTH = 174.0
CENTER_FILTER_WAVELENGTH = 675.0
RADIANCE_OFFSET = 5.62209
RADIANCE_SCALING_FACTOR = 0.0425668
REFLECTANCE_SCALING_FACTOR = 0.000980437
MEX:REFLECTANCE_OFFSET = 0.129493
/* IMAGE OBJECT DEFINITIONS */
OBJECT = IMAGE
  INTERCHANGE_FORMAT = BINARY
  LINES = 13992
  LINE_SAMPLES = 8556
  SAMPLE_TYPE = UNSIGNED_INTEGER
  SAMPLE_BITS = 8
  BANDS = 1
  BAND_STORAGE_TYPE = BAND_SEQUENTIAL
  MAXIMUM = 255
  MEAN = 223.131
  MINIMUM = 1
  STANDARD_DEVIATION = 50.0972
END_OBJECT = IMAGE
/* MAP OBJECT DEFINITIONS */
OBJECT = IMAGE_MAP_PROJECTION
  ^DATA_SET_MAP_PROJECTION_CATALOG= "DSMAP.CAT"
  A_AXIS_RADIUS = 3396.0
  B_AXIS_RADIUS = 3396.0
  C_AXIS_RADIUS = 3396.0
  CENTER_LATITUDE = 0.0
  CENTER_LONGITUDE = 289.0
  COORDINATE_SYSTEM_NAME = PLANETOGRAPHIC
  COORDINATE_SYSTEM_TYPE = "BODY-FIXED ROTATING"
  EASTERNMOST_LONGITUDE = 303.295
  FIRST_STANDARD_PARALLEL = "N/A"
  LINE_FIRST_PIXEL = 1
  LINE_LAST_PIXEL = 13992
  LINE_PROJECTION_OFFSET = -89361.25
  MAP_PROJECTION_ROTATION = 0.0
  MAP_PROJECTION_TYPE = SINUSOIDAL
  MAP_RESOLUTION = 1185.42760773333
  MAP_SCALE = 0.05
  MAXIMUM_LATITUDE = -75.40179999999999
  MINIMUM_LATITUDE = -87.0371
  POSITIVE_LONGITUDE_DIRECTION = EAST
  REFERENCE_LATITUDE = "N/A"
  REFERENCE_LONGITUDE = "N/A"
  SAMPLE_FIRST_PIXEL = 1
  SAMPLE_LAST_PIXEL = 8556
  SAMPLE_PROJECTION_OFFSET = 4315.25
  SECOND_STANDARD_PARALLEL = "N/A"
  WESTERNMOST_LONGITUDE = 243.481
END_OBJECT = IMAGE_MAP_PROJECTION
/* The JPEG2000 image data file associated with this label. */
OBJECT = COMPRESSED_FILE
  FILE_NAME = "H6860_0000_P13.JP2"
  RECORD_TYPE = UNDEFINED
  FILE_RECORDS = UNK
  ENCODING_TYPE = "JP2"
  INTERCHANGE_FORMAT = BINARY
  UNCOMPRESSED_FILE_NAME = "H6860_0000_P13.IMG"
  REQUIRED_STORAGE_BYTES = "119749776"
  ^DESCRIPTION = "JP2INFO.TXT"
END_OBJECT = COMPRESSED_FILE
END
