PDS_VERSION_ID = PDS3
/* FILE DATA ELEMENTS */
RECORD_TYPE = STREAM
/* POINTERS TO DATA OBJECTS */
^COMPRESSED_FILE = "H6860_0000_RE3.JP2"
/* IDENTIFICATION DATA ELEMENTS */
DATA_SET_ID = "MEX-M-HRSC-5-REFDR-MAPPROJECTED-V3.0"
DATA_SET_NAME = "MARS EXPRESS HRSC MAP PROJECTED REFDR V3.0"
DETECTOR_ID = MEX_HRSC_RED
EVENT_TYPE = "MARS-REGIONAL-MAPPING-Gl-Pf-La"
INSTRUMENT_HOST_ID = MEX
INSTRUMENT_HOST_NAME = "MARS EXPRESS"
INSTRUMENT_ID = HRSC
INSTRUMENT_NAME = "HIGH RESOLUTION STEREO CAMERA"
MISSION_NAME = "MARS EXPRESS"
MISSION_PHASE_NAME = ME_Phase_17
PROCESSING_LEVEL_ID = 3
PRODUCT_CREATION_TIME = 2016-06-29T12:07:32.000Z
PRODUCT_ID = "H6860_0000_RE3.JP2"
RELEASE_ID = 0076
REVISION_ID = 0000
/* QUALITY DATA ELEMENTS */
DATA_QUALITY_ID = 1
DATA_QUALITY_DESC = "Data calculated based on original SPICE kernels"
/* TIME DATA ELEMENTS */
SPACECRAFT_CLOCK_START_COUNT = "1/0189800526.09061"
SPACECRAFT_CLOCK_STOP_COUNT = "1/0189800941.32122"
START_TIME = 2009-05-07T18:24:08.119Z
STOP_TIME = 2009-05-07T18:28:35.216Z
/* ORBITAL DATA ELEMENTS */
ASCENDING_NODE_LONGITUDE = 86.84
MAXIMUM_RESOLUTION = 114.5
FOOTPRINT_POINT_LATITUDE = (-85.3011,-85.6744,-86.0772,-86.3757, -86.5756,-86.8569,-87.1887,-87.005, -86.8105,-86.6076,-86.3983,-86.1835, -85.9643,-85.7417,-85.5162,-85.2879, -85.0592,-84.8273,-84.5941,-84.3608, -84.1269,-83.8926,-83.6588,-83.4238, -83.189,-82.9574,-82.7232,-82.4865, -82.2525,-82.0207,-81.7859,-81.4375, -81.0864,-80.7398,-80.5074,-80.1671, -79.9381,-79.5944,-79.3637,-79.1364, -78.9101,-78.5714,-78.2328,-78.0099, -77.5668,-77.128,-76.69,-76.3636, -75.9828,-75.9393,-75.9055,-75.8353, -75.7587,-75.6912,-75.6022,-75.5219, -75.463,-75.3917,-75.4346,-75.8477, -76.3704,-76.8967,-77.1104,-77.5317, -77.7453,-78.0645,-78.2818,-78.7057, -78.9235,-79.1378,-79.5591,-79.7731, -79.9866,-80.2004,-80.4139,-80.6273, -80.9437,-81.1547,-81.366,-81.5768, -81.8895,-82.0955,-82.3007,-82.5044, -82.7054,-82.9047,-83.1013,-83.295, -83.4854,-83.6722,-83.8548,-84.0327, -84.2055,-84.3725,-84.533,-84.6864, -84.8318,-84.9683,-85.0951,-85.3011)
FOOTPRINT_POINT_LONGITUDE = (245.251,247.559,250.596,253.342, 255.497,259.104,265.864,269.588,272.86, 275.737,278.274,280.52,282.517,284.3, 285.898,287.337,288.638,289.818,290.893 ,291.875,292.776,293.604,294.369, 295.076,295.731,296.343,296.912,297.44, 297.937,298.405,298.841,299.45,300.004, 300.517,300.834,301.287,301.568,301.962 ,302.207,302.443,302.669,302.989, 303.287,303.478,303.837,304.171,304.477 ,304.693,303.977,302.359,301.289, 299.431,297.723,296.422,294.875,293.6, 292.712,291.704,290.803,290.332,289.682 ,288.965,288.649,288.007,287.656,287.11 ,286.707,285.901,285.443,284.982, 284.035,283.508,282.958,282.376,281.766 ,281.122,280.112,279.387,278.614, 277.794,276.488,275.562,274.574,273.524 ,272.418,271.237,269.983,268.65,267.231 ,265.721,264.112,262.398,260.573, 258.626,256.554,254.348,252.002,249.512 ,246.878,245.251)
ORBIT_NUMBER = 6860
ORBITAL_ECCENTRICITY = 0.576
ORBITAL_INCLINATION = 86.77
ORBITAL_SEMIMAJOR_AXIS = 8711.64
PERIAPSIS_ALTITUDE = 312.29
PERIAPSIS_ARGUMENT_ANGLE = 234.22
PERIAPSIS_TIME = 2009-05-07T18:13:08.000Z
SPACECRAFT_ORIENTATION = (0.0,-1.0,0.0)
^MEX_ORIENTATION_DESC = "MEX_ORIENTATION_DESC.TXT"
SPACECRAFT_POINTING_MODE = NADIR
^MEX_POINTING_DESC = "MEX_POINTING_DESC.TXT"
RIGHT_ASCENSION = -1e+32
DECLINATION = -1e+32
OFFSET_ANGLE = -1e+32
SPACECRAFT_SOLAR_DISTANCE = 2.06934e+08
TARGET_NAME = MARS
/* CAMERA DATA ELEMENTS */
DETECTOR_TEMPERATURE = 18.7783
FOCAL_PLANE_TEMPERATURE = 8.7872
INST_CMPRS_NAME = "DISCRETE COSINE TRANSFORMATION (DCT)"
INST_CMPRS_RATIO = 16.4337
INST_CMPRS_QUALITY = 0
INST_CMPRS_QUANTZ_TBL_ID = 0
INSTRUMENT_TEMPERATURE = 11.234
LENS_TEMPERATURE = 9.3989
MACROPIXEL_SIZE = 4
MISSING_FRAMES = 0
PIXEL_SUBSAMPLING_FLAG = N
SIGNAL_CHAIN_ID = 2
/* RADIOMETRIC DATA ELEMENTS */
BANDWIDTH = 48.0
CENTER_FILTER_WAVELENGTH = 748.0
RADIANCE_OFFSET = 1.36478
RADIANCE_SCALING_FACTOR = 0.0083369
REFLECTANCE_SCALING_FACTOR = 0.000814695
MEX:REFLECTANCE_OFFSET = 0.133369
/* IMAGE OBJECT DEFINITIONS */
OBJECT = IMAGE
  INTERCHANGE_FORMAT = BINARY
  LINES = 6996
  LINE_SAMPLES = 4278
  SAMPLE_TYPE = UNSIGNED_INTEGER
  SAMPLE_BITS = 8
  BANDS = 1
  BAND_STORAGE_TYPE = BAND_SEQUENTIAL
  MAXIMUM = 255
  MEAN = 243.712
  MINIMUM = 7
  STANDARD_DEVIATION = 32.1525
END_OBJECT = IMAGE
/* MAP OBJECT DEFINITIONS */
OBJECT = IMAGE_MAP_PROJECTION
  ^DATA_SET_MAP_PROJECTION_CATALOG= "DSMAP.CAT"
  A_AXIS_RADIUS = 3396.0
  B_AXIS_RADIUS = 3396.0
  C_AXIS_RADIUS = 3396.0
  CENTER_LATITUDE = 0.0
  CENTER_LONGITUDE = 289.0
  COORDINATE_SYSTEM_NAME = PLANETOGRAPHIC
  COORDINATE_SYSTEM_TYPE = "BODY-FIXED ROTATING"
  EASTERNMOST_LONGITUDE = 304.693
  FIRST_STANDARD_PARALLEL = "N/A"
  LINE_FIRST_PIXEL = 1
  LINE_LAST_PIXEL = 6996
  LINE_PROJECTION_OFFSET = -44680.875
  MAP_PROJECTION_ROTATION = 0.0
  MAP_PROJECTION_TYPE = SINUSOIDAL
  MAP_RESOLUTION = 592.713803866667
  MAP_SCALE = 0.1
  MAXIMUM_LATITUDE = -75.3917
  MINIMUM_LATITUDE = -87.1887
  POSITIVE_LONGITUDE_DIRECTION = EAST
  REFERENCE_LATITUDE = "N/A"
  REFERENCE_LONGITUDE = "N/A"
  SAMPLE_FIRST_PIXEL = 1
  SAMPLE_LAST_PIXEL = 4278
  SAMPLE_PROJECTION_OFFSET = 2157.375
  SECOND_STANDARD_PARALLEL = "N/A"
  WESTERNMOST_LONGITUDE = 245.251
END_OBJECT = IMAGE_MAP_PROJECTION
/* The JPEG2000 image data file associated with this label. */
OBJECT = COMPRESSED_FILE
  FILE_NAME = "H6860_0000_RE3.JP2"
  RECORD_TYPE = UNDEFINED
  FILE_RECORDS = UNK
  ENCODING_TYPE = "JP2"
  INTERCHANGE_FORMAT = BINARY
  UNCOMPRESSED_FILE_NAME = "H6860_0000_RE3.IMG"
  REQUIRED_STORAGE_BYTES = "29954556"
  ^DESCRIPTION = "JP2INFO.TXT"
END_OBJECT = COMPRESSED_FILE
END
