PDS_VERSION_ID = PDS3
/* FILE DATA ELEMENTS */
RECORD_TYPE = STREAM
/* POINTERS TO DATA OBJECTS */
^COMPRESSED_FILE = "H6871_0000_ND3.JP2"
/* IDENTIFICATION DATA ELEMENTS */
DATA_SET_ID = "MEX-M-HRSC-5-REFDR-MAPPROJECTED-V3.0"
DATA_SET_NAME = "MARS EXPRESS HRSC MAP PROJECTED REFDR V3.0"
DETECTOR_ID = MEX_HRSC_NADIR
EVENT_TYPE = "MARS-REGIONAL-MAPPING-Gl-Pf-La"
INSTRUMENT_HOST_ID = MEX
INSTRUMENT_HOST_NAME = "MARS EXPRESS"
INSTRUMENT_ID = HRSC
INSTRUMENT_NAME = "HIGH RESOLUTION STEREO CAMERA"
MISSION_NAME = "MARS EXPRESS"
MISSION_PHASE_NAME = ME_Phase_17
PROCESSING_LEVEL_ID = 3
PRODUCT_CREATION_TIME = 2016-06-29T12:07:32.000Z
PRODUCT_ID = "H6871_0000_ND3.JP2"
RELEASE_ID = 0076
REVISION_ID = 0000
/* QUALITY DATA ELEMENTS */
DATA_QUALITY_ID = 1
DATA_QUALITY_DESC = "Data calculated based on original SPICE kernels"
/* TIME DATA ELEMENTS */
SPACECRAFT_CLOCK_START_COUNT = "1/0190073485.07302"
SPACECRAFT_CLOCK_STOP_COUNT = "1/0190073922.39049"
START_TIME = 2009-05-10T22:12:17.639Z
STOP_TIME = 2009-05-10T22:16:47.653Z
/* ORBITAL DATA ELEMENTS */
ASCENDING_NODE_LONGITUDE = 86.63
MAXIMUM_RESOLUTION = 21.7
FOOTPRINT_POINT_LATITUDE = (-83.5266,-83.7722,-83.9222,-84.1954, -84.3484,-84.8586,-85.2067,-85.4356, -85.7775,-86.0005,-86.2221,-86.4372, -86.6476,-86.8498,-87.1355,-87.3092, -87.4678,-87.6046,-87.7177,-87.8325, -87.8645,-87.8602,-87.8168,-87.7379, -87.6263,-87.485,-87.2263,-86.9224, -86.5834,-86.3428,-86.0909,-85.8307, -85.563,-85.2869,-85.0055,-84.7188, -84.4262,-84.1294,-83.8284,-83.5229, -83.2129,-82.8995,-82.5825,-82.262, -81.9379,-81.6101,-81.2788,-80.9445, -80.6068,-80.266,-80.0359,-79.9075, -79.8086,-79.6702,-79.4408,-79.2319, -79.5523,-79.8681,-80.1793,-80.4857, -80.7872,-81.0839,-81.3759,-81.6624, -81.9434,-82.2178,-82.4863,-82.7488, -83.0044,-83.2516,-83.6086,-83.8359, -84.0542,-84.262,-84.4591,-84.6451, -84.8181,-85.0525,-85.2539,-85.4192, -85.5081,-85.5786,-85.631,-85.6645, -85.6797,-85.6759,-85.6365,-85.5885, -85.525,-85.4449,-85.3513,-85.1859, -85.0614,-84.9259,-84.7821,-84.6285, -84.4688,-84.2158,-83.7694,-83.5266)
FOOTPRINT_POINT_LONGITUDE = (140.356,137.298,135.175,130.62,127.513 ,128.611,130.521,131.955,134.432, 136.318,138.456,140.857,143.591,146.693 ,152.205,156.507,161.45,166.998,173.243 ,183.648,191.116,198.736,206.219, 213.363,219.947,225.944,233.685,240.065 ,245.285,248.243,250.849,253.143, 255.183,256.989,258.604,260.053,261.365 ,262.552,263.631,264.615,265.517, 266.345,267.106,267.809,268.462,269.067 ,269.627,270.151,270.645,271.104, 269.552,266.391,264.389,261.975,258.624 ,256.032,255.297,254.513,253.687, 252.812,251.882,250.897,249.851,248.734 ,247.548,246.285,244.935,243.497, 241.957,240.317,237.64,235.703,233.625, 231.412,229.053,226.532,223.862,219.552 ,214.889,209.9,206.405,202.826,199.153, 195.441,191.702,187.981,182.497,178.928 ,175.497,172.168,169.013,164.541, 161.767,159.144,156.689,154.368,152.215 ,149.215,144.837,140.356)
ORBIT_NUMBER = 6871
ORBITAL_ECCENTRICITY = 0.576
ORBITAL_INCLINATION = 86.77
ORBITAL_SEMIMAJOR_AXIS = 8716.24
PERIAPSIS_ALTITUDE = 312.48
PERIAPSIS_ARGUMENT_ANGLE = 232.31
PERIAPSIS_TIME = 2009-05-10T22:03:44.000Z
SPACECRAFT_ORIENTATION = (0.0,-1.0,0.0)
^MEX_ORIENTATION_DESC = "MEX_ORIENTATION_DESC.TXT"
SPACECRAFT_POINTING_MODE = NADIR
^MEX_POINTING_DESC = "MEX_POINTING_DESC.TXT"
RIGHT_ASCENSION = -1e+32
DECLINATION = -1e+32
OFFSET_ANGLE = -1e+32
SPACECRAFT_SOLAR_DISTANCE = 2.07056e+08
TARGET_NAME = MARS
/* CAMERA DATA ELEMENTS */
DETECTOR_TEMPERATURE = 18.3705
FOCAL_PLANE_TEMPERATURE = 8.5833
INST_CMPRS_NAME = "DISCRETE COSINE TRANSFORMATION (DCT)"
INST_CMPRS_RATIO = 6.17941
INST_CMPRS_QUALITY = 0
INST_CMPRS_QUANTZ_TBL_ID = 0
INSTRUMENT_TEMPERATURE = 12.6613
LENS_TEMPERATURE = 8.9911
MACROPIXEL_SIZE = 1
MISSING_FRAMES = 0
PIXEL_SUBSAMPLING_FLAG = N
SIGNAL_CHAIN_ID = 0
/* RADIOMETRIC DATA ELEMENTS */
BANDWIDTH = 177.0
CENTER_FILTER_WAVELENGTH = 677.5
RADIANCE_OFFSET = 3.76008
RADIANCE_SCALING_FACTOR = 0.0428681
REFLECTANCE_SCALING_FACTOR = 0.000976325
MEX:REFLECTANCE_OFFSET = 0.0856362
/* IMAGE OBJECT DEFINITIONS */
OBJECT = IMAGE
  INTERCHANGE_FORMAT = BINARY
  LINES = 12720
  LINE_SAMPLES = 35520
  SAMPLE_TYPE = UNSIGNED_INTEGER
  SAMPLE_BITS = 8
  BANDS = 1
  BAND_STORAGE_TYPE = BAND_SEQUENTIAL
  MAXIMUM = 255
  MEAN = 140.5
  MINIMUM = 1
  STANDARD_DEVIATION = 88.702
END_OBJECT = IMAGE
/* MAP OBJECT DEFINITIONS */
OBJECT = IMAGE_MAP_PROJECTION
  ^DATA_SET_MAP_PROJECTION_CATALOG= "DSMAP.CAT"
  A_AXIS_RADIUS = 3396.0
  B_AXIS_RADIUS = 3396.0
  C_AXIS_RADIUS = 3396.0
  CENTER_LATITUDE = -90.0
  CENTER_LONGITUDE = 0.0
  COORDINATE_SYSTEM_NAME = PLANETOGRAPHIC
  COORDINATE_SYSTEM_TYPE = "BODY-FIXED ROTATING"
  EASTERNMOST_LONGITUDE = 271.104
  FIRST_STANDARD_PARALLEL = "N/A"
  LINE_FIRST_PIXEL = 1
  LINE_LAST_PIXEL = 12720
  LINE_PROJECTION_OFFSET = 466.0
  MAP_PROJECTION_ROTATION = 0
  MAP_PROJECTION_TYPE = STEREOGRAPHIC
  MAP_RESOLUTION = 2370.85521546667
  MAP_SCALE = 0.025
  MAXIMUM_LATITUDE = -79.2319
  MINIMUM_LATITUDE = -87.86450000000001
  POSITIVE_LONGITUDE_DIRECTION = EAST
  REFERENCE_LATITUDE = "N/A"
  REFERENCE_LONGITUDE = "N/A"
  SAMPLE_FIRST_PIXEL = 1
  SAMPLE_LAST_PIXEL = 35520
  SAMPLE_PROJECTION_OFFSET = 24837.0
  SECOND_STANDARD_PARALLEL = "N/A"
  WESTERNMOST_LONGITUDE = 127.513
END_OBJECT = IMAGE_MAP_PROJECTION
/* The JPEG2000 image data file associated with this label. */
OBJECT = COMPRESSED_FILE
  FILE_NAME = "H6871_0000_ND3.JP2"
  RECORD_TYPE = UNDEFINED
  FILE_RECORDS = UNK
  ENCODING_TYPE = "JP2"
  INTERCHANGE_FORMAT = BINARY
  UNCOMPRESSED_FILE_NAME = "H6871_0000_ND3.IMG"
  REQUIRED_STORAGE_BYTES = "451920960"
  ^DESCRIPTION = "JP2INFO.TXT"
END_OBJECT = COMPRESSED_FILE
END
