PDS_VERSION_ID = PDS3
/* FILE DATA ELEMENTS */
RECORD_TYPE = STREAM
/* POINTERS TO DATA OBJECTS */
^COMPRESSED_FILE = "H6871_0000_S23.JP2"
/* IDENTIFICATION DATA ELEMENTS */
DATA_SET_ID = "MEX-M-HRSC-5-REFDR-MAPPROJECTED-V3.0"
DATA_SET_NAME = "MARS EXPRESS HRSC MAP PROJECTED REFDR V3.0"
DETECTOR_ID = MEX_HRSC_S2
EVENT_TYPE = "MARS-REGIONAL-MAPPING-Gl-Pf-La"
INSTRUMENT_HOST_ID = MEX
INSTRUMENT_HOST_NAME = "MARS EXPRESS"
INSTRUMENT_ID = HRSC
INSTRUMENT_NAME = "HIGH RESOLUTION STEREO CAMERA"
MISSION_NAME = "MARS EXPRESS"
MISSION_PHASE_NAME = ME_Phase_17
PROCESSING_LEVEL_ID = 3
PRODUCT_CREATION_TIME = 2016-06-29T12:07:32.000Z
PRODUCT_ID = "H6871_0000_S23.JP2"
RELEASE_ID = 0076
REVISION_ID = 0000
/* QUALITY DATA ELEMENTS */
DATA_QUALITY_ID = 1
DATA_QUALITY_DESC = "Data calculated based on original SPICE kernels"
/* TIME DATA ELEMENTS */
SPACECRAFT_CLOCK_START_COUNT = "1/0190073485.07302"
SPACECRAFT_CLOCK_STOP_COUNT = "1/0190073922.39049"
START_TIME = 2009-05-10T22:13:19.209Z
STOP_TIME = 2009-05-10T22:18:42.960Z
/* ORBITAL DATA ELEMENTS */
ASCENDING_NODE_LONGITUDE = 86.63
MAXIMUM_RESOLUTION = 51.2
FOOTPRINT_POINT_LATITUDE = (-83.6407,-83.8821,-84.0622,-84.2295, -84.3832,-84.4735,-85.0706,-85.5442, -86.011,-86.4645,-86.6845,-86.8978, -87.1035,-87.3906,-87.5631,-87.7171, -87.8469,-87.9855,-88.0335,-88.0416, -88.0069,-87.9322,-87.8214,-87.6803, -87.5102,-87.216,-86.997,-86.7641, -86.5081,-86.253,-85.99,-85.7241, -85.4448,-85.1641,-84.8756,-84.5823, -84.2839,-83.9831,-83.6786,-83.3705, -83.0591,-82.7445,-82.4269,-82.1058, -81.7825,-81.2903,-80.9605,-80.4579, -80.1215,-80.0433,-79.9876,-79.9222, -79.8372,-79.7263,-79.5598,-79.4055, -79.2811,-79.315,-79.6249,-79.9307, -80.3821,-80.678,-80.9688,-81.2556, -81.5357,-81.8105,-82.2136,-82.4758, -82.7311,-82.9783,-83.2199,-83.4539, -83.6784,-83.8943,-84.2003,-84.3905, -84.5697,-84.8218,-84.9685,-85.1005, -85.2171,-85.3176,-85.4012,-85.4672, -85.5151,-85.545,-85.5567,-85.55, -85.5254,-85.4836,-85.4268,-85.3115, -85.1653,-84.9267,-84.7202,-84.4114, -83.9901,-83.6317,-83.3501,-83.6407)
FOOTPRINT_POINT_LONGITUDE = (140.851,137.93,135.425,132.767,129.951 ,125.409,128.064,130.73,134.066,138.298 ,140.871,143.807,147.21,153.305,158.146 ,163.743,170.111,180.901,188.885,197.2, 205.52,213.403,220.642,227.093,232.802, 239.972,243.967,247.423,250.54,253.139, 255.418,257.418,259.2,260.782,262.199, 263.472,264.621,265.662,266.61,267.477, 268.271,269.0,269.675,270.299,270.879, 271.672,272.16,272.831,273.245,270.791, 269.1,267.433,265.423,263.082,260.285, 258.087,256.425,254.54,253.794,253.004, 251.73,250.814,249.845,248.811,247.724, 246.569,244.683,243.315,241.859,240.325 ,238.665,236.889,235.013,233.01,229.747 ,227.412,224.919,220.776,217.886, 214.856,211.686,208.386,204.965,201.454 ,197.882,194.263,190.627,187.013, 183.433,179.921,176.546,171.665,167.097 ,161.509,157.716,153.145,148.218, 144.824,142.538,140.851)
ORBIT_NUMBER = 6871
ORBITAL_ECCENTRICITY = 0.576
ORBITAL_INCLINATION = 86.77
ORBITAL_SEMIMAJOR_AXIS = 8716.24
PERIAPSIS_ALTITUDE = 312.48
PERIAPSIS_ARGUMENT_ANGLE = 232.31
PERIAPSIS_TIME = 2009-05-10T22:03:44.000Z
SPACECRAFT_ORIENTATION = (0.0,-1.0,0.0)
^MEX_ORIENTATION_DESC = "MEX_ORIENTATION_DESC.TXT"
SPACECRAFT_POINTING_MODE = NADIR
^MEX_POINTING_DESC = "MEX_POINTING_DESC.TXT"
RIGHT_ASCENSION = -1e+32
DECLINATION = -1e+32
OFFSET_ANGLE = -1e+32
SPACECRAFT_SOLAR_DISTANCE = 2.07056e+08
TARGET_NAME = MARS
/* CAMERA DATA ELEMENTS */
DETECTOR_TEMPERATURE = 18.7783
FOCAL_PLANE_TEMPERATURE = 8.5833
INST_CMPRS_NAME = "DISCRETE COSINE TRANSFORMATION (DCT)"
INST_CMPRS_RATIO = 7.31094
INST_CMPRS_QUALITY = 0
INST_CMPRS_QUANTZ_TBL_ID = 0
INSTRUMENT_TEMPERATURE = 12.6613
LENS_TEMPERATURE = 8.9911
MACROPIXEL_SIZE = 2
MISSING_FRAMES = 2
PIXEL_SUBSAMPLING_FLAG = N
SIGNAL_CHAIN_ID = 1
/* RADIOMETRIC DATA ELEMENTS */
BANDWIDTH = 178.0
CENTER_FILTER_WAVELENGTH = 679.0
RADIANCE_OFFSET = 3.01986
RADIANCE_SCALING_FACTOR = 0.0423372
REFLECTANCE_SCALING_FACTOR = 0.000961229
MEX:REFLECTANCE_OFFSET = 0.0685632
/* IMAGE OBJECT DEFINITIONS */
OBJECT = IMAGE
  INTERCHANGE_FORMAT = BINARY
  LINES = 6360
  LINE_SAMPLES = 17760
  SAMPLE_TYPE = UNSIGNED_INTEGER
  SAMPLE_BITS = 8
  BANDS = 1
  BAND_STORAGE_TYPE = BAND_SEQUENTIAL
  MAXIMUM = 255
  MEAN = 169.884
  MINIMUM = 1
  STANDARD_DEVIATION = 78.7729
END_OBJECT = IMAGE
/* MAP OBJECT DEFINITIONS */
OBJECT = IMAGE_MAP_PROJECTION
  ^DATA_SET_MAP_PROJECTION_CATALOG= "DSMAP.CAT"
  A_AXIS_RADIUS = 3396.0
  B_AXIS_RADIUS = 3396.0
  C_AXIS_RADIUS = 3396.0
  CENTER_LATITUDE = -90.0
  CENTER_LONGITUDE = 0.0
  COORDINATE_SYSTEM_NAME = PLANETOGRAPHIC
  COORDINATE_SYSTEM_TYPE = "BODY-FIXED ROTATING"
  EASTERNMOST_LONGITUDE = 273.245
  FIRST_STANDARD_PARALLEL = "N/A"
  LINE_FIRST_PIXEL = 1
  LINE_LAST_PIXEL = 6360
  LINE_PROJECTION_OFFSET = 232.75
  MAP_PROJECTION_ROTATION = 0.0
  MAP_PROJECTION_TYPE = STEREOGRAPHIC
  MAP_RESOLUTION = 1185.42760773333
  MAP_SCALE = 0.05
  MAXIMUM_LATITUDE = -79.2811
  MINIMUM_LATITUDE = -88.0416
  POSITIVE_LONGITUDE_DIRECTION = EAST
  REFERENCE_LATITUDE = "N/A"
  REFERENCE_LONGITUDE = "N/A"
  SAMPLE_FIRST_PIXEL = 1
  SAMPLE_LAST_PIXEL = 17760
  SAMPLE_PROJECTION_OFFSET = 12418.25
  SECOND_STANDARD_PARALLEL = "N/A"
  WESTERNMOST_LONGITUDE = 125.409
END_OBJECT = IMAGE_MAP_PROJECTION
/* The JPEG2000 image data file associated with this label. */
OBJECT = COMPRESSED_FILE
  FILE_NAME = "H6871_0000_S23.JP2"
  RECORD_TYPE = UNDEFINED
  FILE_RECORDS = UNK
  ENCODING_TYPE = "JP2"
  INTERCHANGE_FORMAT = BINARY
  UNCOMPRESSED_FILE_NAME = "H6871_0000_S23.IMG"
  REQUIRED_STORAGE_BYTES = "113006880"
  ^DESCRIPTION = "JP2INFO.TXT"
END_OBJECT = COMPRESSED_FILE
END
