PDS_VERSION_ID = PDS3
/* FILE DATA ELEMENTS */
RECORD_TYPE = STREAM
/* POINTERS TO DATA OBJECTS */
^COMPRESSED_FILE = "H6873_0000_P23.JP2"
/* IDENTIFICATION DATA ELEMENTS */
DATA_SET_ID = "MEX-M-HRSC-5-REFDR-MAPPROJECTED-V3.0"
DATA_SET_NAME = "MARS EXPRESS HRSC MAP PROJECTED REFDR V3.0"
DETECTOR_ID = MEX_HRSC_P2
EVENT_TYPE = "MARS-REGIONAL-MAPPING-Gl-La"
INSTRUMENT_HOST_ID = MEX
INSTRUMENT_HOST_NAME = "MARS EXPRESS"
INSTRUMENT_ID = HRSC
INSTRUMENT_NAME = "HIGH RESOLUTION STEREO CAMERA"
MISSION_NAME = "MARS EXPRESS"
MISSION_PHASE_NAME = ME_Phase_17
PROCESSING_LEVEL_ID = 3
PRODUCT_CREATION_TIME = 2016-06-29T12:07:32.000Z
PRODUCT_ID = "H6873_0000_P23.JP2"
RELEASE_ID = 0076
REVISION_ID = 0000
/* QUALITY DATA ELEMENTS */
DATA_QUALITY_ID = 1
DATA_QUALITY_DESC = "Data calculated based on original SPICE kernels"
/* TIME DATA ELEMENTS */
SPACECRAFT_CLOCK_START_COUNT = "1/0190123198.09052"
SPACECRAFT_CLOCK_STOP_COUNT = "1/0190123595.03526"
START_TIME = 2009-05-11T12:01:45.463Z
STOP_TIME = 2009-05-11T12:05:46.904Z
/* ORBITAL DATA ELEMENTS */
ASCENDING_NODE_LONGITUDE = 86.59
MAXIMUM_RESOLUTION = 54.1
FOOTPRINT_POINT_LATITUDE = (-84.2277,-84.4783,-84.8382,-85.1936, -85.5445,-85.8908,-86.2331,-86.5036, -86.577,-86.6332,-86.6228,-86.5921, -86.4944,-86.4269,-86.3478,-86.2586, -86.1578,-86.0469,-85.9276,-85.7994, -85.5926,-85.4458,-85.2919,-85.1321, -84.9668,-84.7078,-84.5302,-84.3485, -84.1601,-83.9691,-83.7746,-83.5765, -83.3753,-83.0675,-82.859,-82.6472, -82.4326,-82.2154,-81.8849,-81.6627, -81.4369,-81.209,-80.9788,-80.7467, -80.3941,-80.1574,-79.9209,-79.6844, -79.4483,-79.0621,-79.0007,-78.8992, -78.8058,-78.6935,-78.5452,-78.4377, -78.3107,-78.1474,-77.9731,-78.1393, -78.3552,-78.5707,-78.7854,-78.9995, -79.2127,-79.4235,-79.6312,-79.836, -80.0381,-80.2372,-80.4326,-80.625, -80.9076,-81.182,-81.4483,-81.621, -81.7899,-81.9543,-82.1929,-82.3464, -82.4955,-82.6393,-82.778,-82.9118, -83.0399,-83.1621,-83.2787,-83.442, -83.5431,-83.6374,-83.7662,-83.8437, -83.9136,-84.0319,-84.1218,-84.1527, -84.1965,-84.2073,-84.1903,-84.2277)
FOOTPRINT_POINT_LONGITUDE = (340.78,340.447,339.907,339.285,338.564 ,337.722,336.725,336.475,341.44,348.367 ,358.898,362.559,369.389,372.674, 375.837,378.841,381.745,384.511,387.113 ,389.579,393.015,395.136,397.139, 399.018,400.781,403.239,404.747,406.162 ,407.511,408.773,409.961,411.082,412.14 ,413.619,414.538,415.41,416.238,417.022 ,418.127,418.817,419.476,420.104, 420.703,421.275,422.086,422.595,423.079 ,423.538,423.975,424.132,422.844, 420.931,419.359,417.653,415.683,414.327 ,412.844,411.099,409.384,408.361, 407.791,407.195,406.577,405.931,405.258 ,404.551,403.823,403.071,402.283, 401.469,400.628,399.757,398.375,396.927 ,395.394,394.324,393.213,392.066, 390.256,389.008,387.69,386.351,384.946, 383.496,382.008,380.435,378.849,376.365 ,374.644,372.884,370.16,368.288,366.39, 362.487,358.503,356.441,352.368,349.29, 344.221,340.78)
ORBIT_NUMBER = 6873
ORBITAL_ECCENTRICITY = 0.576
ORBITAL_INCLINATION = 86.78
ORBITAL_SEMIMAJOR_AXIS = 8713.88
PERIAPSIS_ALTITUDE = 311.85
PERIAPSIS_ARGUMENT_ANGLE = 231.99
PERIAPSIS_TIME = 2009-05-11T11:51:10.000Z
SPACECRAFT_ORIENTATION = (0.0,-1.0,0.0)
^MEX_ORIENTATION_DESC = "MEX_ORIENTATION_DESC.TXT"
SPACECRAFT_POINTING_MODE = ACROSSTRACK
^MEX_POINTING_DESC = "MEX_POINTING_DESC.TXT"
RIGHT_ASCENSION = -1e+32
DECLINATION = -1e+32
OFFSET_ANGLE = 1.3
SPACECRAFT_SOLAR_DISTANCE = 2.0708e+08
TARGET_NAME = MARS
/* CAMERA DATA ELEMENTS */
DETECTOR_TEMPERATURE = 19.1861
FOCAL_PLANE_TEMPERATURE = 9.195
INST_CMPRS_NAME = "DISCRETE COSINE TRANSFORMATION (DCT)"
INST_CMPRS_RATIO = 8.73323
INST_CMPRS_QUALITY = 0
INST_CMPRS_QUANTZ_TBL_ID = 0
INSTRUMENT_TEMPERATURE = 11.6418
LENS_TEMPERATURE = 9.8067
MACROPIXEL_SIZE = 2
MISSING_FRAMES = 0
PIXEL_SUBSAMPLING_FLAG = N
SIGNAL_CHAIN_ID = 3
/* RADIOMETRIC DATA ELEMENTS */
BANDWIDTH = 177.0
CENTER_FILTER_WAVELENGTH = 676.5
RADIANCE_OFFSET = 5.16358
RADIANCE_SCALING_FACTOR = 0.035663
REFLECTANCE_SCALING_FACTOR = 0.000810874
MEX:REFLECTANCE_OFFSET = 0.117405
/* IMAGE OBJECT DEFINITIONS */
OBJECT = IMAGE
  INTERCHANGE_FORMAT = BINARY
  LINES = 10177
  LINE_SAMPLES = 12953
  SAMPLE_TYPE = UNSIGNED_INTEGER
  SAMPLE_BITS = 8
  BANDS = 1
  BAND_STORAGE_TYPE = BAND_SEQUENTIAL
  MAXIMUM = 255
  MEAN = 174.179
  MINIMUM = 1
  STANDARD_DEVIATION = 97.582
END_OBJECT = IMAGE
/* MAP OBJECT DEFINITIONS */
OBJECT = IMAGE_MAP_PROJECTION
  ^DATA_SET_MAP_PROJECTION_CATALOG= "DSMAP.CAT"
  A_AXIS_RADIUS = 3396.0
  B_AXIS_RADIUS = 3396.0
  C_AXIS_RADIUS = 3396.0
  CENTER_LATITUDE = 0.0
  CENTER_LONGITUDE = 34.0
  COORDINATE_SYSTEM_NAME = PLANETOGRAPHIC
  COORDINATE_SYSTEM_TYPE = "BODY-FIXED ROTATING"
  EASTERNMOST_LONGITUDE = 64.13200000000001
  FIRST_STANDARD_PARALLEL = "N/A"
  LINE_FIRST_PIXEL = 1
  LINE_LAST_PIXEL = 10177
  LINE_PROJECTION_OFFSET = -92426.25
  MAP_PROJECTION_ROTATION = 0.0
  MAP_PROJECTION_TYPE = SINUSOIDAL
  MAP_RESOLUTION = 1185.42760773333
  MAP_SCALE = 0.05
  MAXIMUM_LATITUDE = -77.9731
  MINIMUM_LATITUDE = -86.6332
  POSITIVE_LONGITUDE_DIRECTION = EAST
  REFERENCE_LATITUDE = "N/A"
  REFERENCE_LONGITUDE = "N/A"
  SAMPLE_FIRST_PIXEL = 1
  SAMPLE_LAST_PIXEL = 12953
  SAMPLE_PROJECTION_OFFSET = 6324.75
  SECOND_STANDARD_PARALLEL = "N/A"
  WESTERNMOST_LONGITUDE = -23.525
END_OBJECT = IMAGE_MAP_PROJECTION
/* The JPEG2000 image data file associated with this label. */
OBJECT = COMPRESSED_FILE
  FILE_NAME = "H6873_0000_P23.JP2"
  RECORD_TYPE = UNDEFINED
  FILE_RECORDS = UNK
  ENCODING_TYPE = "JP2"
  INTERCHANGE_FORMAT = BINARY
  UNCOMPRESSED_FILE_NAME = "H6873_0000_P23.IMG"
  REQUIRED_STORAGE_BYTES = "131861540"
  ^DESCRIPTION = "JP2INFO.TXT"
END_OBJECT = COMPRESSED_FILE
END
