PDS_VERSION_ID = PDS3
/* FILE DATA ELEMENTS */
RECORD_TYPE = STREAM
/* POINTERS TO DATA OBJECTS */
^COMPRESSED_FILE = "H6873_0000_S23.JP2"
/* IDENTIFICATION DATA ELEMENTS */
DATA_SET_ID = "MEX-M-HRSC-5-REFDR-MAPPROJECTED-V3.0"
DATA_SET_NAME = "MARS EXPRESS HRSC MAP PROJECTED REFDR V3.0"
DETECTOR_ID = MEX_HRSC_S2
EVENT_TYPE = "MARS-REGIONAL-MAPPING-Gl-La"
INSTRUMENT_HOST_ID = MEX
INSTRUMENT_HOST_NAME = "MARS EXPRESS"
INSTRUMENT_ID = HRSC
INSTRUMENT_NAME = "HIGH RESOLUTION STEREO CAMERA"
MISSION_NAME = "MARS EXPRESS"
MISSION_PHASE_NAME = ME_Phase_17
PROCESSING_LEVEL_ID = 3
PRODUCT_CREATION_TIME = 2016-06-29T12:07:32.000Z
PRODUCT_ID = "H6873_0000_S23.JP2"
RELEASE_ID = 0076
REVISION_ID = 0000
/* QUALITY DATA ELEMENTS */
DATA_QUALITY_ID = 1
DATA_QUALITY_DESC = "Data calculated based on original SPICE kernels"
/* TIME DATA ELEMENTS */
SPACECRAFT_CLOCK_START_COUNT = "1/0190123198.09052"
SPACECRAFT_CLOCK_STOP_COUNT = "1/0190123595.03526"
START_TIME = 2009-05-11T12:02:13.725Z
STOP_TIME = 2009-05-11T12:06:35.577Z
/* ORBITAL DATA ELEMENTS */
ASCENDING_NODE_LONGITUDE = 86.59
MAXIMUM_RESOLUTION = 58.6
FOOTPRINT_POINT_LATITUDE = (-84.5377,-84.9168,-85.2914,-85.6611, -86.0265,-86.388,-86.651,-86.7033, -86.7036,-86.6658,-86.6246,-86.5392, -86.4659,-86.3358,-86.234,-86.1218, -85.9368,-85.803,-85.6616,-85.5121, -85.2758,-85.111,-84.9405,-84.7637, -84.4917,-84.3062,-84.0158,-83.7189, -83.5171,-83.2081,-82.9991,-82.7868, -82.5717,-82.3535,-82.1334,-81.8012, -81.5798,-81.3578,-81.1356,-80.9143, -80.5812,-80.3594,-80.1382,-79.9173, -79.6965,-79.4766,-79.0779,-79.0217, -78.9507,-78.8727,-78.7463,-78.6389, -78.5069,-78.4197,-78.2879,-78.1032, -77.9981,-78.0995,-78.2993,-78.499, -78.6979,-78.8964,-79.0944,-79.293, -79.5885,-79.7845,-79.9806,-80.1748, -80.3679,-80.6568,-80.9362,-81.1188, -81.3866,-81.6439,-81.8113,-81.9741, -82.2108,-82.3623,-82.5091,-82.6515, -82.7883,-82.9835,-83.1064,-83.2235, -83.3346,-83.4392,-83.5373,-83.6286, -83.7129,-83.7905,-83.8604,-83.9516, -84.003,-84.067,-84.0978,-84.1399, -84.1475,-84.1442,-84.0953,-84.5377)
FOOTPRINT_POINT_LONGITUDE = (340.795,340.338,339.8,339.162,338.398, 337.473,342.226,349.42,356.54,362.257, 365.842,371.018,374.363,379.07,382.07, 384.918,388.881,391.33,393.632,395.804, 398.809,400.655,402.388,404.024,406.274 ,407.654,409.597,411.362,412.452, 413.976,414.919,415.814,416.662,417.467 ,418.229,419.295,419.954,420.578, 421.169,421.727,422.512,423.003,423.47, 423.914,424.338,424.742,425.43,424.036, 422.472,420.923,418.718,417.046,415.246 ,414.107,412.5,410.452,409.365,407.881, 407.353,406.802,406.233,405.641,405.024 ,404.369,403.344,402.624,401.858, 401.068,400.239,398.895,397.519,396.544 ,394.997,393.4,392.269,391.102,389.253, 387.972,386.653,385.265,383.841,381.616 ,380.051,378.46,376.81,375.117,373.366, 371.575,369.742,367.866,365.962,363.036 ,361.046,358.053,355.996,351.919, 349.842,345.786,340.763,340.795)
ORBIT_NUMBER = 6873
ORBITAL_ECCENTRICITY = 0.576
ORBITAL_INCLINATION = 86.78
ORBITAL_SEMIMAJOR_AXIS = 8713.88
PERIAPSIS_ALTITUDE = 311.85
PERIAPSIS_ARGUMENT_ANGLE = 231.99
PERIAPSIS_TIME = 2009-05-11T11:51:10.000Z
SPACECRAFT_ORIENTATION = (0.0,-1.0,0.0)
^MEX_ORIENTATION_DESC = "MEX_ORIENTATION_DESC.TXT"
SPACECRAFT_POINTING_MODE = ACROSSTRACK
^MEX_POINTING_DESC = "MEX_POINTING_DESC.TXT"
RIGHT_ASCENSION = -1e+32
DECLINATION = -1e+32
OFFSET_ANGLE = 1.3
SPACECRAFT_SOLAR_DISTANCE = 2.0708e+08
TARGET_NAME = MARS
/* CAMERA DATA ELEMENTS */
DETECTOR_TEMPERATURE = 19.1861
FOCAL_PLANE_TEMPERATURE = 9.195
INST_CMPRS_NAME = "DISCRETE COSINE TRANSFORMATION (DCT)"
INST_CMPRS_RATIO = 8.96084
INST_CMPRS_QUALITY = 0
INST_CMPRS_QUANTZ_TBL_ID = 0
INSTRUMENT_TEMPERATURE = 11.6418
LENS_TEMPERATURE = 9.8067
MACROPIXEL_SIZE = 2
MISSING_FRAMES = 0
PIXEL_SUBSAMPLING_FLAG = N
SIGNAL_CHAIN_ID = 1
/* RADIOMETRIC DATA ELEMENTS */
BANDWIDTH = 178.0
CENTER_FILTER_WAVELENGTH = 679.0
RADIANCE_OFFSET = 5.71433
RADIANCE_SCALING_FACTOR = 0.0393526
REFLECTANCE_SCALING_FACTOR = 0.000893681
MEX:REFLECTANCE_OFFSET = 0.12977
/* IMAGE OBJECT DEFINITIONS */
OBJECT = IMAGE
  INTERCHANGE_FORMAT = BINARY
  LINES = 10177
  LINE_SAMPLES = 12953
  SAMPLE_TYPE = UNSIGNED_INTEGER
  SAMPLE_BITS = 8
  BANDS = 1
  BAND_STORAGE_TYPE = BAND_SEQUENTIAL
  MAXIMUM = 255
  MEAN = 163.54
  MINIMUM = 1
  STANDARD_DEVIATION = 94.8565
END_OBJECT = IMAGE
/* MAP OBJECT DEFINITIONS */
OBJECT = IMAGE_MAP_PROJECTION
  ^DATA_SET_MAP_PROJECTION_CATALOG= "DSMAP.CAT"
  A_AXIS_RADIUS = 3396.0
  B_AXIS_RADIUS = 3396.0
  C_AXIS_RADIUS = 3396.0
  CENTER_LATITUDE = 0.0
  CENTER_LONGITUDE = 34.0
  COORDINATE_SYSTEM_NAME = PLANETOGRAPHIC
  COORDINATE_SYSTEM_TYPE = "BODY-FIXED ROTATING"
  EASTERNMOST_LONGITUDE = 65.43000000000001
  FIRST_STANDARD_PARALLEL = "N/A"
  LINE_FIRST_PIXEL = 1
  LINE_LAST_PIXEL = 10177
  LINE_PROJECTION_OFFSET = -92426.25
  MAP_PROJECTION_ROTATION = 0.0
  MAP_PROJECTION_TYPE = SINUSOIDAL
  MAP_RESOLUTION = 1185.42760773333
  MAP_SCALE = 0.05
  MAXIMUM_LATITUDE = -77.99809999999999
  MINIMUM_LATITUDE = -86.70359999999999
  POSITIVE_LONGITUDE_DIRECTION = EAST
  REFERENCE_LATITUDE = "N/A"
  REFERENCE_LONGITUDE = "N/A"
  SAMPLE_FIRST_PIXEL = 1
  SAMPLE_LAST_PIXEL = 12953
  SAMPLE_PROJECTION_OFFSET = 6324.75
  SECOND_STANDARD_PARALLEL = "N/A"
  WESTERNMOST_LONGITUDE = -22.527
END_OBJECT = IMAGE_MAP_PROJECTION
/* The JPEG2000 image data file associated with this label. */
OBJECT = COMPRESSED_FILE
  FILE_NAME = "H6873_0000_S23.JP2"
  RECORD_TYPE = UNDEFINED
  FILE_RECORDS = UNK
  ENCODING_TYPE = "JP2"
  INTERCHANGE_FORMAT = BINARY
  UNCOMPRESSED_FILE_NAME = "H6873_0000_S23.IMG"
  REQUIRED_STORAGE_BYTES = "131861540"
  ^DESCRIPTION = "JP2INFO.TXT"
END_OBJECT = COMPRESSED_FILE
END
