PDS_VERSION_ID = PDS3
/* FILE DATA ELEMENTS */
RECORD_TYPE = STREAM
/* POINTERS TO DATA OBJECTS */
^COMPRESSED_FILE = "H6879_0000_S13.JP2"
/* IDENTIFICATION DATA ELEMENTS */
DATA_SET_ID = "MEX-M-HRSC-5-REFDR-MAPPROJECTED-V3.0"
DATA_SET_NAME = "MARS EXPRESS HRSC MAP PROJECTED REFDR V3.0"
DETECTOR_ID = MEX_HRSC_S1
EVENT_TYPE = "MARS-REGIONAL-MAPPING-Gl-La"
INSTRUMENT_HOST_ID = MEX
INSTRUMENT_HOST_NAME = "MARS EXPRESS"
INSTRUMENT_ID = HRSC
INSTRUMENT_NAME = "HIGH RESOLUTION STEREO CAMERA"
MISSION_NAME = "MARS EXPRESS"
MISSION_PHASE_NAME = ME_Phase_17
PROCESSING_LEVEL_ID = 3
PRODUCT_CREATION_TIME = 2016-06-29T12:07:32.000Z
PRODUCT_ID = "H6879_0000_S13.JP2"
RELEASE_ID = 0076
REVISION_ID = 0000
/* QUALITY DATA ELEMENTS */
DATA_QUALITY_ID = 1
DATA_QUALITY_DESC = "Data calculated based on original SPICE kernels"
/* TIME DATA ELEMENTS */
SPACECRAFT_CLOCK_START_COUNT = "1/0190272154.09036"
SPACECRAFT_CLOCK_STOP_COUNT = "1/0190272611.57037"
START_TIME = 2009-05-13T05:22:36.625Z
STOP_TIME = 2009-05-13T05:26:12.782Z
/* ORBITAL DATA ELEMENTS */
ASCENDING_NODE_LONGITUDE = 86.47
MAXIMUM_RESOLUTION = 50.1
FOOTPRINT_POINT_LATITUDE = (-85.7656,-86.2325,-86.5435,-87.0676, -87.3587,-87.6694,-87.8188,-87.7901, -87.6704,-87.469,-87.2011,-87.0462, -86.8803,-86.7035,-86.4261,-86.2317, -86.0303,-85.8226,-85.6091,-85.3924, -85.1717,-84.9477,-84.7184,-84.3694, -84.1328,-83.7717,-83.5286,-83.2811, -83.0327,-82.7803,-82.3982,-82.1407, -81.8806,-81.6188,-81.3537,-80.9513, -80.6825,-80.4094,-79.9982,-79.7214, -79.4405,-79.1586,-78.875,-78.5878, -78.3001,-78.009,-77.7156,-77.4228, -77.126,-76.8842,-76.7972,-76.7507, -76.6665,-76.57,-76.4768,-76.3669, -76.2367,-76.5243,-76.8094,-77.0922, -77.3725,-77.6504,-77.9238,-78.1952, -78.4667,-78.7327,-79.1276,-79.3875, -79.6437,-80.0233,-80.2722,-80.5184, -80.7583,-81.0,-81.3549,-81.5872, -81.8142,-82.0293,-82.2492,-82.4747, -82.6888,-82.8978,-83.101,-83.2997, -83.4912,-83.6789,-83.8528,-84.032, -84.2063,-84.453,-84.6056,-84.7505, -84.9524,-85.0773,-85.2981,-85.4369, -85.5511,-85.6611,-85.733,-85.7656)
FOOTPRINT_POINT_LONGITUDE = (102.568,102.095,101.72,100.938,100.387 ,99.66,104.762,116.529,127.722,137.623, 145.929,149.52,152.763,155.688,159.477, 161.699,163.729,165.575,167.262,168.784 ,170.168,171.435,172.61,174.196,175.153 ,176.463,177.256,178.001,178.692, 179.342,180.238,180.79,181.311,181.8, 182.264,182.917,183.316,183.699,184.233 ,184.567,184.889,185.194,185.484, 185.763,186.026,186.281,186.524,186.752 ,186.974,186.028,183.858,182.78,181.124 ,179.491,178.112,176.64,175.04,174.668, 174.281,173.88,173.461,173.025,172.572, 172.099,171.604,171.09,170.275,169.7, 169.101,168.149,167.477,166.773,166.04, 165.263,164.028,163.151,162.234,161.287 ,160.272,159.178,158.044,156.849, 155.594,154.268,152.879,151.405,149.897 ,148.244,146.496,143.696,141.731, 139.658,136.365,134.019,129.033,125.035 ,120.831,115.04,107.526,102.568)
ORBIT_NUMBER = 6879
ORBITAL_ECCENTRICITY = 0.576
ORBITAL_INCLINATION = 86.76
ORBITAL_SEMIMAJOR_AXIS = 8717.07
PERIAPSIS_ALTITUDE = 312.69
PERIAPSIS_ARGUMENT_ANGLE = 230.94
PERIAPSIS_TIME = 2009-05-13T05:13:13.000Z
SPACECRAFT_ORIENTATION = (0.0,-1.0,0.0)
^MEX_ORIENTATION_DESC = "MEX_ORIENTATION_DESC.TXT"
SPACECRAFT_POINTING_MODE = NADIR
^MEX_POINTING_DESC = "MEX_POINTING_DESC.TXT"
RIGHT_ASCENSION = -1e+32
DECLINATION = -1e+32
OFFSET_ANGLE = -1e+32
SPACECRAFT_SOLAR_DISTANCE = 2.07158e+08
TARGET_NAME = MARS
/* CAMERA DATA ELEMENTS */
DETECTOR_TEMPERATURE = 17.5549
FOCAL_PLANE_TEMPERATURE = 8.7872
INST_CMPRS_NAME = "DISCRETE COSINE TRANSFORMATION (DCT)"
INST_CMPRS_RATIO = 7.6935
INST_CMPRS_QUALITY = 0
INST_CMPRS_QUANTZ_TBL_ID = 0
INSTRUMENT_TEMPERATURE = 11.234
LENS_TEMPERATURE = 9.6028
MACROPIXEL_SIZE = 2
MISSING_FRAMES = 0
PIXEL_SUBSAMPLING_FLAG = N
SIGNAL_CHAIN_ID = 1
/* RADIOMETRIC DATA ELEMENTS */
BANDWIDTH = 180.0
CENTER_FILTER_WAVELENGTH = 677.0
RADIANCE_OFFSET = 5.11805
RADIANCE_SCALING_FACTOR = 0.0329367
REFLECTANCE_SCALING_FACTOR = 0.000737437
MEX:REFLECTANCE_OFFSET = 0.114591
/* IMAGE OBJECT DEFINITIONS */
OBJECT = IMAGE
  INTERCHANGE_FORMAT = BINARY
  LINES = 13857
  LINE_SAMPLES = 11196
  SAMPLE_TYPE = UNSIGNED_INTEGER
  SAMPLE_BITS = 8
  BANDS = 1
  BAND_STORAGE_TYPE = BAND_SEQUENTIAL
  MAXIMUM = 255
  MEAN = 57.0097
  MINIMUM = 1
  STANDARD_DEVIATION = 42.486
END_OBJECT = IMAGE
/* MAP OBJECT DEFINITIONS */
OBJECT = IMAGE_MAP_PROJECTION
  ^DATA_SET_MAP_PROJECTION_CATALOG= "DSMAP.CAT"
  A_AXIS_RADIUS = 3396.0
  B_AXIS_RADIUS = 3396.0
  C_AXIS_RADIUS = 3396.0
  CENTER_LATITUDE = 0.0
  CENTER_LONGITUDE = 167.0
  COORDINATE_SYSTEM_NAME = PLANETOGRAPHIC
  COORDINATE_SYSTEM_TYPE = "BODY-FIXED ROTATING"
  EASTERNMOST_LONGITUDE = 186.974
  FIRST_STANDARD_PARALLEL = "N/A"
  LINE_FIRST_PIXEL = 1
  LINE_LAST_PIXEL = 13857
  LINE_PROJECTION_OFFSET = -90311.75
  MAP_PROJECTION_ROTATION = 0.0
  MAP_PROJECTION_TYPE = SINUSOIDAL
  MAP_RESOLUTION = 1185.42760773333
  MAP_SCALE = 0.05
  MAXIMUM_LATITUDE = -76.2367
  MINIMUM_LATITUDE = -87.8188
  POSITIVE_LONGITUDE_DIRECTION = EAST
  REFERENCE_LATITUDE = "N/A"
  REFERENCE_LONGITUDE = "N/A"
  SAMPLE_FIRST_PIXEL = 1
  SAMPLE_LAST_PIXEL = 11196
  SAMPLE_PROJECTION_OFFSET = 5636.25
  SECOND_STANDARD_PARALLEL = "N/A"
  WESTERNMOST_LONGITUDE = 99.66
END_OBJECT = IMAGE_MAP_PROJECTION
/* The JPEG2000 image data file associated with this label. */
OBJECT = COMPRESSED_FILE
  FILE_NAME = "H6879_0000_S13.JP2"
  RECORD_TYPE = UNDEFINED
  FILE_RECORDS = UNK
  ENCODING_TYPE = "JP2"
  INTERCHANGE_FORMAT = BINARY
  UNCOMPRESSED_FILE_NAME = "H6879_0000_S13.IMG"
  REQUIRED_STORAGE_BYTES = "155176560"
  ^DESCRIPTION = "JP2INFO.TXT"
END_OBJECT = COMPRESSED_FILE
END
