PDS_VERSION_ID = PDS3
/* FILE DATA ELEMENTS */
RECORD_TYPE = STREAM
/* POINTERS TO DATA OBJECTS */
^COMPRESSED_FILE = "H6892_0000_S23.JP2"
/* IDENTIFICATION DATA ELEMENTS */
DATA_SET_ID = "MEX-M-HRSC-5-REFDR-MAPPROJECTED-V3.0"
DATA_SET_NAME = "MARS EXPRESS HRSC MAP PROJECTED REFDR V3.0"
DETECTOR_ID = MEX_HRSC_S2
EVENT_TYPE = "MARS-REGIONAL-MAPPING-Im-Gl-Pf"
INSTRUMENT_HOST_ID = MEX
INSTRUMENT_HOST_NAME = "MARS EXPRESS"
INSTRUMENT_ID = HRSC
INSTRUMENT_NAME = "HIGH RESOLUTION STEREO CAMERA"
MISSION_NAME = "MARS EXPRESS"
MISSION_PHASE_NAME = ME_Phase_17
PROCESSING_LEVEL_ID = 3
PRODUCT_CREATION_TIME = 2016-06-29T12:07:32.000Z
PRODUCT_ID = "H6892_0000_S23.JP2"
RELEASE_ID = 0076
REVISION_ID = 0000
/* QUALITY DATA ELEMENTS */
DATA_QUALITY_ID = 1
DATA_QUALITY_DESC = "Data calculated based on original SPICE kernels"
/* TIME DATA ELEMENTS */
SPACECRAFT_CLOCK_START_COUNT = "1/0190595062.09058"
SPACECRAFT_CLOCK_STOP_COUNT = "1/0190595683.03136"
START_TIME = 2009-05-16T23:08:30.949Z
STOP_TIME = 2009-05-16T23:14:43.587Z
/* ORBITAL DATA ELEMENTS */
ASCENDING_NODE_LONGITUDE = 86.21
MAXIMUM_RESOLUTION = 98.3
FOOTPRINT_POINT_LATITUDE = (-77.6629,-77.767,-77.8647,-77.9561, -78.0411,-78.1194,-78.1911,-78.256, -78.3141,-78.3651,-78.4091,-78.4459, -78.4768,-78.214,-77.9525,-77.6926, -77.4336,-77.1766,-76.9208,-76.6667, -76.4138,-76.1624,-75.9124,-75.6621, -75.4153,-75.1696,-74.926,-74.6846, -74.4449,-74.2053,-73.9677,-73.7314, -73.4968,-73.2633,-72.6853,-72.1144, -71.6651,-71.2212,-70.7837,-70.3495, -69.9229,-69.5008,-69.1878,-68.8779, -68.4734,-67.8686,-67.4731,-67.129, -67.1411,-67.1484,-67.1503,-67.15, -67.1461,-67.1431,-67.1345,-67.1142, -67.1012,-67.0853,-67.0674,-67.047, -67.0108,-66.939,-66.8987,-66.8609, -66.8262,-66.975,-67.2555,-67.6319, -67.9192,-68.3052,-68.6964,-69.0934, -69.4955,-69.9027,-70.3149,-70.7327, -71.0468,-71.4747,-71.9076,-72.2356, -72.6774,-73.1242,-73.5754,-73.8031, -74.0321,-74.2623,-74.4938,-74.7266, -74.9604,-75.1958,-75.4319,-75.669, -75.9062,-76.1452,-76.3868,-76.632, -76.9926,-77.235,-77.4791,-77.6629)
FOOTPRINT_POINT_LONGITUDE = (300.666,302.041,303.435,304.848, 306.281,307.73,309.197,310.678,312.174, 313.685,315.21,316.749,318.619,318.825, 319.021,319.209,319.387,319.558,319.721 ,319.878,320.027,320.171,320.31,320.441 ,320.569,320.692,320.812,320.928, 321.041,321.148,321.253,321.354,321.453 ,321.548,321.773,321.981,322.139, 322.288,322.432,322.567,322.698,322.824 ,322.914,323.003,323.12,323.283,323.388 ,323.332,322.266,321.203,320.444, 319.839,319.083,317.726,316.671,315.466 ,314.863,314.26,313.659,313.058,312.16, 310.825,309.929,309.184,308.592,307.88, 307.781,307.643,307.531,307.376,307.209 ,307.031,306.839,306.634,306.415,306.18 ,305.997,305.728,305.44,305.21,304.882, 304.529,304.148,303.946,303.735,303.516 ,303.288,303.049,302.801,302.541, 302.271,301.99,301.698,301.391,301.066, 300.716,300.191,299.816,299.421, 300.666)
ORBIT_NUMBER = 6892
ORBITAL_ECCENTRICITY = 0.576
ORBITAL_INCLINATION = 86.77
ORBITAL_SEMIMAJOR_AXIS = 8719.24
PERIAPSIS_ALTITUDE = 313.1
PERIAPSIS_ARGUMENT_ANGLE = 228.71
PERIAPSIS_TIME = 2009-05-16T22:51:16.000Z
SPACECRAFT_ORIENTATION = (0.0,-1.0,0.0)
^MEX_ORIENTATION_DESC = "MEX_ORIENTATION_DESC.TXT"
SPACECRAFT_POINTING_MODE = NADIR
^MEX_POINTING_DESC = "MEX_POINTING_DESC.TXT"
RIGHT_ASCENSION = -1e+32
DECLINATION = -1e+32
OFFSET_ANGLE = -1e+32
SPACECRAFT_SOLAR_DISTANCE = 2.07347e+08
TARGET_NAME = MARS
/* CAMERA DATA ELEMENTS */
DETECTOR_TEMPERATURE = 18.7783
FOCAL_PLANE_TEMPERATURE = 8.5833
INST_CMPRS_NAME = "DISCRETE COSINE TRANSFORMATION (DCT)"
INST_CMPRS_RATIO = 11.7652
INST_CMPRS_QUALITY = 0
INST_CMPRS_QUANTZ_TBL_ID = 0
INSTRUMENT_TEMPERATURE = 11.234
LENS_TEMPERATURE = 8.9911
MACROPIXEL_SIZE = 2
MISSING_FRAMES = 0
PIXEL_SUBSAMPLING_FLAG = N
SIGNAL_CHAIN_ID = 1
/* RADIOMETRIC DATA ELEMENTS */
BANDWIDTH = 178.0
CENTER_FILTER_WAVELENGTH = 679.0
RADIANCE_OFFSET = 2.32751
RADIANCE_SCALING_FACTOR = 0.0343525
REFLECTANCE_SCALING_FACTOR = 0.00078214
MEX:REFLECTANCE_OFFSET = 0.0529928
/* IMAGE OBJECT DEFINITIONS */
OBJECT = IMAGE
  INTERCHANGE_FORMAT = BINARY
  LINES = 7022
  LINE_SAMPLES = 3348
  SAMPLE_TYPE = UNSIGNED_INTEGER
  SAMPLE_BITS = 8
  BANDS = 1
  BAND_STORAGE_TYPE = BAND_SEQUENTIAL
  MAXIMUM = 255
  MEAN = 185.024
  MINIMUM = 1
  STANDARD_DEVIATION = 42.3032
END_OBJECT = IMAGE
/* MAP OBJECT DEFINITIONS */
OBJECT = IMAGE_MAP_PROJECTION
  ^DATA_SET_MAP_PROJECTION_CATALOG= "DSMAP.CAT"
  A_AXIS_RADIUS = 3396.0
  B_AXIS_RADIUS = 3396.0
  C_AXIS_RADIUS = 3396.0
  CENTER_LATITUDE = 0.0
  CENTER_LONGITUDE = 313.0
  COORDINATE_SYSTEM_NAME = PLANETOGRAPHIC
  COORDINATE_SYSTEM_TYPE = "BODY-FIXED ROTATING"
  EASTERNMOST_LONGITUDE = 323.388
  FIRST_STANDARD_PARALLEL = "N/A"
  LINE_FIRST_PIXEL = 1
  LINE_LAST_PIXEL = 7022
  LINE_PROJECTION_OFFSET = -39572.25
  MAP_PROJECTION_ROTATION = 0.0
  MAP_PROJECTION_TYPE = SINUSOIDAL
  MAP_RESOLUTION = 592.713803866667
  MAP_SCALE = 0.1
  MAXIMUM_LATITUDE = -66.8262
  MINIMUM_LATITUDE = -78.4768
  POSITIVE_LONGITUDE_DIRECTION = EAST
  REFERENCE_LATITUDE = "N/A"
  REFERENCE_LONGITUDE = "N/A"
  SAMPLE_FIRST_PIXEL = 1
  SAMPLE_LAST_PIXEL = 3348
  SAMPLE_PROJECTION_OFFSET = 1560.75
  SECOND_STANDARD_PARALLEL = "N/A"
  WESTERNMOST_LONGITUDE = 299.421
END_OBJECT = IMAGE_MAP_PROJECTION
/* The JPEG2000 image data file associated with this label. */
OBJECT = COMPRESSED_FILE
  FILE_NAME = "H6892_0000_S23.JP2"
  RECORD_TYPE = UNDEFINED
  FILE_RECORDS = UNK
  ENCODING_TYPE = "JP2"
  INTERCHANGE_FORMAT = BINARY
  UNCOMPRESSED_FILE_NAME = "H6892_0000_S23.IMG"
  REQUIRED_STORAGE_BYTES = "23533092"
  ^DESCRIPTION = "JP2INFO.TXT"
END_OBJECT = COMPRESSED_FILE
END
