PDS_VERSION_ID = PDS3
/* FILE DATA ELEMENTS */
RECORD_TYPE = STREAM
/* POINTERS TO DATA OBJECTS */
^COMPRESSED_FILE = "H6902_0000_BL3.JP2"
/* IDENTIFICATION DATA ELEMENTS */
DATA_SET_ID = "MEX-M-HRSC-5-REFDR-MAPPROJECTED-V3.0"
DATA_SET_NAME = "MARS EXPRESS HRSC MAP PROJECTED REFDR V3.0"
DETECTOR_ID = MEX_HRSC_BLUE
EVENT_TYPE = "MARS-REGIONAL-MAPPING-Im-Gl-La"
INSTRUMENT_HOST_ID = MEX
INSTRUMENT_HOST_NAME = "MARS EXPRESS"
INSTRUMENT_ID = HRSC
INSTRUMENT_NAME = "HIGH RESOLUTION STEREO CAMERA"
MISSION_NAME = "MARS EXPRESS"
MISSION_PHASE_NAME = ME_Phase_17
PROCESSING_LEVEL_ID = 3
PRODUCT_CREATION_TIME = 2016-06-29T16:10:18.000Z
PRODUCT_ID = "H6902_0000_BL3.JP2"
RELEASE_ID = 0077
REVISION_ID = 0000
/* QUALITY DATA ELEMENTS */
DATA_QUALITY_ID = 1
DATA_QUALITY_DESC = "Data calculated based on original SPICE kernels"
/* TIME DATA ELEMENTS */
SPACECRAFT_CLOCK_START_COUNT = "1/0190842894.09046"
SPACECRAFT_CLOCK_STOP_COUNT = "1/0190843215.56165"
START_TIME = 2009-05-19T19:55:51.119Z
STOP_TIME = 2009-05-19T19:59:04.044Z
/* ORBITAL DATA ELEMENTS */
ASCENDING_NODE_LONGITUDE = 86.02
MAXIMUM_RESOLUTION = 81.6
FOOTPRINT_POINT_LATITUDE = (-75.8842,-75.9875,-76.0661,-76.1207, -76.1738,-76.3174,-76.6972,-76.9843, -77.1753,-77.4662,-77.6603,-77.8539, -78.0504,-78.2471,-78.4434,-78.6414, -78.9398,-79.1387,-79.3407,-79.5424, -79.7434,-79.9476,-80.2532,-80.4585, -80.6649,-80.8706,-81.0785,-81.2868, -81.5999,-81.8102,-82.0197,-82.3376, -82.549,-82.7625,-83.0817,-83.2967, -83.5107,-83.8339,-84.0485,-84.2644, -84.4797,-84.8033,-85.1255,-85.3396, -85.5526,-85.7647,-86.0793,-86.3879, -86.5894,-86.4658,-86.2578,-86.0689, -85.7355,-85.4719,-85.2733,-85.0329, -84.738,-84.6101,-84.4771,-84.3369, -84.1917,-84.0403,-83.8853,-83.7245, -83.5618,-83.31,-83.1392,-82.9652, -82.79,-82.5224,-82.3424,-82.1602, -81.8865,-81.7015,-81.5167,-81.3308, -81.0513,-80.8639,-80.6758,-80.3945, -80.2058,-80.0185,-79.8299,-79.6413, -79.4538,-79.2652,-78.9839,-78.7964, -78.6079,-78.4219,-78.2356,-77.9554, -77.7704,-77.5847,-77.3985,-77.2149, -77.0307,-76.7536,-76.2058,-75.8842)
FOOTPRINT_POINT_LONGITUDE = (233.527,231.934,230.579,229.538, 228.423,226.868,227.095,227.277,227.402 ,227.601,227.74,227.882,228.031,228.185 ,228.345,228.509,228.767,228.953, 229.149,229.352,229.56,229.781,230.13, 230.377,230.639,230.91,231.198,231.501, 231.985,232.333,232.697,233.289,233.715 ,234.169,234.901,235.436,236.004, 236.953,237.637,238.38,239.186,240.529, 242.062,243.199,244.456,245.852,248.274 ,251.13,253.318,256.356,260.033,262.868 ,267.014,269.708,271.494,273.416, 273.922,271.72,269.649,267.676,265.823, 264.061,262.408,260.838,259.364,257.295 ,256.016,254.801,253.658,252.049, 251.051,250.097,248.768,247.93,247.143, 246.385,245.322,244.652,244.014,243.11, 242.538,241.996,241.473,240.972,240.494 ,240.033,239.379,238.963,238.561, 238.179,237.808,237.276,236.94,236.614, 236.298,235.997,235.705,235.282,234.501 ,233.527)
ORBIT_NUMBER = 6902
ORBITAL_ECCENTRICITY = 0.576
ORBITAL_INCLINATION = 86.76
ORBITAL_SEMIMAJOR_AXIS = 8722.67
PERIAPSIS_ALTITUDE = 313.42
PERIAPSIS_ARGUMENT_ANGLE = 226.96
PERIAPSIS_TIME = 2009-05-19T19:48:01.000Z
SPACECRAFT_ORIENTATION = (0.0,-1.0,0.0)
^MEX_ORIENTATION_DESC = "MEX_ORIENTATION_DESC.TXT"
SPACECRAFT_POINTING_MODE = NADIR
^MEX_POINTING_DESC = "MEX_POINTING_DESC.TXT"
RIGHT_ASCENSION = -1e+32
DECLINATION = -1e+32
OFFSET_ANGLE = -1e+32
SPACECRAFT_SOLAR_DISTANCE = 2.07512e+08
TARGET_NAME = MARS
/* CAMERA DATA ELEMENTS */
DETECTOR_TEMPERATURE = 18.3705
FOCAL_PLANE_TEMPERATURE = 8.5833
INST_CMPRS_NAME = "DISCRETE COSINE TRANSFORMATION (DCT)"
INST_CMPRS_RATIO = 6.97219
INST_CMPRS_QUALITY = 0
INST_CMPRS_QUANTZ_TBL_ID = 0
INSTRUMENT_TEMPERATURE = 11.0301
LENS_TEMPERATURE = 8.9911
MACROPIXEL_SIZE = 4
MISSING_FRAMES = 0
PIXEL_SUBSAMPLING_FLAG = N
SIGNAL_CHAIN_ID = 2
/* RADIOMETRIC DATA ELEMENTS */
BANDWIDTH = 76.0
CENTER_FILTER_WAVELENGTH = 444.0
RADIANCE_OFFSET = 0.47917
RADIANCE_SCALING_FACTOR = 0.00494613
REFLECTANCE_SCALING_FACTOR = 0.000218832
MEX:REFLECTANCE_OFFSET = 0.0211999
/* IMAGE OBJECT DEFINITIONS */
OBJECT = IMAGE
  INTERCHANGE_FORMAT = BINARY
  LINES = 6365
  LINE_SAMPLES = 3521
  SAMPLE_TYPE = UNSIGNED_INTEGER
  SAMPLE_BITS = 8
  BANDS = 1
  BAND_STORAGE_TYPE = BAND_SEQUENTIAL
  MAXIMUM = 255
  MEAN = 97.644
  MINIMUM = 1
  STANDARD_DEVIATION = 95.2219
END_OBJECT = IMAGE
/* MAP OBJECT DEFINITIONS */
OBJECT = IMAGE_MAP_PROJECTION
  ^DATA_SET_MAP_PROJECTION_CATALOG= "DSMAP.CAT"
  A_AXIS_RADIUS = 3396.0
  B_AXIS_RADIUS = 3396.0
  C_AXIS_RADIUS = 3396.0
  CENTER_LATITUDE = 0.0
  CENTER_LONGITUDE = 238.0
  COORDINATE_SYSTEM_NAME = PLANETOGRAPHIC
  COORDINATE_SYSTEM_TYPE = "BODY-FIXED ROTATING"
  EASTERNMOST_LONGITUDE = 273.922
  FIRST_STANDARD_PARALLEL = "N/A"
  LINE_FIRST_PIXEL = 1
  LINE_LAST_PIXEL = 6365
  LINE_PROJECTION_OFFSET = -44952.125
  MAP_PROJECTION_ROTATION = 0.0
  MAP_PROJECTION_TYPE = SINUSOIDAL
  MAP_RESOLUTION = 592.713803866667
  MAP_SCALE = 0.1
  MAXIMUM_LATITUDE = -75.88420000000001
  MINIMUM_LATITUDE = -86.5894
  POSITIVE_LONGITUDE_DIRECTION = EAST
  REFERENCE_LATITUDE = "N/A"
  REFERENCE_LONGITUDE = "N/A"
  SAMPLE_FIRST_PIXEL = 1
  SAMPLE_LAST_PIXEL = 3521
  SAMPLE_PROJECTION_OFFSET = 1561.875
  SECOND_STANDARD_PARALLEL = "N/A"
  WESTERNMOST_LONGITUDE = 226.868
END_OBJECT = IMAGE_MAP_PROJECTION
/* The JPEG2000 image data file associated with this label. */
OBJECT = COMPRESSED_FILE
  FILE_NAME = "H6902_0000_BL3.JP2"
  RECORD_TYPE = UNDEFINED
  FILE_RECORDS = UNK
  ENCODING_TYPE = "JP2"
  INTERCHANGE_FORMAT = BINARY
  UNCOMPRESSED_FILE_NAME = "H6902_0000_BL3.IMG"
  REQUIRED_STORAGE_BYTES = "22435812"
  ^DESCRIPTION = "JP2INFO.TXT"
END_OBJECT = COMPRESSED_FILE
END
