PDS_VERSION_ID = PDS3
/* FILE DATA ELEMENTS */
RECORD_TYPE = STREAM
/* POINTERS TO DATA OBJECTS */
^COMPRESSED_FILE = "H6902_0000_GR3.JP2"
/* IDENTIFICATION DATA ELEMENTS */
DATA_SET_ID = "MEX-M-HRSC-5-REFDR-MAPPROJECTED-V3.0"
DATA_SET_NAME = "MARS EXPRESS HRSC MAP PROJECTED REFDR V3.0"
DETECTOR_ID = MEX_HRSC_GREEN
EVENT_TYPE = "MARS-REGIONAL-MAPPING-Im-Gl-La"
INSTRUMENT_HOST_ID = MEX
INSTRUMENT_HOST_NAME = "MARS EXPRESS"
INSTRUMENT_ID = HRSC
INSTRUMENT_NAME = "HIGH RESOLUTION STEREO CAMERA"
MISSION_NAME = "MARS EXPRESS"
MISSION_PHASE_NAME = ME_Phase_17
PROCESSING_LEVEL_ID = 3
PRODUCT_CREATION_TIME = 2016-06-29T16:10:18.000Z
PRODUCT_ID = "H6902_0000_GR3.JP2"
RELEASE_ID = 0077
REVISION_ID = 0000
/* QUALITY DATA ELEMENTS */
DATA_QUALITY_ID = 1
DATA_QUALITY_DESC = "Data calculated based on original SPICE kernels"
/* TIME DATA ELEMENTS */
SPACECRAFT_CLOCK_START_COUNT = "1/0190842894.09046"
SPACECRAFT_CLOCK_STOP_COUNT = "1/0190843215.56165"
START_TIME = 2009-05-19T19:55:34.287Z
STOP_TIME = 2009-05-19T19:58:39.531Z
/* ORBITAL DATA ELEMENTS */
ASCENDING_NODE_LONGITUDE = 86.02
MAXIMUM_RESOLUTION = 79.5
FOOTPRINT_POINT_LATITUDE = (-75.8266,-75.8923,-75.9427,-76.0081, -76.0585,-76.1172,-76.1805,-76.4001, -76.7803,-77.2636,-77.6516,-77.8479, -78.0439,-78.2396,-78.4389,-78.6379, -78.9367,-79.2388,-79.4397,-79.7444, -79.9485,-80.1521,-80.3582,-80.5647, -80.7706,-80.9788,-81.1876,-81.3959, -81.6067,-81.8175,-82.0278,-82.2413, -82.4535,-82.6662,-82.881,-83.0949, -83.31,-83.5258,-83.7399,-83.9568, -84.1725,-84.4971,-84.7129,-85.0367, -85.2512,-85.4662,-85.6787,-85.8901, -86.0976,-86.3032,-86.5054,-86.379, -86.2347,-85.9428,-85.7325,-85.4802, -85.1311,-84.8356,-84.7103,-84.508, -84.3656,-84.217,-84.0638,-83.9053, -83.7436,-83.4932,-83.323,-83.1488, -82.8852,-82.7056,-82.5258,-82.3432, -82.068,-81.8825,-81.6962,-81.4159, -81.2273,-81.0398,-80.8506,-80.6611, -80.4725,-80.2824,-79.9986,-79.8091, -79.6184,-79.4302,-79.241,-78.9567, -78.7689,-78.5802,-78.3911,-78.2045, -78.0171,-77.7353,-77.55,-77.2708, -77.084,-76.7161,-76.165,-75.8266)
FOOTPRINT_POINT_LONGITUDE = (233.771,232.784,231.976,230.848, 229.902,228.694,227.216,227.008,227.244 ,227.564,227.842,227.99,228.141,228.298 ,228.464,228.634,228.897,229.189, 229.394,229.712,229.938,230.174,230.422 ,230.684,230.957,231.245,231.549, 231.867,232.206,232.563,232.939,233.339 ,233.768,234.219,234.703,235.216, 235.769,236.359,236.997,237.685,238.423 ,239.654,240.556,242.085,243.211, 244.467,245.843,247.389,249.105,251.032 ,253.182,257.697,260.172,264.366, 266.897,269.529,272.598,274.786,272.522 ,269.332,267.35,265.478,263.718,262.051 ,260.493,258.302,256.949,255.665, 253.882,252.767,251.72,250.726,249.329, 248.455,247.626,246.464,245.73,245.038, 244.374,243.742,243.139,242.561,241.744 ,241.227,240.73,240.259,239.805,239.156 ,238.746,238.351,237.97,237.605,237.251 ,236.745,236.426,235.965,235.669, 235.113,234.341,233.771)
ORBIT_NUMBER = 6902
ORBITAL_ECCENTRICITY = 0.576
ORBITAL_INCLINATION = 86.76
ORBITAL_SEMIMAJOR_AXIS = 8722.67
PERIAPSIS_ALTITUDE = 313.42
PERIAPSIS_ARGUMENT_ANGLE = 226.96
PERIAPSIS_TIME = 2009-05-19T19:48:01.000Z
SPACECRAFT_ORIENTATION = (0.0,-1.0,0.0)
^MEX_ORIENTATION_DESC = "MEX_ORIENTATION_DESC.TXT"
SPACECRAFT_POINTING_MODE = NADIR
^MEX_POINTING_DESC = "MEX_POINTING_DESC.TXT"
RIGHT_ASCENSION = -1e+32
DECLINATION = -1e+32
OFFSET_ANGLE = -1e+32
SPACECRAFT_SOLAR_DISTANCE = 2.07512e+08
TARGET_NAME = MARS
/* CAMERA DATA ELEMENTS */
DETECTOR_TEMPERATURE = 18.3705
FOCAL_PLANE_TEMPERATURE = 8.5833
INST_CMPRS_NAME = "DISCRETE COSINE TRANSFORMATION (DCT)"
INST_CMPRS_RATIO = 7.42069
INST_CMPRS_QUALITY = 0
INST_CMPRS_QUANTZ_TBL_ID = 0
INSTRUMENT_TEMPERATURE = 11.0301
LENS_TEMPERATURE = 8.9911
MACROPIXEL_SIZE = 4
MISSING_FRAMES = 0
PIXEL_SUBSAMPLING_FLAG = N
SIGNAL_CHAIN_ID = 2
/* RADIOMETRIC DATA ELEMENTS */
BANDWIDTH = 88.0
CENTER_FILTER_WAVELENGTH = 538.0
RADIANCE_OFFSET = 1.16857
RADIANCE_SCALING_FACTOR = 0.0106451
REFLECTANCE_SCALING_FACTOR = 0.000394661
MEX:REFLECTANCE_OFFSET = 0.0433242
/* IMAGE OBJECT DEFINITIONS */
OBJECT = IMAGE
  INTERCHANGE_FORMAT = BINARY
  LINES = 6365
  LINE_SAMPLES = 3521
  SAMPLE_TYPE = UNSIGNED_INTEGER
  SAMPLE_BITS = 8
  BANDS = 1
  BAND_STORAGE_TYPE = BAND_SEQUENTIAL
  MAXIMUM = 255
  MEAN = 89.7445
  MINIMUM = 1
  STANDARD_DEVIATION = 86.1048
END_OBJECT = IMAGE
/* MAP OBJECT DEFINITIONS */
OBJECT = IMAGE_MAP_PROJECTION
  ^DATA_SET_MAP_PROJECTION_CATALOG= "DSMAP.CAT"
  A_AXIS_RADIUS = 3396.0
  B_AXIS_RADIUS = 3396.0
  C_AXIS_RADIUS = 3396.0
  CENTER_LATITUDE = 0.0
  CENTER_LONGITUDE = 238.0
  COORDINATE_SYSTEM_NAME = PLANETOGRAPHIC
  COORDINATE_SYSTEM_TYPE = "BODY-FIXED ROTATING"
  EASTERNMOST_LONGITUDE = 274.786
  FIRST_STANDARD_PARALLEL = "N/A"
  LINE_FIRST_PIXEL = 1
  LINE_LAST_PIXEL = 6365
  LINE_PROJECTION_OFFSET = -44952.125
  MAP_PROJECTION_ROTATION = 0.0
  MAP_PROJECTION_TYPE = SINUSOIDAL
  MAP_RESOLUTION = 592.713803866667
  MAP_SCALE = 0.1
  MAXIMUM_LATITUDE = -75.8266
  MINIMUM_LATITUDE = -86.50539999999999
  POSITIVE_LONGITUDE_DIRECTION = EAST
  REFERENCE_LATITUDE = "N/A"
  REFERENCE_LONGITUDE = "N/A"
  SAMPLE_FIRST_PIXEL = 1
  SAMPLE_LAST_PIXEL = 3521
  SAMPLE_PROJECTION_OFFSET = 1561.875
  SECOND_STANDARD_PARALLEL = "N/A"
  WESTERNMOST_LONGITUDE = 227.008
END_OBJECT = IMAGE_MAP_PROJECTION
/* The JPEG2000 image data file associated with this label. */
OBJECT = COMPRESSED_FILE
  FILE_NAME = "H6902_0000_GR3.JP2"
  RECORD_TYPE = UNDEFINED
  FILE_RECORDS = UNK
  ENCODING_TYPE = "JP2"
  INTERCHANGE_FORMAT = BINARY
  UNCOMPRESSED_FILE_NAME = "H6902_0000_GR3.IMG"
  REQUIRED_STORAGE_BYTES = "22435812"
  ^DESCRIPTION = "JP2INFO.TXT"
END_OBJECT = COMPRESSED_FILE
END
