PDS_VERSION_ID = PDS3
/* FILE DATA ELEMENTS */
RECORD_TYPE = STREAM
/* POINTERS TO DATA OBJECTS */
^COMPRESSED_FILE = "H6902_0000_P13.JP2"
/* IDENTIFICATION DATA ELEMENTS */
DATA_SET_ID = "MEX-M-HRSC-5-REFDR-MAPPROJECTED-V3.0"
DATA_SET_NAME = "MARS EXPRESS HRSC MAP PROJECTED REFDR V3.0"
DETECTOR_ID = MEX_HRSC_P1
EVENT_TYPE = "MARS-REGIONAL-MAPPING-Im-Gl-La"
INSTRUMENT_HOST_ID = MEX
INSTRUMENT_HOST_NAME = "MARS EXPRESS"
INSTRUMENT_ID = HRSC
INSTRUMENT_NAME = "HIGH RESOLUTION STEREO CAMERA"
MISSION_NAME = "MARS EXPRESS"
MISSION_PHASE_NAME = ME_Phase_17
PROCESSING_LEVEL_ID = 3
PRODUCT_CREATION_TIME = 2016-06-29T16:10:18.000Z
PRODUCT_ID = "H6902_0000_P13.JP2"
RELEASE_ID = 0077
REVISION_ID = 0000
/* QUALITY DATA ELEMENTS */
DATA_QUALITY_ID = 1
DATA_QUALITY_DESC = "Data calculated based on original SPICE kernels"
/* TIME DATA ELEMENTS */
SPACECRAFT_CLOCK_START_COUNT = "1/0190842894.09046"
SPACECRAFT_CLOCK_STOP_COUNT = "1/0190843215.56165"
START_TIME = 2009-05-19T19:55:11.575Z
STOP_TIME = 2009-05-19T19:58:07.366Z
/* ORBITAL DATA ELEMENTS */
ASCENDING_NODE_LONGITUDE = 86.02
MAXIMUM_RESOLUTION = 39.5
FOOTPRINT_POINT_LATITUDE = (-75.8652,-75.966,-76.0396,-76.0832, -76.2875,-76.6673,-76.8607,-77.0545, -77.2478,-77.4407,-77.6365,-77.833, -78.0298,-78.3263,-78.526,-78.7301, -78.9286,-79.2307,-79.4316,-79.6347, -79.9422,-80.1475,-80.3529,-80.6639, -80.8718,-81.0792,-81.2901,-81.5006, -81.7104,-81.9231,-82.1366,-82.3477, -82.5622,-82.7769,-82.9912,-83.2079, -83.4245,-83.6394,-83.9646,-84.1809, -84.3985,-84.6165,-84.8317,-85.1574, -85.3724,-85.5877,-85.9039,-86.1109, -86.3136,-86.4646,-86.2266,-86.0151, -85.8739,-85.5478,-85.2743,-85.0283, -84.7489,-84.5427,-84.3961,-84.2451, -84.0078,-83.7624,-83.5931,-83.4219, -83.158,-82.9805,-82.7999,-82.5262, -82.3425,-82.0623,-81.8755,-81.5924, -81.4041,-81.2142,-80.9286,-80.7391, -80.5474,-80.3563,-80.1661,-79.9746, -79.7829,-79.5932,-79.4026,-79.1156, -78.8318,-78.6416,-78.3569,-78.1687, -77.9795,-77.7898,-77.603,-77.4167, -77.2292,-77.042,-76.8579,-76.6729, -76.4874,-76.3016,-75.8448,-75.8652)
FOOTPRINT_POINT_LONGITUDE = (232.219,230.456,228.991,228.027, 227.012,227.248,227.374,227.503,227.637 ,227.775,227.919,228.07,228.224,228.468 ,228.64,228.812,228.998,229.295,229.504 ,229.717,230.06,230.302,230.554,230.961 ,231.247,231.548,231.868,232.204, 232.558,232.936,233.334,233.756,234.208 ,234.688,235.196,235.747,236.334, 236.962,238.005,238.763,239.593,240.49, 241.467,243.114,244.344,245.711,248.031 ,249.804,251.772,255.544,259.878, 263.027,264.881,268.603,271.191,273.228 ,272.056,268.859,266.855,264.987, 262.373,260.002,258.522,257.138,255.196 ,254.001,252.865,251.281,250.303, 248.911,248.05,246.838,246.083,245.36, 244.342,243.71,243.097,242.515,241.961, 241.429,240.918,240.434,239.968,239.3, 238.679,238.282,237.714,237.356,237.007 ,236.67,236.35,236.043,235.742,235.452, 235.176,234.907,234.644,234.39,233.796, 232.219)
ORBIT_NUMBER = 6902
ORBITAL_ECCENTRICITY = 0.576
ORBITAL_INCLINATION = 86.76
ORBITAL_SEMIMAJOR_AXIS = 8722.67
PERIAPSIS_ALTITUDE = 313.42
PERIAPSIS_ARGUMENT_ANGLE = 226.96
PERIAPSIS_TIME = 2009-05-19T19:48:01.000Z
SPACECRAFT_ORIENTATION = (0.0,-1.0,0.0)
^MEX_ORIENTATION_DESC = "MEX_ORIENTATION_DESC.TXT"
SPACECRAFT_POINTING_MODE = NADIR
^MEX_POINTING_DESC = "MEX_POINTING_DESC.TXT"
RIGHT_ASCENSION = -1e+32
DECLINATION = -1e+32
OFFSET_ANGLE = -1e+32
SPACECRAFT_SOLAR_DISTANCE = 2.07512e+08
TARGET_NAME = MARS
/* CAMERA DATA ELEMENTS */
DETECTOR_TEMPERATURE = 17.351
FOCAL_PLANE_TEMPERATURE = 8.5833
INST_CMPRS_NAME = "DISCRETE COSINE TRANSFORMATION (DCT)"
INST_CMPRS_RATIO = 8.24408
INST_CMPRS_QUALITY = 0
INST_CMPRS_QUANTZ_TBL_ID = 0
INSTRUMENT_TEMPERATURE = 11.0301
LENS_TEMPERATURE = 8.9911
MACROPIXEL_SIZE = 2
MISSING_FRAMES = 0
PIXEL_SUBSAMPLING_FLAG = N
SIGNAL_CHAIN_ID = 3
/* RADIOMETRIC DATA ELEMENTS */
BANDWIDTH = 174.0
CENTER_FILTER_WAVELENGTH = 675.0
RADIANCE_OFFSET = 3.11517
RADIANCE_SCALING_FACTOR = 0.0316031
REFLECTANCE_SCALING_FACTOR = 0.000731985
MEX:REFLECTANCE_OFFSET = 0.0721528
/* IMAGE OBJECT DEFINITIONS */
OBJECT = IMAGE
  INTERCHANGE_FORMAT = BINARY
  LINES = 12730
  LINE_SAMPLES = 7042
  SAMPLE_TYPE = UNSIGNED_INTEGER
  SAMPLE_BITS = 8
  BANDS = 1
  BAND_STORAGE_TYPE = BAND_SEQUENTIAL
  MAXIMUM = 255
  MEAN = 77.9651
  MINIMUM = 1
  STANDARD_DEVIATION = 71.647
END_OBJECT = IMAGE
/* MAP OBJECT DEFINITIONS */
OBJECT = IMAGE_MAP_PROJECTION
  ^DATA_SET_MAP_PROJECTION_CATALOG= "DSMAP.CAT"
  A_AXIS_RADIUS = 3396.0
  B_AXIS_RADIUS = 3396.0
  C_AXIS_RADIUS = 3396.0
  CENTER_LATITUDE = 0.0
  CENTER_LONGITUDE = 238.0
  COORDINATE_SYSTEM_NAME = PLANETOGRAPHIC
  COORDINATE_SYSTEM_TYPE = "BODY-FIXED ROTATING"
  EASTERNMOST_LONGITUDE = 273.228
  FIRST_STANDARD_PARALLEL = "N/A"
  LINE_FIRST_PIXEL = 1
  LINE_LAST_PIXEL = 12730
  LINE_PROJECTION_OFFSET = -89903.75
  MAP_PROJECTION_ROTATION = 0.0
  MAP_PROJECTION_TYPE = SINUSOIDAL
  MAP_RESOLUTION = 1185.42760773333
  MAP_SCALE = 0.05
  MAXIMUM_LATITUDE = -75.84480000000001
  MINIMUM_LATITUDE = -86.4646
  POSITIVE_LONGITUDE_DIRECTION = EAST
  REFERENCE_LATITUDE = "N/A"
  REFERENCE_LONGITUDE = "N/A"
  SAMPLE_FIRST_PIXEL = 1
  SAMPLE_LAST_PIXEL = 7042
  SAMPLE_PROJECTION_OFFSET = 3124.25
  SECOND_STANDARD_PARALLEL = "N/A"
  WESTERNMOST_LONGITUDE = 227.012
END_OBJECT = IMAGE_MAP_PROJECTION
/* The JPEG2000 image data file associated with this label. */
OBJECT = COMPRESSED_FILE
  FILE_NAME = "H6902_0000_P13.JP2"
  RECORD_TYPE = UNDEFINED
  FILE_RECORDS = UNK
  ENCODING_TYPE = "JP2"
  INTERCHANGE_FORMAT = BINARY
  UNCOMPRESSED_FILE_NAME = "H6902_0000_P13.IMG"
  REQUIRED_STORAGE_BYTES = "89679870"
  ^DESCRIPTION = "JP2INFO.TXT"
END_OBJECT = COMPRESSED_FILE
END
