PDS_VERSION_ID = PDS3
/* FILE DATA ELEMENTS */
RECORD_TYPE = STREAM
/* POINTERS TO DATA OBJECTS */
^COMPRESSED_FILE = "H6902_0000_S23.JP2"
/* IDENTIFICATION DATA ELEMENTS */
DATA_SET_ID = "MEX-M-HRSC-5-REFDR-MAPPROJECTED-V3.0"
DATA_SET_NAME = "MARS EXPRESS HRSC MAP PROJECTED REFDR V3.0"
DETECTOR_ID = MEX_HRSC_S2
EVENT_TYPE = "MARS-REGIONAL-MAPPING-Im-Gl-La"
INSTRUMENT_HOST_ID = MEX
INSTRUMENT_HOST_NAME = "MARS EXPRESS"
INSTRUMENT_ID = HRSC
INSTRUMENT_NAME = "HIGH RESOLUTION STEREO CAMERA"
MISSION_NAME = "MARS EXPRESS"
MISSION_PHASE_NAME = ME_Phase_17
PROCESSING_LEVEL_ID = 3
PRODUCT_CREATION_TIME = 2016-06-29T16:10:18.000Z
PRODUCT_ID = "H6902_0000_S23.JP2"
RELEASE_ID = 0077
REVISION_ID = 0000
/* QUALITY DATA ELEMENTS */
DATA_QUALITY_ID = 1
DATA_QUALITY_DESC = "Data calculated based on original SPICE kernels"
/* TIME DATA ELEMENTS */
SPACECRAFT_CLOCK_START_COUNT = "1/0190842894.09046"
SPACECRAFT_CLOCK_STOP_COUNT = "1/0190843215.56165"
START_TIME = 2009-05-19T19:56:37.470Z
STOP_TIME = 2009-05-19T20:00:16.364Z
/* ORBITAL DATA ELEMENTS */
ASCENDING_NODE_LONGITUDE = 86.02
MAXIMUM_RESOLUTION = 46.9
FOOTPRINT_POINT_LATITUDE = (-76.0026,-76.0981,-76.1675,-76.2305, -76.2872,-76.2518,-76.6376,-77.0236, -77.2195,-77.4177,-77.7132,-77.9214, -78.1192,-78.3196,-78.5198,-78.8168, -79.0184,-79.2229,-79.4305,-79.6339, -79.9429,-80.149,-80.3566,-80.5649, -80.8797,-81.0892,-81.3008,-81.5121, -81.7253,-81.9384,-82.1526,-82.3669, -82.691,-83.0153,-83.3403,-83.5575, -83.778,-83.9973,-84.2149,-84.4351, -84.6541,-84.8738,-85.0945,-85.3111, -85.529,-85.7452,-86.0728,-86.2866, -86.5019,-86.7104,-86.5251,-86.2958, -86.1469,-85.8743,-85.6696,-85.4349, -85.0642,-84.6917,-84.5738,-84.3816, -84.247,-84.0328,-83.8067,-83.4897, -83.3251,-83.1581,-82.9875,-82.815, -82.6402,-82.3739,-82.1933,-82.0135, -81.8307,-81.6477,-81.4619,-81.2771, -81.0907,-80.9044,-80.7139,-80.5286, -80.3401,-80.0587,-79.8697,-79.6817, -79.4921,-79.2097,-79.0203,-78.7385, -78.5496,-78.3621,-78.1747,-77.9868, -77.8004,-77.6128,-77.3341,-77.1372, -76.7661,-76.2123,-75.8456,-76.0026)
FOOTPRINT_POINT_LONGITUDE = (233.175,231.718,230.537,229.346, 228.144,226.399,226.605,226.821,226.937 ,227.061,227.25,227.388,227.523,227.666 ,227.813,228.032,228.193,228.367, 228.554,228.736,229.031,229.237,229.453 ,229.682,230.048,230.306,230.579, 230.865,231.169,231.49,231.83,232.189, 232.777,233.417,234.123,234.634,235.202 ,235.805,236.439,237.149,237.904, 238.739,239.661,240.634,241.731,242.926 ,245.063,246.668,248.545,250.595, 256.009,260.068,262.327,265.884,268.125 ,270.318,273.345,275.797,273.57,270.423 ,268.473,265.724,263.189,260.116, 258.701,257.363,256.097,254.897,253.763 ,252.169,251.169,250.23,249.33,248.479, 247.663,246.892,246.154,245.453,244.777 ,244.142,243.528,242.663,242.114, 241.591,241.086,240.371,239.916,239.27, 238.857,238.464,238.082,237.716,237.363 ,237.02,236.533,236.204,235.613,234.797 ,234.296,233.175)
ORBIT_NUMBER = 6902
ORBITAL_ECCENTRICITY = 0.576
ORBITAL_INCLINATION = 86.76
ORBITAL_SEMIMAJOR_AXIS = 8722.67
PERIAPSIS_ALTITUDE = 313.42
PERIAPSIS_ARGUMENT_ANGLE = 226.96
PERIAPSIS_TIME = 2009-05-19T19:48:01.000Z
SPACECRAFT_ORIENTATION = (0.0,-1.0,0.0)
^MEX_ORIENTATION_DESC = "MEX_ORIENTATION_DESC.TXT"
SPACECRAFT_POINTING_MODE = NADIR
^MEX_POINTING_DESC = "MEX_POINTING_DESC.TXT"
RIGHT_ASCENSION = -1e+32
DECLINATION = -1e+32
OFFSET_ANGLE = -1e+32
SPACECRAFT_SOLAR_DISTANCE = 2.07512e+08
TARGET_NAME = MARS
/* CAMERA DATA ELEMENTS */
DETECTOR_TEMPERATURE = 18.5744
FOCAL_PLANE_TEMPERATURE = 8.5833
INST_CMPRS_NAME = "DISCRETE COSINE TRANSFORMATION (DCT)"
INST_CMPRS_RATIO = 8.95786
INST_CMPRS_QUALITY = 0
INST_CMPRS_QUANTZ_TBL_ID = 0
INSTRUMENT_TEMPERATURE = 11.0301
LENS_TEMPERATURE = 8.9911
MACROPIXEL_SIZE = 2
MISSING_FRAMES = 2
PIXEL_SUBSAMPLING_FLAG = N
SIGNAL_CHAIN_ID = 1
/* RADIOMETRIC DATA ELEMENTS */
BANDWIDTH = 178.0
CENTER_FILTER_WAVELENGTH = 679.0
RADIANCE_OFFSET = 2.9351
RADIANCE_SCALING_FACTOR = 0.0413106
REFLECTANCE_SCALING_FACTOR = 0.00094206
MEX:REFLECTANCE_OFFSET = 0.066933
/* IMAGE OBJECT DEFINITIONS */
OBJECT = IMAGE
  INTERCHANGE_FORMAT = BINARY
  LINES = 12730
  LINE_SAMPLES = 7042
  SAMPLE_TYPE = UNSIGNED_INTEGER
  SAMPLE_BITS = 8
  BANDS = 1
  BAND_STORAGE_TYPE = BAND_SEQUENTIAL
  MAXIMUM = 255
  MEAN = 70.7988
  MINIMUM = 1
  STANDARD_DEVIATION = 68.718
END_OBJECT = IMAGE
/* MAP OBJECT DEFINITIONS */
OBJECT = IMAGE_MAP_PROJECTION
  ^DATA_SET_MAP_PROJECTION_CATALOG= "DSMAP.CAT"
  A_AXIS_RADIUS = 3396.0
  B_AXIS_RADIUS = 3396.0
  C_AXIS_RADIUS = 3396.0
  CENTER_LATITUDE = 0.0
  CENTER_LONGITUDE = 238.0
  COORDINATE_SYSTEM_NAME = PLANETOGRAPHIC
  COORDINATE_SYSTEM_TYPE = "BODY-FIXED ROTATING"
  EASTERNMOST_LONGITUDE = 275.797
  FIRST_STANDARD_PARALLEL = "N/A"
  LINE_FIRST_PIXEL = 1
  LINE_LAST_PIXEL = 12730
  LINE_PROJECTION_OFFSET = -89903.75
  MAP_PROJECTION_ROTATION = 0.0
  MAP_PROJECTION_TYPE = SINUSOIDAL
  MAP_RESOLUTION = 1185.42760773333
  MAP_SCALE = 0.05
  MAXIMUM_LATITUDE = -75.8456
  MINIMUM_LATITUDE = -86.71040000000001
  POSITIVE_LONGITUDE_DIRECTION = EAST
  REFERENCE_LATITUDE = "N/A"
  REFERENCE_LONGITUDE = "N/A"
  SAMPLE_FIRST_PIXEL = 1
  SAMPLE_LAST_PIXEL = 7042
  SAMPLE_PROJECTION_OFFSET = 3124.25
  SECOND_STANDARD_PARALLEL = "N/A"
  WESTERNMOST_LONGITUDE = 226.399
END_OBJECT = IMAGE_MAP_PROJECTION
/* The JPEG2000 image data file associated with this label. */
OBJECT = COMPRESSED_FILE
  FILE_NAME = "H6902_0000_S23.JP2"
  RECORD_TYPE = UNDEFINED
  FILE_RECORDS = UNK
  ENCODING_TYPE = "JP2"
  INTERCHANGE_FORMAT = BINARY
  UNCOMPRESSED_FILE_NAME = "H6902_0000_S23.IMG"
  REQUIRED_STORAGE_BYTES = "89679870"
  ^DESCRIPTION = "JP2INFO.TXT"
END_OBJECT = COMPRESSED_FILE
END
