PDS_VERSION_ID = PDS3
/* FILE DATA ELEMENTS */
RECORD_TYPE = STREAM
/* POINTERS TO DATA OBJECTS */
^COMPRESSED_FILE = "H6915_0000_IR3.JP2"
/* IDENTIFICATION DATA ELEMENTS */
DATA_SET_ID = "MEX-M-HRSC-5-REFDR-MAPPROJECTED-V3.0"
DATA_SET_NAME = "MARS EXPRESS HRSC MAP PROJECTED REFDR V3.0"
DETECTOR_ID = MEX_HRSC_IR
EVENT_TYPE = "MARS-REGIONAL-MAPPING-Gl"
INSTRUMENT_HOST_ID = MEX
INSTRUMENT_HOST_NAME = "MARS EXPRESS"
INSTRUMENT_ID = HRSC
INSTRUMENT_NAME = "HIGH RESOLUTION STEREO CAMERA"
MISSION_NAME = "MARS EXPRESS"
MISSION_PHASE_NAME = ME_Phase_17
PROCESSING_LEVEL_ID = 3
PRODUCT_CREATION_TIME = 2016-06-29T16:10:18.000Z
PRODUCT_ID = "H6915_0000_IR3.JP2"
RELEASE_ID = 0077
REVISION_ID = 0000
/* QUALITY DATA ELEMENTS */
DATA_QUALITY_ID = 1
DATA_QUALITY_DESC = "Data calculated based on original SPICE kernels"
/* TIME DATA ELEMENTS */
SPACECRAFT_CLOCK_START_COUNT = "1/0191165649.07301"
SPACECRAFT_CLOCK_STOP_COUNT = "1/0191166062.06866"
START_TIME = 2009-05-23T13:34:20.149Z
STOP_TIME = 2009-05-23T13:37:57.215Z
/* ORBITAL DATA ELEMENTS */
ASCENDING_NODE_LONGITUDE = 85.77
MAXIMUM_RESOLUTION = 83
FOOTPRINT_POINT_LATITUDE = (-77.9659,-78.0552,-78.1667,-78.2548, -78.3193,-78.3924,-78.7463,-79.1985, -79.5417,-79.7709,-80.1179,-80.3505, -80.5825,-80.8195,-81.0517,-81.2864, -81.6428,-82.0007,-82.2408,-82.4809, -82.7245,-83.0891,-83.3345,-83.5779, -83.8232,-84.0686,-84.3084,-84.5499, -84.9152,-85.1585,-85.523,-85.7629, -86.0019,-86.3539,-86.5804,-86.9108, -87.2211,-87.4112,-87.5845,-87.7356, -87.8599,-87.9823,-88.0128,-88.0007, -87.9446,-87.8471,-87.7129,-87.5484, -87.3567,-86.8775,-86.5258,-86.2806, -85.9214,-85.6188,-85.3316,-85.1185, -85.2383,-85.3382,-85.4175,-85.4772, -85.5171,-85.5372,-85.5378,-85.5195, -85.4825,-85.4277,-85.3558,-85.2685, -85.1663,-85.0518,-84.9239,-84.786, -84.5604,-84.4,-84.1456,-83.9666, -83.7839,-83.596,-83.4046,-83.2084, -82.9094,-82.7055,-82.3973,-82.1881, -81.9779,-81.767,-81.4485,-81.2327, -81.0211,-80.8098,-80.5936,-80.381, -80.1669,-79.9518,-79.7395,-79.5233, -79.3078,-78.883,-78.3508,-77.9659)
FOOTPRINT_POINT_LONGITUDE = (366.124,364.813,363.011,361.419, 360.131,358.5,357.695,358.112,358.454, 358.696,359.083,359.359,359.649,359.957 ,360.286,360.632,361.195,361.812,362.26 ,362.736,363.253,364.095,364.718, 365.389,366.122,366.918,367.786,368.741 ,370.354,371.577,373.682,375.292, 377.117,380.319,382.827,387.322,392.916 ,397.396,402.597,408.574,415.4,427.036, 435.367,443.947,452.257,459.953,466.961 ,473.078,478.464,474.168,469.677, 467.186,464.195,462.089,460.403,457.371 ,453.963,450.446,446.838,443.154, 439.422,435.655,431.91,428.181,424.529, 420.975,417.534,414.247,411.105,408.169 ,405.313,402.665,398.971,396.719, 393.588,391.643,389.846,388.168,386.595 ,385.113,383.072,381.805,380.06,378.975 ,377.948,376.992,375.652,374.804, 374.035,373.309,372.597,371.938,371.307 ,370.703,370.138,369.582,369.056, 368.095,366.996,366.124)
ORBIT_NUMBER = 6915
ORBITAL_ECCENTRICITY = 0.576
ORBITAL_INCLINATION = 86.76
ORBITAL_SEMIMAJOR_AXIS = 8725.69
PERIAPSIS_ALTITUDE = 314.59
PERIAPSIS_ARGUMENT_ANGLE = 224.71
PERIAPSIS_TIME = 2009-05-23T13:26:05.000Z
SPACECRAFT_ORIENTATION = (0.0,-1.0,0.0)
^MEX_ORIENTATION_DESC = "MEX_ORIENTATION_DESC.TXT"
SPACECRAFT_POINTING_MODE = NADIR
^MEX_POINTING_DESC = "MEX_POINTING_DESC.TXT"
RIGHT_ASCENSION = -1e+32
DECLINATION = -1e+32
OFFSET_ANGLE = -1e+32
SPACECRAFT_SOLAR_DISTANCE = 2.07752e+08
TARGET_NAME = MARS
/* CAMERA DATA ELEMENTS */
DETECTOR_TEMPERATURE = 17.5549
FOCAL_PLANE_TEMPERATURE = 8.7872
INST_CMPRS_NAME = "DISCRETE COSINE TRANSFORMATION (DCT)"
INST_CMPRS_RATIO = 9.74136
INST_CMPRS_QUALITY = 0
INST_CMPRS_QUANTZ_TBL_ID = 0
INSTRUMENT_TEMPERATURE = 11.234
LENS_TEMPERATURE = 9.3989
MACROPIXEL_SIZE = 4
MISSING_FRAMES = 0
PIXEL_SUBSAMPLING_FLAG = N
SIGNAL_CHAIN_ID = 2
/* RADIOMETRIC DATA ELEMENTS */
BANDWIDTH = 81.0
CENTER_FILTER_WAVELENGTH = 955.5
RADIANCE_OFFSET = 1.01767
RADIANCE_SCALING_FACTOR = 0.00936321
REFLECTANCE_SCALING_FACTOR = 0.000871855
MEX:REFLECTANCE_OFFSET = 0.0947606
/* IMAGE OBJECT DEFINITIONS */
OBJECT = IMAGE
  INTERCHANGE_FORMAT = BINARY
  LINES = 5879
  LINE_SAMPLES = 6631
  SAMPLE_TYPE = UNSIGNED_INTEGER
  SAMPLE_BITS = 8
  BANDS = 1
  BAND_STORAGE_TYPE = BAND_SEQUENTIAL
  MAXIMUM = 255
  MEAN = 136.889
  MINIMUM = 1
  STANDARD_DEVIATION = 55.0389
END_OBJECT = IMAGE
/* MAP OBJECT DEFINITIONS */
OBJECT = IMAGE_MAP_PROJECTION
  ^DATA_SET_MAP_PROJECTION_CATALOG= "DSMAP.CAT"
  A_AXIS_RADIUS = 3396.0
  B_AXIS_RADIUS = 3396.0
  C_AXIS_RADIUS = 3396.0
  CENTER_LATITUDE = 0.0
  CENTER_LONGITUDE = 18.0
  COORDINATE_SYSTEM_NAME = PLANETOGRAPHIC
  COORDINATE_SYSTEM_TYPE = "BODY-FIXED ROTATING"
  EASTERNMOST_LONGITUDE = 118.464
  FIRST_STANDARD_PARALLEL = "N/A"
  LINE_FIRST_PIXEL = 1
  LINE_LAST_PIXEL = 5879
  LINE_PROJECTION_OFFSET = -46244.875
  MAP_PROJECTION_ROTATION = 0.0
  MAP_PROJECTION_TYPE = SINUSOIDAL
  MAP_RESOLUTION = 592.713803866667
  MAP_SCALE = 0.1
  MAXIMUM_LATITUDE = -77.9659
  MINIMUM_LATITUDE = -88.0128
  POSITIVE_LONGITUDE_DIRECTION = EAST
  REFERENCE_LATITUDE = "N/A"
  REFERENCE_LONGITUDE = "N/A"
  SAMPLE_FIRST_PIXEL = 1
  SAMPLE_LAST_PIXEL = 6631
  SAMPLE_PROJECTION_OFFSET = 2434.375
  SECOND_STANDARD_PARALLEL = "N/A"
  WESTERNMOST_LONGITUDE = -2.305
END_OBJECT = IMAGE_MAP_PROJECTION
/* The JPEG2000 image data file associated with this label. */
OBJECT = COMPRESSED_FILE
  FILE_NAME = "H6915_0000_IR3.JP2"
  RECORD_TYPE = UNDEFINED
  FILE_RECORDS = UNK
  ENCODING_TYPE = "JP2"
  INTERCHANGE_FORMAT = BINARY
  UNCOMPRESSED_FILE_NAME = "H6915_0000_IR3.IMG"
  REQUIRED_STORAGE_BYTES = "39016804"
  ^DESCRIPTION = "JP2INFO.TXT"
END_OBJECT = COMPRESSED_FILE
END
