PDS_VERSION_ID = PDS3
/* FILE DATA ELEMENTS */
RECORD_TYPE = STREAM
/* POINTERS TO DATA OBJECTS */
^COMPRESSED_FILE = "H6915_0000_RE3.JP2"
/* IDENTIFICATION DATA ELEMENTS */
DATA_SET_ID = "MEX-M-HRSC-5-REFDR-MAPPROJECTED-V3.0"
DATA_SET_NAME = "MARS EXPRESS HRSC MAP PROJECTED REFDR V3.0"
DETECTOR_ID = MEX_HRSC_RED
EVENT_TYPE = "MARS-REGIONAL-MAPPING-Gl"
INSTRUMENT_HOST_ID = MEX
INSTRUMENT_HOST_NAME = "MARS EXPRESS"
INSTRUMENT_ID = HRSC
INSTRUMENT_NAME = "HIGH RESOLUTION STEREO CAMERA"
MISSION_NAME = "MARS EXPRESS"
MISSION_PHASE_NAME = ME_Phase_17
PROCESSING_LEVEL_ID = 3
PRODUCT_CREATION_TIME = 2016-06-29T16:10:18.000Z
PRODUCT_ID = "H6915_0000_RE3.JP2"
RELEASE_ID = 0077
REVISION_ID = 0000
/* QUALITY DATA ELEMENTS */
DATA_QUALITY_ID = 1
DATA_QUALITY_DESC = "Data calculated based on original SPICE kernels"
/* TIME DATA ELEMENTS */
SPACECRAFT_CLOCK_START_COUNT = "1/0191165649.07301"
SPACECRAFT_CLOCK_STOP_COUNT = "1/0191166062.06866"
START_TIME = 2009-05-23T13:35:58.110Z
STOP_TIME = 2009-05-23T13:40:38.664Z
/* ORBITAL DATA ELEMENTS */
ASCENDING_NODE_LONGITUDE = 85.77
MAXIMUM_RESOLUTION = 104
FOOTPRINT_POINT_LATITUDE = (-78.2031,-78.3301,-78.4706,-78.5987, -78.7116,-79.1751,-79.6436,-79.9967, -80.4719,-80.7107,-80.9515,-81.3138, -81.555,-81.8,-82.1691,-82.4152, -82.6624,-82.9092,-83.1577,-83.4072, -83.7825,-84.0332,-84.288,-84.5454, -84.7987,-85.0516,-85.3043,-85.555, -85.8083,-86.0578,-86.3053,-86.5497, -86.7899,-87.0249,-87.2533,-87.4723, -87.679,-87.8681,-88.1054,-88.2226, -88.3216,-88.3177,-88.2122,-88.0935, -87.9444,-87.7727,-87.4819,-87.1507, -86.9086,-86.724,-86.456,-86.2563, -86.0501,-85.8148,-85.493,-85.11, -84.8585,-84.9238,-85.0146,-85.0923, -85.1557,-85.2043,-85.237,-85.2534, -85.2479,-85.2233,-85.1816,-85.1233, -85.0059,-84.908,-84.8011,-84.6801, -84.4789,-84.3316,-84.1755,-84.0128, -83.8446,-83.6692,-83.4864,-83.3009, -83.1112,-82.9223,-82.622,-82.4198, -82.2174,-81.9097,-81.7,-81.4908, -81.2831,-81.0748,-80.8595,-80.5358, -80.3215,-80.1064,-79.7825,-79.2474, -78.8153,-78.4912,-78.0615,-78.2031)
FOOTPRINT_POINT_LONGITUDE = (365.765,363.925,361.57,358.967,356.811 ,357.173,357.574,357.9,358.379,358.639, 358.916,359.361,359.674,360.02,360.584, 360.987,361.419,361.878,362.377,362.919 ,363.817,364.484,365.238,366.09,366.994 ,367.989,369.098,370.322,371.754, 373.336,375.142,377.215,379.609,382.399 ,385.688,389.584,394.247,399.778, 409.981,418.053,431.765,446.101,459.504 ,467.319,474.08,479.82,486.819,480.985, 476.465,473.586,470.17,467.954,465.99, 463.964,461.614,459.205,457.882,453.346 ,450.476,447.455,444.322,441.1,437.797, 434.441,429.397,426.037,422.701,419.418 ,414.671,411.644,408.803,406.077, 402.257,399.88,397.637,395.534,393.564, 391.709,389.956,388.319,386.783,385.352 ,383.332,382.088,380.922,379.297, 378.285,377.33,376.433,375.583,374.771, 373.632,372.922,372.248,371.298,369.86, 368.824,368.106,367.22,365.765)
ORBIT_NUMBER = 6915
ORBITAL_ECCENTRICITY = 0.576
ORBITAL_INCLINATION = 86.76
ORBITAL_SEMIMAJOR_AXIS = 8725.69
PERIAPSIS_ALTITUDE = 314.59
PERIAPSIS_ARGUMENT_ANGLE = 224.71
PERIAPSIS_TIME = 2009-05-23T13:26:05.000Z
SPACECRAFT_ORIENTATION = (0.0,-1.0,0.0)
^MEX_ORIENTATION_DESC = "MEX_ORIENTATION_DESC.TXT"
SPACECRAFT_POINTING_MODE = NADIR
^MEX_POINTING_DESC = "MEX_POINTING_DESC.TXT"
RIGHT_ASCENSION = -1e+32
DECLINATION = -1e+32
OFFSET_ANGLE = -1e+32
SPACECRAFT_SOLAR_DISTANCE = 2.07752e+08
TARGET_NAME = MARS
/* CAMERA DATA ELEMENTS */
DETECTOR_TEMPERATURE = 18.5744
FOCAL_PLANE_TEMPERATURE = 8.7872
INST_CMPRS_NAME = "DISCRETE COSINE TRANSFORMATION (DCT)"
INST_CMPRS_RATIO = 9.60932
INST_CMPRS_QUALITY = 0
INST_CMPRS_QUANTZ_TBL_ID = 0
INSTRUMENT_TEMPERATURE = 11.234
LENS_TEMPERATURE = 9.3989
MACROPIXEL_SIZE = 4
MISSING_FRAMES = 0
PIXEL_SUBSAMPLING_FLAG = N
SIGNAL_CHAIN_ID = 2
/* RADIOMETRIC DATA ELEMENTS */
BANDWIDTH = 48.0
CENTER_FILTER_WAVELENGTH = 748.0
RADIANCE_OFFSET = 1.11975
RADIANCE_SCALING_FACTOR = 0.00784142
REFLECTANCE_SCALING_FACTOR = 0.000772347
MEX:REFLECTANCE_OFFSET = 0.110291
/* IMAGE OBJECT DEFINITIONS */
OBJECT = IMAGE
  INTERCHANGE_FORMAT = BINARY
  LINES = 5879
  LINE_SAMPLES = 6631
  SAMPLE_TYPE = UNSIGNED_INTEGER
  SAMPLE_BITS = 8
  BANDS = 1
  BAND_STORAGE_TYPE = BAND_SEQUENTIAL
  MAXIMUM = 255
  MEAN = 167.809
  MINIMUM = 1
  STANDARD_DEVIATION = 70.4824
END_OBJECT = IMAGE
/* MAP OBJECT DEFINITIONS */
OBJECT = IMAGE_MAP_PROJECTION
  ^DATA_SET_MAP_PROJECTION_CATALOG= "DSMAP.CAT"
  A_AXIS_RADIUS = 3396.0
  B_AXIS_RADIUS = 3396.0
  C_AXIS_RADIUS = 3396.0
  CENTER_LATITUDE = 0.0
  CENTER_LONGITUDE = 18.0
  COORDINATE_SYSTEM_NAME = PLANETOGRAPHIC
  COORDINATE_SYSTEM_TYPE = "BODY-FIXED ROTATING"
  EASTERNMOST_LONGITUDE = 126.819
  FIRST_STANDARD_PARALLEL = "N/A"
  LINE_FIRST_PIXEL = 1
  LINE_LAST_PIXEL = 5879
  LINE_PROJECTION_OFFSET = -46244.875
  MAP_PROJECTION_ROTATION = 0.0
  MAP_PROJECTION_TYPE = SINUSOIDAL
  MAP_RESOLUTION = 592.713803866667
  MAP_SCALE = 0.1
  MAXIMUM_LATITUDE = -78.0615
  MINIMUM_LATITUDE = -88.3216
  POSITIVE_LONGITUDE_DIRECTION = EAST
  REFERENCE_LATITUDE = "N/A"
  REFERENCE_LONGITUDE = "N/A"
  SAMPLE_FIRST_PIXEL = 1
  SAMPLE_LAST_PIXEL = 6631
  SAMPLE_PROJECTION_OFFSET = 2434.375
  SECOND_STANDARD_PARALLEL = "N/A"
  WESTERNMOST_LONGITUDE = -3.189
END_OBJECT = IMAGE_MAP_PROJECTION
/* The JPEG2000 image data file associated with this label. */
OBJECT = COMPRESSED_FILE
  FILE_NAME = "H6915_0000_RE3.JP2"
  RECORD_TYPE = UNDEFINED
  FILE_RECORDS = UNK
  ENCODING_TYPE = "JP2"
  INTERCHANGE_FORMAT = BINARY
  UNCOMPRESSED_FILE_NAME = "H6915_0000_RE3.IMG"
  REQUIRED_STORAGE_BYTES = "39016804"
  ^DESCRIPTION = "JP2INFO.TXT"
END_OBJECT = COMPRESSED_FILE
END
