PDS_VERSION_ID = PDS3
/* FILE DATA ELEMENTS */
RECORD_TYPE = STREAM
/* POINTERS TO DATA OBJECTS */
^COMPRESSED_FILE = "H6915_0000_S13.JP2"
/* IDENTIFICATION DATA ELEMENTS */
DATA_SET_ID = "MEX-M-HRSC-5-REFDR-MAPPROJECTED-V3.0"
DATA_SET_NAME = "MARS EXPRESS HRSC MAP PROJECTED REFDR V3.0"
DETECTOR_ID = MEX_HRSC_S1
EVENT_TYPE = "MARS-REGIONAL-MAPPING-Gl"
INSTRUMENT_HOST_ID = MEX
INSTRUMENT_HOST_NAME = "MARS EXPRESS"
INSTRUMENT_ID = HRSC
INSTRUMENT_NAME = "HIGH RESOLUTION STEREO CAMERA"
MISSION_NAME = "MARS EXPRESS"
MISSION_PHASE_NAME = ME_Phase_17
PROCESSING_LEVEL_ID = 3
PRODUCT_CREATION_TIME = 2016-06-29T16:10:18.000Z
PRODUCT_ID = "H6915_0000_S13.JP2"
RELEASE_ID = 0077
REVISION_ID = 0000
/* QUALITY DATA ELEMENTS */
DATA_QUALITY_ID = 1
DATA_QUALITY_DESC = "Data calculated based on original SPICE kernels"
/* TIME DATA ELEMENTS */
SPACECRAFT_CLOCK_START_COUNT = "1/0191165649.07301"
SPACECRAFT_CLOCK_STOP_COUNT = "1/0191166062.06866"
START_TIME = 2009-05-23T13:34:11.535Z
STOP_TIME = 2009-05-23T13:37:44.344Z
/* ORBITAL DATA ELEMENTS */
ASCENDING_NODE_LONGITUDE = 85.77
MAXIMUM_RESOLUTION = 41.6
FOOTPRINT_POINT_LATITUDE = (-77.9399,-78.0662,-78.1436,-78.2618, -78.3318,-78.3946,-78.7275,-79.1774, -79.4048,-79.6319,-79.8603,-80.0917, -80.4378,-80.6705,-81.0202,-81.2541, -81.4897,-81.7258,-81.9642,-82.2026, -82.4416,-82.8054,-83.0466,-83.2908, -83.654,-83.8989,-84.1432,-84.3787, -84.6198,-84.9839,-85.2253,-85.5872, -85.8253,-86.0629,-86.2961,-86.5247, -86.7443,-86.9609,-87.1668,-87.3601, -87.5365,-87.6938,-87.8789,-87.9604, -88.003,-88.0032,-87.9594,-87.8165, -87.677,-87.5071,-87.1952,-86.7749, -86.3429,-85.9754,-85.5289,-85.0841, -85.2087,-85.3201,-85.4082,-85.4767, -85.5254,-85.5546,-85.5639,-85.5421, -85.5042,-85.4487,-85.3763,-85.2386, -85.0712,-84.9431,-84.805,-84.5794, -84.419,-84.165,-83.9865,-83.8041, -83.6161,-83.4258,-83.2299,-82.9316, -82.7281,-82.5244,-82.3174,-82.1087, -81.897,-81.6878,-81.4743,-81.1551, -80.9417,-80.6233,-80.3048,-80.0916, -79.8772,-79.6652,-79.4493,-79.2357, -79.0256,-78.8123,-78.2828,-77.9399)
FOOTPRINT_POINT_LONGITUDE = (366.013,364.105,362.813,360.599,359.1, 357.582,357.689,358.104,358.328,358.562 ,358.807,359.068,359.482,359.781, 360.259,360.602,360.968,361.354,361.768 ,362.21,362.68,363.457,364.02,364.634, 365.644,366.396,367.211,368.1,369.076, 370.735,371.99,374.154,375.812,377.698, 379.826,382.258,385.017,388.236,391.943 ,396.25,401.215,406.98,417.115,424.783, 433.017,441.486,449.901,461.424,468.178 ,474.14,478.972,472.307,467.435,464.315 ,461.326,458.979,455.675,452.15,448.582 ,444.917,441.203,437.432,433.668,428.07 ,424.411,420.855,417.421,412.533, 408.065,405.217,402.574,398.886,396.637 ,393.515,391.579,389.787,388.105, 386.545,385.067,383.031,381.767,380.595 ,379.482,378.435,377.433,376.52,375.629 ,374.404,373.642,372.587,371.611, 370.997,370.41,369.856,369.313,368.806, 368.331,367.865,366.793,366.013)
ORBIT_NUMBER = 6915
ORBITAL_ECCENTRICITY = 0.576
ORBITAL_INCLINATION = 86.76
ORBITAL_SEMIMAJOR_AXIS = 8725.69
PERIAPSIS_ALTITUDE = 314.59
PERIAPSIS_ARGUMENT_ANGLE = 224.71
PERIAPSIS_TIME = 2009-05-23T13:26:05.000Z
SPACECRAFT_ORIENTATION = (0.0,-1.0,0.0)
^MEX_ORIENTATION_DESC = "MEX_ORIENTATION_DESC.TXT"
SPACECRAFT_POINTING_MODE = NADIR
^MEX_POINTING_DESC = "MEX_POINTING_DESC.TXT"
RIGHT_ASCENSION = -1e+32
DECLINATION = -1e+32
OFFSET_ANGLE = -1e+32
SPACECRAFT_SOLAR_DISTANCE = 2.07752e+08
TARGET_NAME = MARS
/* CAMERA DATA ELEMENTS */
DETECTOR_TEMPERATURE = 17.5549
FOCAL_PLANE_TEMPERATURE = 8.7872
INST_CMPRS_NAME = "DISCRETE COSINE TRANSFORMATION (DCT)"
INST_CMPRS_RATIO = 8.40354
INST_CMPRS_QUALITY = 0
INST_CMPRS_QUANTZ_TBL_ID = 0
INSTRUMENT_TEMPERATURE = 11.234
LENS_TEMPERATURE = 9.3989
MACROPIXEL_SIZE = 2
MISSING_FRAMES = 0
PIXEL_SUBSAMPLING_FLAG = N
SIGNAL_CHAIN_ID = 1
/* RADIOMETRIC DATA ELEMENTS */
BANDWIDTH = 180.0
CENTER_FILTER_WAVELENGTH = 677.0
RADIANCE_OFFSET = 4.68933
RADIANCE_SCALING_FACTOR = 0.041568
REFLECTANCE_SCALING_FACTOR = 0.000936036
MEX:REFLECTANCE_OFFSET = 0.105595
/* IMAGE OBJECT DEFINITIONS */
OBJECT = IMAGE
  INTERCHANGE_FORMAT = BINARY
  LINES = 11758
  LINE_SAMPLES = 13262
  SAMPLE_TYPE = UNSIGNED_INTEGER
  SAMPLE_BITS = 8
  BANDS = 1
  BAND_STORAGE_TYPE = BAND_SEQUENTIAL
  MAXIMUM = 255
  MEAN = 137.26
  MINIMUM = 1
  STANDARD_DEVIATION = 57.4222
END_OBJECT = IMAGE
/* MAP OBJECT DEFINITIONS */
OBJECT = IMAGE_MAP_PROJECTION
  ^DATA_SET_MAP_PROJECTION_CATALOG= "DSMAP.CAT"
  A_AXIS_RADIUS = 3396.0
  B_AXIS_RADIUS = 3396.0
  C_AXIS_RADIUS = 3396.0
  CENTER_LATITUDE = 0.0
  CENTER_LONGITUDE = 18.0
  COORDINATE_SYSTEM_NAME = PLANETOGRAPHIC
  COORDINATE_SYSTEM_TYPE = "BODY-FIXED ROTATING"
  EASTERNMOST_LONGITUDE = 118.972
  FIRST_STANDARD_PARALLEL = "N/A"
  LINE_FIRST_PIXEL = 1
  LINE_LAST_PIXEL = 11758
  LINE_PROJECTION_OFFSET = -92489.25
  MAP_PROJECTION_ROTATION = 0.0
  MAP_PROJECTION_TYPE = SINUSOIDAL
  MAP_RESOLUTION = 1185.42760773333
  MAP_SCALE = 0.05
  MAXIMUM_LATITUDE = -77.93989999999999
  MINIMUM_LATITUDE = -88.00320000000001
  POSITIVE_LONGITUDE_DIRECTION = EAST
  REFERENCE_LATITUDE = "N/A"
  REFERENCE_LONGITUDE = "N/A"
  SAMPLE_FIRST_PIXEL = 1
  SAMPLE_LAST_PIXEL = 13262
  SAMPLE_PROJECTION_OFFSET = 4869.25
  SECOND_STANDARD_PARALLEL = "N/A"
  WESTERNMOST_LONGITUDE = -2.418
END_OBJECT = IMAGE_MAP_PROJECTION
/* The JPEG2000 image data file associated with this label. */
OBJECT = COMPRESSED_FILE
  FILE_NAME = "H6915_0000_S13.JP2"
  RECORD_TYPE = UNDEFINED
  FILE_RECORDS = UNK
  ENCODING_TYPE = "JP2"
  INTERCHANGE_FORMAT = BINARY
  UNCOMPRESSED_FILE_NAME = "H6915_0000_S13.IMG"
  REQUIRED_STORAGE_BYTES = "155974382"
  ^DESCRIPTION = "JP2INFO.TXT"
END_OBJECT = COMPRESSED_FILE
END
