PDS_VERSION_ID = PDS3
/* FILE DATA ELEMENTS */
RECORD_TYPE = STREAM
/* POINTERS TO DATA OBJECTS */
^COMPRESSED_FILE = "H6957_0000_GR3.JP2"
/* IDENTIFICATION DATA ELEMENTS */
DATA_SET_ID = "MEX-M-HRSC-5-REFDR-MAPPROJECTED-V3.0"
DATA_SET_NAME = "MARS EXPRESS HRSC MAP PROJECTED REFDR V3.0"
DETECTOR_ID = MEX_HRSC_GREEN
EVENT_TYPE = "MARS-REGIONAL-MAPPING-Gl-La"
INSTRUMENT_HOST_ID = MEX
INSTRUMENT_HOST_NAME = "MARS EXPRESS"
INSTRUMENT_ID = HRSC
INSTRUMENT_NAME = "HIGH RESOLUTION STEREO CAMERA"
MISSION_NAME = "MARS EXPRESS"
MISSION_PHASE_NAME = ME_Phase_17
PROCESSING_LEVEL_ID = 3
PRODUCT_CREATION_TIME = 2016-06-29T16:10:18.000Z
PRODUCT_ID = "H6957_0000_GR3.JP2"
RELEASE_ID = 0077
REVISION_ID = 0000
/* QUALITY DATA ELEMENTS */
DATA_QUALITY_ID = 1
DATA_QUALITY_DESC = "Data calculated based on original SPICE kernels"
/* TIME DATA ELEMENTS */
SPACECRAFT_CLOCK_START_COUNT = "1/0192208214.09057"
SPACECRAFT_CLOCK_STOP_COUNT = "1/0192208648.63167"
START_TIME = 2009-06-04T15:11:05.349Z
STOP_TIME = 2009-06-04T15:14:58.869Z
/* ORBITAL DATA ELEMENTS */
ASCENDING_NODE_LONGITUDE = 84.95
MAXIMUM_RESOLUTION = 98.8
FOOTPRINT_POINT_LATITUDE = (-74.452,-74.5236,-74.5973,-74.6529, -74.716,-74.7812,-75.0286,-75.4688, -75.8002,-76.2499,-76.8163,-77.0456, -77.2746,-77.5057,-77.7377,-77.9715, -78.2058,-78.4418,-78.6784,-79.0359, -79.3954,-79.6367,-79.8795,-80.1229, -80.3684,-80.7378,-80.9854,-81.2347, -81.6105,-81.8619,-82.1152,-82.369, -82.6243,-82.8807,-83.1382,-83.3961, -83.6555,-83.9151,-84.176,-84.4377, -84.6992,-84.9613,-85.2241,-85.4864, -85.7483,-86.0081,-86.2664,-86.5221, -86.7742,-87.0214,-86.8372,-86.5389, -86.3271,-85.8787,-85.5962,-85.1838, -84.9354,-84.6642,-84.535,-84.3943, -84.2438,-84.0842,-83.9165,-83.7418, -83.5609,-83.374,-83.1818,-82.986, -82.6844,-82.4796,-82.2715,-82.0617, -81.7429,-81.4202,-81.2033,-80.9853, -80.7669,-80.5469,-80.3274,-79.9967, -79.7756,-79.5551,-79.334,-79.1133, -78.7822,-78.5612,-78.3416,-78.1211, -77.9022,-77.6823,-77.4644,-77.2455, -77.0286,-76.487,-76.0565,-75.6284, -75.3087,-74.9924,-74.5716,-74.452)
FOOTPRINT_POINT_LONGITUDE = (85.9511,84.8148,83.5238,82.4411, 81.0587,79.3678,79.1066,79.2844,79.4293 ,79.6229,79.8961,80.0161,80.14,80.2698, 80.4021,80.5397,80.6852,80.8373,80.9992 ,81.257,81.5351,81.7317,81.9424,82.1617 ,82.395,82.7716,83.0423,83.3333,83.8026 ,84.1431,84.5105,84.9024,85.3255,85.782 ,86.267,86.8087,87.3902,88.024,88.7238, 89.4933,90.3425,91.2861,92.3383,93.5187 ,94.8494,96.3814,98.1418,100.173, 102.536,105.309,112.554,117.769,120.757 ,125.786,128.305,131.367,132.935, 132.695,129.97,127.402,124.974,122.687, 120.535,118.525,116.633,114.861,113.198 ,111.639,109.474,108.139,106.884, 105.705,104.058,102.554,101.619,100.736 ,99.9044,99.1281,98.3861,97.3386, 96.6682,96.0451,95.4501,94.8821,94.0806 ,93.5733,93.0922,92.6291,92.1884, 91.7638,91.3596,90.9697,90.5935,89.723, 89.0856,88.491,88.0727,87.6892,87.1906, 85.9511)
ORBIT_NUMBER = 6957
ORBITAL_ECCENTRICITY = 0.576
ORBITAL_INCLINATION = 86.78
ORBITAL_SEMIMAJOR_AXIS = 8740.76
PERIAPSIS_ALTITUDE = 315.02
PERIAPSIS_ARGUMENT_ANGLE = 217.47
PERIAPSIS_TIME = 2009-06-04T15:01:16.000Z
SPACECRAFT_ORIENTATION = (0.0,-1.0,0.0)
^MEX_ORIENTATION_DESC = "MEX_ORIENTATION_DESC.TXT"
SPACECRAFT_POINTING_MODE = NADIR
^MEX_POINTING_DESC = "MEX_POINTING_DESC.TXT"
RIGHT_ASCENSION = -1e+32
DECLINATION = -1e+32
OFFSET_ANGLE = -1e+32
SPACECRAFT_SOLAR_DISTANCE = 2.08716e+08
TARGET_NAME = MARS
/* CAMERA DATA ELEMENTS */
DETECTOR_TEMPERATURE = 18.3705
FOCAL_PLANE_TEMPERATURE = 8.9911
INST_CMPRS_NAME = "DISCRETE COSINE TRANSFORMATION (DCT)"
INST_CMPRS_RATIO = 23.1878
INST_CMPRS_QUALITY = 0
INST_CMPRS_QUANTZ_TBL_ID = 0
INSTRUMENT_TEMPERATURE = 11.234
LENS_TEMPERATURE = 9.195
MACROPIXEL_SIZE = 4
MISSING_FRAMES = 0
PIXEL_SUBSAMPLING_FLAG = N
SIGNAL_CHAIN_ID = 2
/* RADIOMETRIC DATA ELEMENTS */
BANDWIDTH = 88.0
CENTER_FILTER_WAVELENGTH = 538.0
RADIANCE_OFFSET = 1.01468
RADIANCE_SCALING_FACTOR = 0.00457872
REFLECTANCE_SCALING_FACTOR = 0.000171731
MEX:REFLECTANCE_OFFSET = 0.0380567
/* IMAGE OBJECT DEFINITIONS */
OBJECT = IMAGE
  INTERCHANGE_FORMAT = BINARY
  LINES = 7543
  LINE_SAMPLES = 4109
  SAMPLE_TYPE = UNSIGNED_INTEGER
  SAMPLE_BITS = 8
  BANDS = 1
  BAND_STORAGE_TYPE = BAND_SEQUENTIAL
  MAXIMUM = 255
  MEAN = 99.2143
  MINIMUM = 1
  STANDARD_DEVIATION = 36.31
END_OBJECT = IMAGE
/* MAP OBJECT DEFINITIONS */
OBJECT = IMAGE_MAP_PROJECTION
  ^DATA_SET_MAP_PROJECTION_CATALOG= "DSMAP.CAT"
  A_AXIS_RADIUS = 3396.0
  B_AXIS_RADIUS = 3396.0
  C_AXIS_RADIUS = 3396.0
  CENTER_LATITUDE = 0.0
  CENTER_LONGITUDE = 90.0
  COORDINATE_SYSTEM_NAME = PLANETOGRAPHIC
  COORDINATE_SYSTEM_TYPE = "BODY-FIXED ROTATING"
  EASTERNMOST_LONGITUDE = 132.935
  FIRST_STANDARD_PARALLEL = "N/A"
  LINE_FIRST_PIXEL = 1
  LINE_LAST_PIXEL = 7543
  LINE_PROJECTION_OFFSET = -44092.125
  MAP_PROJECTION_ROTATION = 0.0
  MAP_PROJECTION_TYPE = SINUSOIDAL
  MAP_RESOLUTION = 592.713803866667
  MAP_SCALE = 0.1
  MAXIMUM_LATITUDE = -74.452
  MINIMUM_LATITUDE = -87.0214
  POSITIVE_LONGITUDE_DIRECTION = EAST
  REFERENCE_LATITUDE = "N/A"
  REFERENCE_LONGITUDE = "N/A"
  SAMPLE_FIRST_PIXEL = 1
  SAMPLE_LAST_PIXEL = 4109
  SAMPLE_PROJECTION_OFFSET = 1704.875
  SECOND_STANDARD_PARALLEL = "N/A"
  WESTERNMOST_LONGITUDE = 79.1066
END_OBJECT = IMAGE_MAP_PROJECTION
/* The JPEG2000 image data file associated with this label. */
OBJECT = COMPRESSED_FILE
  FILE_NAME = "H6957_0000_GR3.JP2"
  RECORD_TYPE = UNDEFINED
  FILE_RECORDS = UNK
  ENCODING_TYPE = "JP2"
  INTERCHANGE_FORMAT = BINARY
  UNCOMPRESSED_FILE_NAME = "H6957_0000_GR3.IMG"
  REQUIRED_STORAGE_BYTES = "31018841"
  ^DESCRIPTION = "JP2INFO.TXT"
END_OBJECT = COMPRESSED_FILE
END
