PDS_VERSION_ID = PDS3
/* FILE DATA ELEMENTS */
RECORD_TYPE = STREAM
/* POINTERS TO DATA OBJECTS */
^COMPRESSED_FILE = "H6959_0000_IR3.JP2"
/* IDENTIFICATION DATA ELEMENTS */
DATA_SET_ID = "MEX-M-HRSC-5-REFDR-MAPPROJECTED-V3.0"
DATA_SET_NAME = "MARS EXPRESS HRSC MAP PROJECTED REFDR V3.0"
DETECTOR_ID = MEX_HRSC_IR
EVENT_TYPE = "MARS-REGIONAL-VARIABLE-Gl-La"
INSTRUMENT_HOST_ID = MEX
INSTRUMENT_HOST_NAME = "MARS EXPRESS"
INSTRUMENT_ID = HRSC
INSTRUMENT_NAME = "HIGH RESOLUTION STEREO CAMERA"
MISSION_NAME = "MARS EXPRESS"
MISSION_PHASE_NAME = ME_Phase_17
PROCESSING_LEVEL_ID = 3
PRODUCT_CREATION_TIME = 2016-06-29T16:10:18.000Z
PRODUCT_ID = "H6959_0000_IR3.JP2"
RELEASE_ID = 0077
REVISION_ID = 0000
/* QUALITY DATA ELEMENTS */
DATA_QUALITY_ID = 1
DATA_QUALITY_DESC = "Data calculated based on original SPICE kernels"
/* TIME DATA ELEMENTS */
SPACECRAFT_CLOCK_START_COUNT = "1/0192257984.08250"
SPACECRAFT_CLOCK_STOP_COUNT = "1/0192258626.32571"
START_TIME = 2009-06-05T04:59:58.934Z
STOP_TIME = 2009-06-05T05:04:39.781Z
/* ORBITAL DATA ELEMENTS */
ASCENDING_NODE_LONGITUDE = 84.9
MAXIMUM_RESOLUTION = 119.6
FOOTPRINT_POINT_LATITUDE = (-82.1455,-82.2677,-82.3764,-82.4706, -82.5491,-82.6106,-82.6542,-82.9075, -83.4897,-84.2271,-84.8254,-85.2793, -85.5838,-85.8918,-86.202,-86.5124, -86.826,-87.1415,-87.456,-87.7736, -88.0948,-88.4149,-88.8883,-89.3388, -89.595,-89.682,-89.5024,-89.2254, -88.9241,-88.6146,-88.1439,-87.8292, -87.5137,-87.1983,-86.8832,-86.569, -86.0977,-85.7837,-85.4715,-85.1597, -84.8445,-84.5366,-84.2259,-83.9123, -83.607,-83.299,-82.9907,-82.5273, -82.0709,-81.4832,-81.5221,-81.5505, -81.5422,-81.4563,-81.3892,-81.255, -81.1058,-81.3924,-81.6787,-81.9644, -82.2496,-82.6763,-82.9587,-83.3794, -83.6579,-83.9339,-84.3493,-84.7527, -85.0159,-85.2736,-85.5235,-85.7685, -85.9976,-86.2243,-86.4321,-86.623, -86.7941,-87.0053,-87.1521,-87.2083, -87.2281,-87.2106,-87.1168,-86.9462, -86.7958,-86.6225,-86.4283,-86.2176, -85.996,-85.6415,-85.2734,-85.0181, -84.7576,-84.4953,-84.2314,-83.5636, -83.0256,-82.4886,-82.1455)
FOOTPRINT_POINT_LONGITUDE = (247.778,245.25,242.615,239.874,237.035 ,234.104,231.085,228.187,227.943, 227.566,227.196,226.851,226.586,226.266 ,225.876,225.446,224.918,224.258, 223.496,222.473,221.031,219.055,214.115 ,202.512,180.373,128.839,89.3478, 74.2439,67.3323,63.4852,60.1594,58.7395 ,57.6891,56.8737,56.2235,55.6876, 55.0531,54.7128,54.4094,54.1468,53.9438 ,53.7194,53.5401,53.4005,53.2302, 53.0935,52.9735,52.8228,52.6629,52.4829 ,50.0458,46.1257,42.4833,37.0538,34.529 ,30.7472,27.4709,26.8731,26.2303, 25.5382,24.79,23.549,22.6357,21.1111, 19.975,18.7313,16.5817,14.1108,12.2347, 10.1447,7.82278,5.17737,2.31102,358.915 ,355.197,351.03,346.382,338.509,329.592 ,323.171,316.579,309.965,300.427, 291.641,286.374,281.656,277.434,273.688 ,270.394,266.119,262.562,260.494, 258.639,256.98,255.488,252.336,250.292, 248.57,247.778)
ORBIT_NUMBER = 6959
ORBITAL_ECCENTRICITY = 0.576
ORBITAL_INCLINATION = 86.76
ORBITAL_SEMIMAJOR_AXIS = 8742.25
PERIAPSIS_ALTITUDE = 315.37
PERIAPSIS_ARGUMENT_ANGLE = 217.13
PERIAPSIS_TIME = 2009-06-05T04:48:35.000Z
SPACECRAFT_ORIENTATION = (0.0,-1.0,0.0)
^MEX_ORIENTATION_DESC = "MEX_ORIENTATION_DESC.TXT"
SPACECRAFT_POINTING_MODE = ACROSSTRACK
^MEX_POINTING_DESC = "MEX_POINTING_DESC.TXT"
RIGHT_ASCENSION = -1e+32
DECLINATION = -1e+32
OFFSET_ANGLE = -1.9
SPACECRAFT_SOLAR_DISTANCE = 2.08769e+08
TARGET_NAME = MARS
/* CAMERA DATA ELEMENTS */
DETECTOR_TEMPERATURE = 17.5549
FOCAL_PLANE_TEMPERATURE = 9.195
INST_CMPRS_NAME = "DISCRETE COSINE TRANSFORMATION (DCT)"
INST_CMPRS_RATIO = 13.6444
INST_CMPRS_QUALITY = 0
INST_CMPRS_QUANTZ_TBL_ID = 0
INSTRUMENT_TEMPERATURE = 11.234
LENS_TEMPERATURE = 10.4184
MACROPIXEL_SIZE = 4
MISSING_FRAMES = 0
PIXEL_SUBSAMPLING_FLAG = N
SIGNAL_CHAIN_ID = 2
/* RADIOMETRIC DATA ELEMENTS */
BANDWIDTH = 81.0
CENTER_FILTER_WAVELENGTH = 955.5
RADIANCE_OFFSET = 0.902516
RADIANCE_SCALING_FACTOR = 0.00947278
REFLECTANCE_SCALING_FACTOR = 0.000890715
MEX:REFLECTANCE_OFFSET = 0.0848626
/* IMAGE OBJECT DEFINITIONS */
OBJECT = IMAGE
  INTERCHANGE_FORMAT = BINARY
  LINES = 7732
  LINE_SAMPLES = 8335
  SAMPLE_TYPE = UNSIGNED_INTEGER
  SAMPLE_BITS = 8
  BANDS = 1
  BAND_STORAGE_TYPE = BAND_SEQUENTIAL
  MAXIMUM = 255
  MEAN = 186.233
  MINIMUM = 1
  STANDARD_DEVIATION = 93.3605
END_OBJECT = IMAGE
/* MAP OBJECT DEFINITIONS */
OBJECT = IMAGE_MAP_PROJECTION
  ^DATA_SET_MAP_PROJECTION_CATALOG= "DSMAP.CAT"
  A_AXIS_RADIUS = 3396.0
  B_AXIS_RADIUS = 3396.0
  C_AXIS_RADIUS = 3396.0
  CENTER_LATITUDE = -90.0
  CENTER_LONGITUDE = 0.0
  COORDINATE_SYSTEM_NAME = PLANETOGRAPHIC
  COORDINATE_SYSTEM_TYPE = "BODY-FIXED ROTATING"
  EASTERNMOST_LONGITUDE = 360.0
  FIRST_STANDARD_PARALLEL = "N/A"
  LINE_FIRST_PIXEL = 1
  LINE_LAST_PIXEL = 7732
  LINE_PROJECTION_OFFSET = 4851.625
  MAP_PROJECTION_ROTATION = 0.0
  MAP_PROJECTION_TYPE = STEREOGRAPHIC
  MAP_RESOLUTION = 592.713803866667
  MAP_SCALE = 0.1
  MAXIMUM_LATITUDE = -81.1058
  MINIMUM_LATITUDE = -90.0
  POSITIVE_LONGITUDE_DIRECTION = EAST
  REFERENCE_LATITUDE = "N/A"
  REFERENCE_LONGITUDE = "N/A"
  SAMPLE_FIRST_PIXEL = 1
  SAMPLE_LAST_PIXEL = 8335
  SAMPLE_PROJECTION_OFFSET = 4292.375
  SECOND_STANDARD_PARALLEL = "N/A"
  WESTERNMOST_LONGITUDE = 0.0
END_OBJECT = IMAGE_MAP_PROJECTION
/* The JPEG2000 image data file associated with this label. */
OBJECT = COMPRESSED_FILE
  FILE_NAME = "H6959_0000_IR3.JP2"
  RECORD_TYPE = UNDEFINED
  FILE_RECORDS = UNK
  ENCODING_TYPE = "JP2"
  INTERCHANGE_FORMAT = BINARY
  UNCOMPRESSED_FILE_NAME = "H6959_0000_IR3.IMG"
  REQUIRED_STORAGE_BYTES = "64487895"
  ^DESCRIPTION = "JP2INFO.TXT"
END_OBJECT = COMPRESSED_FILE
END
