PDS_VERSION_ID = PDS3
/* FILE DATA ELEMENTS */
RECORD_TYPE = STREAM
/* POINTERS TO DATA OBJECTS */
^COMPRESSED_FILE = "H6961_0000_BL3.JP2"
/* IDENTIFICATION DATA ELEMENTS */
DATA_SET_ID = "MEX-M-HRSC-5-REFDR-MAPPROJECTED-V3.0"
DATA_SET_NAME = "MARS EXPRESS HRSC MAP PROJECTED REFDR V3.0"
DETECTOR_ID = MEX_HRSC_BLUE
EVENT_TYPE = "MARS-REGIONAL-MAPPING-Vo-Gl"
INSTRUMENT_HOST_ID = MEX
INSTRUMENT_HOST_NAME = "MARS EXPRESS"
INSTRUMENT_ID = HRSC
INSTRUMENT_NAME = "HIGH RESOLUTION STEREO CAMERA"
MISSION_NAME = "MARS EXPRESS"
MISSION_PHASE_NAME = ME_Phase_17
PROCESSING_LEVEL_ID = 3
PRODUCT_CREATION_TIME = 2016-06-29T16:10:18.000Z
PRODUCT_ID = "H6961_0000_BL3.JP2"
RELEASE_ID = 0077
REVISION_ID = 0000
/* QUALITY DATA ELEMENTS */
DATA_QUALITY_ID = 1
DATA_QUALITY_DESC = "Data calculated based on original SPICE kernels"
/* TIME DATA ELEMENTS */
SPACECRAFT_CLOCK_START_COUNT = "1/0192307369.07290"
SPACECRAFT_CLOCK_STOP_COUNT = "1/0192307669.24417"
START_TIME = 2009-06-05T18:43:45.795Z
STOP_TIME = 2009-06-05T18:46:41.133Z
/* ORBITAL DATA ELEMENTS */
ASCENDING_NODE_LONGITUDE = 84.86
MAXIMUM_RESOLUTION = 81.2
FOOTPRINT_POINT_LATITUDE = (-65.4781,-65.5131,-65.5525,-65.5795, -65.6054,-65.6217,-66.1546,-66.4252, -66.7864,-66.9686,-67.1523,-67.3358, -67.6121,-67.7986,-67.9848,-68.1709, -68.3601,-68.5493,-68.7381,-69.0246, -69.2162,-69.4076,-69.6015,-69.7958, -69.9898,-70.1858,-70.3827,-70.5792, -70.7781,-71.0763,-71.3771,-71.579, -71.8828,-72.0871,-72.2907,-72.4986, -72.7043,-72.9115,-73.1208,-73.3298, -73.5409,-73.7526,-73.9647,-74.1792, -74.3929,-74.6094,-74.8256,-75.1534, -75.3719,-75.4982,-75.4666,-75.4246, -75.3579,-75.2913,-75.2029,-75.1105, -75.0368,-74.8273,-74.6189,-74.3075, -74.1014,-73.8947,-73.6898,-73.4836, -73.1794,-72.9759,-72.7735,-72.5732, -72.2729,-72.0729,-71.7743,-71.5769, -71.3791,-71.0857,-70.8896,-70.6965, -70.5028,-70.3088,-70.1174,-69.9258, -69.7344,-69.5452,-69.3556,-69.1658, -68.979,-68.7918,-68.6043,-68.4193, -68.2354,-68.0501,-67.8658,-67.5925, -67.4094,-67.1372,-66.9572,-66.7769, -66.4205,-65.9765,-65.6272,-65.4781)
FOOTPRINT_POINT_LONGITUDE = (37.1893,36.5399,35.7354,35.1214, 34.4675,33.5422,33.6074,33.6419,33.6912 ,33.7171,33.7437,33.771,33.8123,33.8413 ,33.8709,33.9019,33.9342,33.9673, 34.0001,34.0512,34.0862,34.1218,34.1588 ,34.196,34.2345,34.2739,34.3144,34.3557 ,34.3983,34.4598,34.5263,34.574,34.6464 ,34.6959,34.7446,34.8051,34.8533, 34.9107,34.9685,35.0283,35.0906,35.1552 ,35.2194,35.2905,35.3605,35.4328, 35.5082,35.6297,35.7125,36.275,37.1292, 38.148,39.5786,40.8292,42.3151,43.7015, 44.6954,44.4369,44.1875,43.8269,43.594, 43.3723,43.1571,42.9491,42.647,42.4532, 42.2708,42.0835,41.8224,41.6535,41.4125 ,41.2538,41.1025,40.8817,40.7383, 40.5995,40.4645,40.3326,40.2057,40.0807 ,39.9587,39.8411,39.7258,39.6127, 39.5037,39.3965,39.2909,39.1889,39.0866 ,38.9891,38.8953,38.7561,38.6664,38.537 ,38.452,38.3682,38.2062,38.012,37.8646, 37.1893)
ORBIT_NUMBER = 6961
ORBITAL_ECCENTRICITY = 0.576
ORBITAL_INCLINATION = 86.77
ORBITAL_SEMIMAJOR_AXIS = 8742.08
PERIAPSIS_ALTITUDE = 315.33
PERIAPSIS_ARGUMENT_ANGLE = 216.79
PERIAPSIS_TIME = 2009-06-05T18:36:04.000Z
SPACECRAFT_ORIENTATION = (0.0,-1.0,0.0)
^MEX_ORIENTATION_DESC = "MEX_ORIENTATION_DESC.TXT"
SPACECRAFT_POINTING_MODE = NADIR
^MEX_POINTING_DESC = "MEX_POINTING_DESC.TXT"
RIGHT_ASCENSION = -1e+32
DECLINATION = -1e+32
OFFSET_ANGLE = -1e+32
SPACECRAFT_SOLAR_DISTANCE = 2.08822e+08
TARGET_NAME = MARS
/* CAMERA DATA ELEMENTS */
DETECTOR_TEMPERATURE = 18.1666
FOCAL_PLANE_TEMPERATURE = 8.7872
INST_CMPRS_NAME = "DISCRETE COSINE TRANSFORMATION (DCT)"
INST_CMPRS_RATIO = 9.08556
INST_CMPRS_QUALITY = 0
INST_CMPRS_QUANTZ_TBL_ID = 0
INSTRUMENT_TEMPERATURE = 11.234
LENS_TEMPERATURE = 9.195
MACROPIXEL_SIZE = 4
MISSING_FRAMES = 0
PIXEL_SUBSAMPLING_FLAG = N
SIGNAL_CHAIN_ID = 2
/* RADIOMETRIC DATA ELEMENTS */
BANDWIDTH = 76.0
CENTER_FILTER_WAVELENGTH = 444.0
RADIANCE_OFFSET = 0.248437
RADIANCE_SCALING_FACTOR = 0.00347081
REFLECTANCE_SCALING_FACTOR = 0.000155504
MEX:REFLECTANCE_OFFSET = 0.0111308
/* IMAGE OBJECT DEFINITIONS */
OBJECT = IMAGE
  INTERCHANGE_FORMAT = BINARY
  LINES = 5981
  LINE_SAMPLES = 1999
  SAMPLE_TYPE = UNSIGNED_INTEGER
  SAMPLE_BITS = 8
  BANDS = 1
  BAND_STORAGE_TYPE = BAND_SEQUENTIAL
  MAXIMUM = 255
  MEAN = 56.7866
  MINIMUM = 1
  STANDARD_DEVIATION = 17.0749
END_OBJECT = IMAGE
/* MAP OBJECT DEFINITIONS */
OBJECT = IMAGE_MAP_PROJECTION
  ^DATA_SET_MAP_PROJECTION_CATALOG= "DSMAP.CAT"
  A_AXIS_RADIUS = 3396.0
  B_AXIS_RADIUS = 3396.0
  C_AXIS_RADIUS = 3396.0
  CENTER_LATITUDE = 0.0
  CENTER_LONGITUDE = 37.0
  COORDINATE_SYSTEM_NAME = PLANETOGRAPHIC
  COORDINATE_SYSTEM_TYPE = "BODY-FIXED ROTATING"
  EASTERNMOST_LONGITUDE = 44.6954
  FIRST_STANDARD_PARALLEL = "N/A"
  LINE_FIRST_PIXEL = 1
  LINE_LAST_PIXEL = 5981
  LINE_PROJECTION_OFFSET = -38776.625
  MAP_PROJECTION_ROTATION = 0.0
  MAP_PROJECTION_TYPE = SINUSOIDAL
  MAP_RESOLUTION = 592.713803866667
  MAP_SCALE = 0.1
  MAXIMUM_LATITUDE = -65.4781
  MINIMUM_LATITUDE = -75.4982
  POSITIVE_LONGITUDE_DIRECTION = EAST
  REFERENCE_LATITUDE = "N/A"
  REFERENCE_LONGITUDE = "N/A"
  SAMPLE_FIRST_PIXEL = 1
  SAMPLE_LAST_PIXEL = 1999
  SAMPLE_PROJECTION_OFFSET = 830.375
  SECOND_STANDARD_PARALLEL = "N/A"
  WESTERNMOST_LONGITUDE = 33.5422
END_OBJECT = IMAGE_MAP_PROJECTION
/* The JPEG2000 image data file associated with this label. */
OBJECT = COMPRESSED_FILE
  FILE_NAME = "H6961_0000_BL3.JP2"
  RECORD_TYPE = UNDEFINED
  FILE_RECORDS = UNK
  ENCODING_TYPE = "JP2"
  INTERCHANGE_FORMAT = BINARY
  UNCOMPRESSED_FILE_NAME = "H6961_0000_BL3.IMG"
  REQUIRED_STORAGE_BYTES = "11976009"
  ^DESCRIPTION = "JP2INFO.TXT"
END_OBJECT = COMPRESSED_FILE
END
