PDS_VERSION_ID = PDS3
/* FILE DATA ELEMENTS */
RECORD_TYPE = STREAM
/* POINTERS TO DATA OBJECTS */
^COMPRESSED_FILE = "H6966_0000_IR3.JP2"
/* IDENTIFICATION DATA ELEMENTS */
DATA_SET_ID = "MEX-M-HRSC-5-REFDR-MAPPROJECTED-V3.0"
DATA_SET_NAME = "MARS EXPRESS HRSC MAP PROJECTED REFDR V3.0"
DETECTOR_ID = MEX_HRSC_IR
EVENT_TYPE = "MARS-REGIONAL-MAPPING-Gl-Pf-La"
INSTRUMENT_HOST_ID = MEX
INSTRUMENT_HOST_NAME = "MARS EXPRESS"
INSTRUMENT_ID = HRSC
INSTRUMENT_NAME = "HIGH RESOLUTION STEREO CAMERA"
MISSION_NAME = "MARS EXPRESS"
MISSION_PHASE_NAME = ME_Phase_17
PROCESSING_LEVEL_ID = 3
PRODUCT_CREATION_TIME = 2016-06-29T16:10:18.000Z
PRODUCT_ID = "H6966_0000_IR3.JP2"
RELEASE_ID = 0077
REVISION_ID = 0000
/* QUALITY DATA ELEMENTS */
DATA_QUALITY_ID = 1
DATA_QUALITY_DESC = "Data calculated based on original SPICE kernels"
/* TIME DATA ELEMENTS */
SPACECRAFT_CLOCK_START_COUNT = "1/0192431604.08222"
SPACECRAFT_CLOCK_STOP_COUNT = "1/0192431996.06405"
START_TIME = 2009-06-07T05:13:35.851Z
STOP_TIME = 2009-06-07T05:16:42.729Z
/* ORBITAL DATA ELEMENTS */
ASCENDING_NODE_LONGITUDE = 84.76
MAXIMUM_RESOLUTION = 96.1
FOOTPRINT_POINT_LATITUDE = (-72.3674,-72.4438,-72.509,-72.5784, -72.618,-72.9,-73.2954,-73.4983, -73.6988,-74.0027,-74.2054,-74.512, -74.7176,-75.0268,-75.3384,-75.6536, -75.8647,-76.0758,-76.2891,-76.503, -76.8254,-77.0422,-77.2584,-77.4777, -77.6966,-78.0284,-78.25,-78.5854, -78.8094,-79.036,-79.3758,-79.6043, -79.8337,-80.0639,-80.2943,-80.5275, -80.7613,-80.9969,-81.3499,-81.7074, -81.9466,-82.1865,-82.4276,-82.7913, -83.0337,-83.2785,-83.5232,-83.7699, -83.6923,-83.526,-83.3909,-83.1095, -82.8881,-82.7359,-82.4704,-82.2711, -82.0695,-81.8672,-81.6624,-81.4566, -81.2492,-81.0431,-80.8346,-80.6259, -80.3122,-80.1017,-79.8922,-79.6815, -79.4717,-79.2619,-78.9481,-78.7349, -78.5266,-78.3174,-78.1104,-77.902, -77.6925,-77.4863,-77.1759,-76.97, -76.7631,-76.5587,-76.354,-76.1491, -75.8446,-75.6412,-75.4401,-75.2385, -75.0377,-74.7383,-74.5386,-74.3415, -74.1438,-73.9462,-73.751,-73.5552, -73.36,-72.9735,-72.398,-72.3674)
FOOTPRINT_POINT_LONGITUDE = (256.305,254.94,253.625,252.0,250.908, 250.881,251.003,251.065,251.129,251.232 ,251.302,251.413,251.49,251.611,251.739 ,251.871,251.965,252.061,252.162, 252.266,252.43,252.545,252.664,252.79, 252.919,253.125,253.269,253.499,253.661 ,253.831,254.102,254.295,254.497, 254.711,254.936,255.173,255.424,255.689 ,256.119,256.591,256.931,257.295, 257.684,258.321,258.79,259.293,259.84, 260.431,263.308,267.063,269.649,274.149 ,277.123,278.955,280.134,278.955, 277.846,276.805,275.814,274.878,273.99, 273.164,272.37,271.618,270.561,269.895, 269.265,268.661,268.088,267.542,266.77, 266.266,265.801,265.354,264.931,264.518 ,264.117,263.741,263.199,262.854,262.52 ,262.201,261.893,261.594,261.169, 260.895,260.634,260.38,260.134,259.781, 259.554,259.336,259.124,258.918,258.719 ,258.526,258.338,257.98,257.479, 256.305)
ORBIT_NUMBER = 6966
ORBITAL_ECCENTRICITY = 0.576
ORBITAL_INCLINATION = 86.77
ORBITAL_SEMIMAJOR_AXIS = 8745.88
PERIAPSIS_ALTITUDE = 315.42
PERIAPSIS_ARGUMENT_ANGLE = 215.93
PERIAPSIS_TIME = 2009-06-07T05:04:34.000Z
SPACECRAFT_ORIENTATION = (0.0,-1.0,0.0)
^MEX_ORIENTATION_DESC = "MEX_ORIENTATION_DESC.TXT"
SPACECRAFT_POINTING_MODE = NADIR
^MEX_POINTING_DESC = "MEX_POINTING_DESC.TXT"
RIGHT_ASCENSION = -1e+32
DECLINATION = -1e+32
OFFSET_ANGLE = -1e+32
SPACECRAFT_SOLAR_DISTANCE = 2.08959e+08
TARGET_NAME = MARS
/* CAMERA DATA ELEMENTS */
DETECTOR_TEMPERATURE = 17.5549
FOCAL_PLANE_TEMPERATURE = 8.9911
INST_CMPRS_NAME = "DISCRETE COSINE TRANSFORMATION (DCT)"
INST_CMPRS_RATIO = 11.0396
INST_CMPRS_QUALITY = 0
INST_CMPRS_QUANTZ_TBL_ID = 0
INSTRUMENT_TEMPERATURE = 11.0301
LENS_TEMPERATURE = 8.9911
MACROPIXEL_SIZE = 4
MISSING_FRAMES = 0
PIXEL_SUBSAMPLING_FLAG = N
SIGNAL_CHAIN_ID = 2
/* RADIOMETRIC DATA ELEMENTS */
BANDWIDTH = 81.0
CENTER_FILTER_WAVELENGTH = 955.5
RADIANCE_OFFSET = 0.558309
RADIANCE_SCALING_FACTOR = 0.00776258
REFLECTANCE_SCALING_FACTOR = 0.000731236
MEX:REFLECTANCE_OFFSET = 0.0525928
/* IMAGE OBJECT DEFINITIONS */
OBJECT = IMAGE
  INTERCHANGE_FORMAT = BINARY
  LINES = 6803
  LINE_SAMPLES = 3122
  SAMPLE_TYPE = UNSIGNED_INTEGER
  SAMPLE_BITS = 8
  BANDS = 1
  BAND_STORAGE_TYPE = BAND_SEQUENTIAL
  MAXIMUM = 255
  MEAN = 69.5932
  MINIMUM = 1
  STANDARD_DEVIATION = 53.434
END_OBJECT = IMAGE
/* MAP OBJECT DEFINITIONS */
OBJECT = IMAGE_MAP_PROJECTION
  ^DATA_SET_MAP_PROJECTION_CATALOG= "DSMAP.CAT"
  A_AXIS_RADIUS = 3396.0
  B_AXIS_RADIUS = 3396.0
  C_AXIS_RADIUS = 3396.0
  CENTER_LATITUDE = 0.0
  CENTER_LONGITUDE = 258.0
  COORDINATE_SYSTEM_NAME = PLANETOGRAPHIC
  COORDINATE_SYSTEM_TYPE = "BODY-FIXED ROTATING"
  EASTERNMOST_LONGITUDE = 280.134
  FIRST_STANDARD_PARALLEL = "N/A"
  LINE_FIRST_PIXEL = 1
  LINE_LAST_PIXEL = 6803
  LINE_PROJECTION_OFFSET = -42901.625
  MAP_PROJECTION_ROTATION = 0.0
  MAP_PROJECTION_TYPE = SINUSOIDAL
  MAP_RESOLUTION = 592.713803866667
  MAP_SCALE = 0.1
  MAXIMUM_LATITUDE = -72.3674
  MINIMUM_LATITUDE = -83.76990000000001
  POSITIVE_LONGITUDE_DIRECTION = EAST
  REFERENCE_LATITUDE = "N/A"
  REFERENCE_LONGITUDE = "N/A"
  SAMPLE_FIRST_PIXEL = 1
  SAMPLE_LAST_PIXEL = 3122
  SAMPLE_PROJECTION_OFFSET = 1285.875
  SECOND_STANDARD_PARALLEL = "N/A"
  WESTERNMOST_LONGITUDE = 250.881
END_OBJECT = IMAGE_MAP_PROJECTION
/* The JPEG2000 image data file associated with this label. */
OBJECT = COMPRESSED_FILE
  FILE_NAME = "H6966_0000_IR3.JP2"
  RECORD_TYPE = UNDEFINED
  FILE_RECORDS = UNK
  ENCODING_TYPE = "JP2"
  INTERCHANGE_FORMAT = BINARY
  UNCOMPRESSED_FILE_NAME = "H6966_0000_IR3.IMG"
  REQUIRED_STORAGE_BYTES = "21263942"
  ^DESCRIPTION = "JP2INFO.TXT"
END_OBJECT = COMPRESSED_FILE
END
