PDS_VERSION_ID = PDS3
/* FILE DATA ELEMENTS */
RECORD_TYPE = STREAM
/* POINTERS TO DATA OBJECTS */
^COMPRESSED_FILE = "H6980_0000_S23.JP2"
/* IDENTIFICATION DATA ELEMENTS */
DATA_SET_ID = "MEX-M-HRSC-5-REFDR-MAPPROJECTED-V3.0"
DATA_SET_NAME = "MARS EXPRESS HRSC MAP PROJECTED REFDR V3.0"
DETECTOR_ID = MEX_HRSC_S2
EVENT_TYPE = "MARS-REGIONAL-MAPPING-Gl-Pf-La"
INSTRUMENT_HOST_ID = MEX
INSTRUMENT_HOST_NAME = "MARS EXPRESS"
INSTRUMENT_ID = HRSC
INSTRUMENT_NAME = "HIGH RESOLUTION STEREO CAMERA"
MISSION_NAME = "MARS EXPRESS"
MISSION_PHASE_NAME = ME_Phase_17
PROCESSING_LEVEL_ID = 3
PRODUCT_CREATION_TIME = 2016-06-29T16:10:18.000Z
PRODUCT_ID = "H6980_0000_S23.JP2"
RELEASE_ID = 0077
REVISION_ID = 0000
/* QUALITY DATA ELEMENTS */
DATA_QUALITY_ID = 1
DATA_QUALITY_DESC = "Data calculated based on original SPICE kernels"
/* TIME DATA ELEMENTS */
SPACECRAFT_CLOCK_START_COUNT = "1/0192779090.09061"
SPACECRAFT_CLOCK_STOP_COUNT = "1/0192779573.52185"
START_TIME = 2009-06-11T05:47:00.729Z
STOP_TIME = 2009-06-11T05:52:54.366Z
/* ORBITAL DATA ELEMENTS */
ASCENDING_NODE_LONGITUDE = 84.49
MAXIMUM_RESOLUTION = 57.5
FOOTPRINT_POINT_LATITUDE = (-68.9984,-69.066,-69.1233,-69.181, -69.2282,-69.2687,-69.2091,-69.7341, -70.2629,-70.6668,-70.9376,-71.4713, -71.7429,-72.1571,-72.4339,-72.713, -72.9937,-73.2831,-73.5738,-73.8588, -74.1464,-74.5825,-74.8738,-75.1675, -75.4633,-75.9142,-76.2158,-76.5181, -76.817,-77.2781,-77.5864,-77.8986, -78.2097,-78.5177,-78.9921,-79.3176, -79.6366,-79.9593,-80.2842,-80.7757, -81.1088,-81.608,-81.9386,-82.2755, -82.6142,-82.9558,-83.4717,-83.8167, -84.3387,-84.3005,-84.2092,-84.0293, -83.8836,-83.6478,-83.2922,-83.0387, -82.7473,-82.3535,-82.1038,-81.8491, -81.5893,-81.3242,-81.0561,-80.7851, -80.5118,-80.2354,-79.8189,-79.5371, -79.2546,-78.9719,-78.6896,-78.2608, -77.9857,-77.704,-77.2782,-76.9966, -76.7119,-76.4338,-76.1503,-75.87, -75.5868,-75.3041,-75.0278,-74.7513, -74.4762,-74.2006,-73.9262,-73.6482, -73.3795,-73.1085,-72.835,-72.5599, -72.1521,-71.8892,-71.4917,-70.9632, -70.4376,-69.9331,-69.4186,-68.9984)
FOOTPRINT_POINT_LONGITUDE = (283.778,282.791,281.861,280.802, 279.801,278.794,277.394,277.453,277.515 ,277.567,277.604,277.664,277.699, 277.758,277.799,277.842,277.885,277.941 ,277.999,278.048,278.101,278.185, 278.242,278.304,278.368,278.476,278.551 ,278.627,278.698,278.829,278.919, 279.019,279.118,279.211,279.382,279.523 ,279.65,279.791,279.944,280.194,280.388 ,280.693,280.901,281.145,281.411, 281.709,282.215,282.594,283.258,287.065 ,289.947,294.398,297.304,301.256, 305.949,308.715,311.518,312.797,311.034 ,309.394,307.867,306.44,305.11,303.868, 302.707,301.619,300.115,299.186,298.313 ,297.493,296.721,295.641,294.977, 294.345,293.456,292.903,292.377,291.879 ,291.403,290.951,290.519,290.108, 289.716,289.341,288.983,288.641,288.312 ,287.998,287.697,287.408,287.131, 286.865,286.485,286.243,285.897,285.466 ,285.065,284.688,284.34,283.778)
ORBIT_NUMBER = 6980
ORBITAL_ECCENTRICITY = 0.576
ORBITAL_INCLINATION = 86.78
ORBITAL_SEMIMAJOR_AXIS = 8748.11
PERIAPSIS_ALTITUDE = 315.91
PERIAPSIS_ARGUMENT_ANGLE = 213.51
PERIAPSIS_TIME = 2009-06-11T05:36:19.000Z
SPACECRAFT_ORIENTATION = (0.0,-1.0,0.0)
^MEX_ORIENTATION_DESC = "MEX_ORIENTATION_DESC.TXT"
SPACECRAFT_POINTING_MODE = NADIR
^MEX_POINTING_DESC = "MEX_POINTING_DESC.TXT"
RIGHT_ASCENSION = -1e+32
DECLINATION = -1e+32
OFFSET_ANGLE = -1e+32
SPACECRAFT_SOLAR_DISTANCE = 2.09361e+08
TARGET_NAME = MARS
/* CAMERA DATA ELEMENTS */
DETECTOR_TEMPERATURE = 18.5744
FOCAL_PLANE_TEMPERATURE = 8.9911
INST_CMPRS_NAME = "DISCRETE COSINE TRANSFORMATION (DCT)"
INST_CMPRS_RATIO = 11.9985
INST_CMPRS_QUALITY = 0
INST_CMPRS_QUANTZ_TBL_ID = 0
INSTRUMENT_TEMPERATURE = 11.234
LENS_TEMPERATURE = 9.195
MACROPIXEL_SIZE = 2
MISSING_FRAMES = 0
PIXEL_SUBSAMPLING_FLAG = N
SIGNAL_CHAIN_ID = 1
/* RADIOMETRIC DATA ELEMENTS */
BANDWIDTH = 178.0
CENTER_FILTER_WAVELENGTH = 679.0
RADIANCE_OFFSET = 2.21457
RADIANCE_SCALING_FACTOR = 0.0330278
REFLECTANCE_SCALING_FACTOR = 0.00076666
MEX:REFLECTANCE_OFFSET = 0.0514059
/* IMAGE OBJECT DEFINITIONS */
OBJECT = IMAGE
  INTERCHANGE_FORMAT = BINARY
  LINES = 18168
  LINE_SAMPLES = 7052
  SAMPLE_TYPE = UNSIGNED_INTEGER
  SAMPLE_BITS = 8
  BANDS = 1
  BAND_STORAGE_TYPE = BAND_SEQUENTIAL
  MAXIMUM = 255
  MEAN = 73.6454
  MINIMUM = 1
  STANDARD_DEVIATION = 70.5577
END_OBJECT = IMAGE
/* MAP OBJECT DEFINITIONS */
OBJECT = IMAGE_MAP_PROJECTION
  ^DATA_SET_MAP_PROJECTION_CATALOG= "DSMAP.CAT"
  A_AXIS_RADIUS = 3396.0
  B_AXIS_RADIUS = 3396.0
  C_AXIS_RADIUS = 3396.0
  CENTER_LATITUDE = 0.0
  CENTER_LONGITUDE = 285.0
  COORDINATE_SYSTEM_NAME = PLANETOGRAPHIC
  COORDINATE_SYSTEM_TYPE = "BODY-FIXED ROTATING"
  EASTERNMOST_LONGITUDE = 312.797
  FIRST_STANDARD_PARALLEL = "N/A"
  LINE_FIRST_PIXEL = 1
  LINE_LAST_PIXEL = 18168
  LINE_PROJECTION_OFFSET = -81656.25
  MAP_PROJECTION_ROTATION = 0.0
  MAP_PROJECTION_TYPE = SINUSOIDAL
  MAP_RESOLUTION = 1185.42760773333
  MAP_SCALE = 0.05
  MAXIMUM_LATITUDE = -68.9984
  MINIMUM_LATITUDE = -84.3387
  POSITIVE_LONGITUDE_DIRECTION = EAST
  REFERENCE_LATITUDE = "N/A"
  REFERENCE_LONGITUDE = "N/A"
  SAMPLE_FIRST_PIXEL = 1
  SAMPLE_LAST_PIXEL = 7052
  SAMPLE_PROJECTION_OFFSET = 2991.75
  SECOND_STANDARD_PARALLEL = "N/A"
  WESTERNMOST_LONGITUDE = 277.394
END_OBJECT = IMAGE_MAP_PROJECTION
/* The JPEG2000 image data file associated with this label. */
OBJECT = COMPRESSED_FILE
  FILE_NAME = "H6980_0000_S23.JP2"
  RECORD_TYPE = UNDEFINED
  FILE_RECORDS = UNK
  ENCODING_TYPE = "JP2"
  INTERCHANGE_FORMAT = BINARY
  UNCOMPRESSED_FILE_NAME = "H6980_0000_S23.IMG"
  REQUIRED_STORAGE_BYTES = "128155996"
  ^DESCRIPTION = "JP2INFO.TXT"
END_OBJECT = COMPRESSED_FILE
END
