PDS_VERSION_ID = PDS3
/* FILE DATA ELEMENTS */
RECORD_TYPE = STREAM
/* POINTERS TO DATA OBJECTS */
^COMPRESSED_FILE = "H6983_0000_S13.JP2"
/* IDENTIFICATION DATA ELEMENTS */
DATA_SET_ID = "MEX-M-HRSC-5-REFDR-MAPPROJECTED-V3.0"
DATA_SET_NAME = "MARS EXPRESS HRSC MAP PROJECTED REFDR V3.0"
DETECTOR_ID = MEX_HRSC_S1
EVENT_TYPE = "MARS-REGIONAL-MAPPING-Im-Gl-Pf"
INSTRUMENT_HOST_ID = MEX
INSTRUMENT_HOST_NAME = "MARS EXPRESS"
INSTRUMENT_ID = HRSC
INSTRUMENT_NAME = "HIGH RESOLUTION STEREO CAMERA"
MISSION_NAME = "MARS EXPRESS"
MISSION_PHASE_NAME = ME_Phase_17
PROCESSING_LEVEL_ID = 3
PRODUCT_CREATION_TIME = 2016-06-29T16:10:18.000Z
PRODUCT_ID = "H6983_0000_S13.JP2"
RELEASE_ID = 0077
REVISION_ID = 0000
/* QUALITY DATA ELEMENTS */
DATA_QUALITY_ID = 1
DATA_QUALITY_DESC = "Data calculated based on original SPICE kernels"
/* TIME DATA ELEMENTS */
SPACECRAFT_CLOCK_START_COUNT = "1/0192853562.09051"
SPACECRAFT_CLOCK_STOP_COUNT = "1/0192854024.09309"
START_TIME = 2009-06-12T02:26:04.637Z
STOP_TIME = 2009-06-12T02:29:53.042Z
/* ORBITAL DATA ELEMENTS */
ASCENDING_NODE_LONGITUDE = 84.43
MAXIMUM_RESOLUTION = 48.2
FOOTPRINT_POINT_LATITUDE = (-69.1832,-69.2535,-69.2959,-69.3594, -69.3963,-69.6451,-70.0049,-70.4816, -70.9677,-71.4605,-71.9596,-72.2112, -72.4639,-72.7185,-72.9728,-73.2307, -73.4872,-73.8787,-74.1395,-74.4033, -74.6678,-74.9358,-75.2031,-75.4732, -75.7446,-76.0196,-76.2944,-76.5713, -76.8497,-77.2731,-77.5556,-77.84, -78.1262,-78.413,-78.704,-78.9933, -79.2877,-79.5835,-80.0306,-80.33, -80.6323,-80.9352,-81.2468,-81.5471, -81.8558,-82.166,-82.4786,-82.7946, -83.1109,-83.2666,-83.1282,-83.0169, -82.8863,-82.7314,-82.5345,-82.2806, -82.0095,-81.7492,-81.3562,-81.0876, -80.8201,-80.552,-80.1471,-79.8762, -79.6049,-79.3351,-79.0646,-78.7946, -78.5248,-78.2549,-77.9864,-77.5839, -77.1826,-76.9152,-76.6503,-76.3848, -76.1212,-75.8597,-75.601,-75.3388, -75.0811,-74.8203,-74.5636,-74.307, -74.0535,-73.7989,-73.5465,-73.3002, -73.0445,-72.7965,-72.5485,-72.3023, -71.9334,-71.6898,-71.4456,-70.9644, -70.4925,-70.0191,-69.5477,-69.1832)
FOOTPRINT_POINT_LONGITUDE = (341.082,339.828,338.989,337.567, 336.615,335.602,335.668,335.765,335.867 ,335.975,336.09,336.151,336.214,336.28, 336.348,336.42,336.496,336.613,336.695, 336.782,336.872,336.965,337.064,337.166 ,337.274,337.385,337.504,337.628, 337.758,337.965,338.114,338.271,338.438 ,338.614,338.8,339.0,339.211,339.435, 339.802,340.068,340.355,340.662,340.99, 341.356,341.745,342.17,342.635,343.143, 343.703,346.155,349.658,351.973,354.416 ,356.966,359.761,362.944,363.81,362.482 ,360.675,359.542,358.501,357.529, 356.179,355.345,354.564,353.832,353.141 ,352.489,351.872,351.288,350.736, 349.958,349.237,348.784,348.356,347.945 ,347.554,347.185,346.836,346.492,346.17 ,345.852,345.553,345.266,344.993, 344.728,344.473,344.239,343.992,343.768 ,343.55,343.34,343.036,342.843,342.655, 342.302,341.979,341.667,341.372, 341.082)
ORBIT_NUMBER = 6983
ORBITAL_ECCENTRICITY = 0.576
ORBITAL_INCLINATION = 86.78
ORBITAL_SEMIMAJOR_AXIS = 8742.85
PERIAPSIS_ALTITUDE = 317.15
PERIAPSIS_ARGUMENT_ANGLE = 212.95
PERIAPSIS_TIME = 2009-06-12T02:17:15.000Z
SPACECRAFT_ORIENTATION = (0.0,-1.0,0.0)
^MEX_ORIENTATION_DESC = "MEX_ORIENTATION_DESC.TXT"
SPACECRAFT_POINTING_MODE = NADIR
^MEX_POINTING_DESC = "MEX_POINTING_DESC.TXT"
RIGHT_ASCENSION = -1e+32
DECLINATION = -1e+32
OFFSET_ANGLE = -1e+32
SPACECRAFT_SOLAR_DISTANCE = 2.09451e+08
TARGET_NAME = MARS
/* CAMERA DATA ELEMENTS */
DETECTOR_TEMPERATURE = 17.7588
FOCAL_PLANE_TEMPERATURE = 9.195
INST_CMPRS_NAME = "DISCRETE COSINE TRANSFORMATION (DCT)"
INST_CMPRS_RATIO = 9.34466
INST_CMPRS_QUALITY = 0
INST_CMPRS_QUANTZ_TBL_ID = 0
INSTRUMENT_TEMPERATURE = 11.4379
LENS_TEMPERATURE = 9.6028
MACROPIXEL_SIZE = 2
MISSING_FRAMES = 0
PIXEL_SUBSAMPLING_FLAG = N
SIGNAL_CHAIN_ID = 1
/* RADIOMETRIC DATA ELEMENTS */
BANDWIDTH = 180.0
CENTER_FILTER_WAVELENGTH = 677.0
RADIANCE_OFFSET = 2.45002
RADIANCE_SCALING_FACTOR = 0.0319433
REFLECTANCE_SCALING_FACTOR = 0.00073112
MEX:REFLECTANCE_OFFSET = 0.0560763
/* IMAGE OBJECT DEFINITIONS */
OBJECT = IMAGE
  INTERCHANGE_FORMAT = BINARY
  LINES = 16763
  LINE_SAMPLES = 6617
  SAMPLE_TYPE = UNSIGNED_INTEGER
  SAMPLE_BITS = 8
  BANDS = 1
  BAND_STORAGE_TYPE = BAND_SEQUENTIAL
  MAXIMUM = 255
  MEAN = 119.009
  MINIMUM = 1
  STANDARD_DEVIATION = 89.4354
END_OBJECT = IMAGE
/* MAP OBJECT DEFINITIONS */
OBJECT = IMAGE_MAP_PROJECTION
  ^DATA_SET_MAP_PROJECTION_CATALOG= "DSMAP.CAT"
  A_AXIS_RADIUS = 3396.0
  B_AXIS_RADIUS = 3396.0
  C_AXIS_RADIUS = 3396.0
  CENTER_LATITUDE = 0.0
  CENTER_LONGITUDE = 342.0
  COORDINATE_SYSTEM_NAME = PLANETOGRAPHIC
  COORDINATE_SYSTEM_TYPE = "BODY-FIXED ROTATING"
  EASTERNMOST_LONGITUDE = 3.81
  FIRST_STANDARD_PARALLEL = "N/A"
  LINE_FIRST_PIXEL = 1
  LINE_LAST_PIXEL = 16763
  LINE_PROJECTION_OFFSET = -82129.25
  MAP_PROJECTION_ROTATION = 0.0
  MAP_PROJECTION_TYPE = SINUSOIDAL
  MAP_RESOLUTION = 1185.42760773333
  MAP_SCALE = 0.05
  MAXIMUM_LATITUDE = -69.1832
  MINIMUM_LATITUDE = -83.2666
  POSITIVE_LONGITUDE_DIRECTION = EAST
  REFERENCE_LATITUDE = "N/A"
  REFERENCE_LONGITUDE = "N/A"
  SAMPLE_FIRST_PIXEL = 1
  SAMPLE_LAST_PIXEL = 6617
  SAMPLE_PROJECTION_OFFSET = 2708.25
  SECOND_STANDARD_PARALLEL = "N/A"
  WESTERNMOST_LONGITUDE = -24.398
END_OBJECT = IMAGE_MAP_PROJECTION
/* The JPEG2000 image data file associated with this label. */
OBJECT = COMPRESSED_FILE
  FILE_NAME = "H6983_0000_S13.JP2"
  RECORD_TYPE = UNDEFINED
  FILE_RECORDS = UNK
  ENCODING_TYPE = "JP2"
  INTERCHANGE_FORMAT = BINARY
  UNCOMPRESSED_FILE_NAME = "H6983_0000_S13.IMG"
  REQUIRED_STORAGE_BYTES = "110953856"
  ^DESCRIPTION = "JP2INFO.TXT"
END_OBJECT = COMPRESSED_FILE
END
