PDS_VERSION_ID = PDS3
/* FILE DATA ELEMENTS */
RECORD_TYPE = STREAM
/* POINTERS TO DATA OBJECTS */
^COMPRESSED_FILE = "H6984_0000_S13.JP2"
/* IDENTIFICATION DATA ELEMENTS */
DATA_SET_ID = "MEX-M-HRSC-5-REFDR-MAPPROJECTED-V3.0"
DATA_SET_NAME = "MARS EXPRESS HRSC MAP PROJECTED REFDR V3.0"
DETECTOR_ID = MEX_HRSC_S1
EVENT_TYPE = "MARS-REGIONAL-VARIABLE-Gl-La"
INSTRUMENT_HOST_ID = MEX
INSTRUMENT_HOST_NAME = "MARS EXPRESS"
INSTRUMENT_ID = HRSC
INSTRUMENT_NAME = "HIGH RESOLUTION STEREO CAMERA"
MISSION_NAME = "MARS EXPRESS"
MISSION_PHASE_NAME = ME_Phase_17
PROCESSING_LEVEL_ID = 3
PRODUCT_CREATION_TIME = 2016-06-29T16:10:18.000Z
PRODUCT_ID = "H6984_0000_S13.JP2"
RELEASE_ID = 0077
REVISION_ID = 0000
/* QUALITY DATA ELEMENTS */
DATA_QUALITY_ID = 1
DATA_QUALITY_DESC = "Data calculated based on original SPICE kernels"
/* TIME DATA ELEMENTS */
SPACECRAFT_CLOCK_START_COUNT = "1/0192878594.09052"
SPACECRAFT_CLOCK_STOP_COUNT = "1/0192879325.16440"
START_TIME = 2009-06-12T09:23:16.580Z
STOP_TIME = 2009-06-12T09:27:53.559Z
/* ORBITAL DATA ELEMENTS */
ASCENDING_NODE_LONGITUDE = 84.41
MAXIMUM_RESOLUTION = 66.4
FOOTPRINT_POINT_LATITUDE = (-80.8166,-81.0338,-81.2354,-81.4211, -81.5899,-81.7419,-81.8761,-82.3881, -82.9223,-83.4614,-84.132,-84.3994, -84.6663,-84.9311,-85.1948,-85.4549, -85.7044,-86.0741,-86.3085,-86.5345, -86.7466,-86.9414,-87.1951,-87.329, -87.4661,-87.5097,-87.5123,-87.4743, -87.3976,-87.2184,-87.0619,-86.8811, -86.567,-86.23,-85.9889,-85.7353, -85.4784,-85.2142,-84.943,-84.6711, -84.3935,-84.1133,-83.8315,-83.4054, -82.9768,-82.5461,-82.2572,-81.9696, -81.709,-81.5451,-81.4298,-81.1865, -81.0294,-80.7733,-80.5818,-80.2405, -80.0227,-80.1108,-80.3537,-80.7146, -81.069,-81.2992,-81.5278,-81.8577, -82.0732,-82.3823,-82.5798,-82.8602, -83.0381,-83.2062,-83.3645,-83.5124, -83.7105,-83.8256,-83.9757,-84.0543, -84.1177,-84.1626,-84.1907,-84.2036, -84.195,-84.1698,-84.1266,-84.0292, -83.9457,-83.847,-83.6744,-83.5437, -83.4023,-83.2507,-83.0896,-82.9203, -82.7438,-82.4654,-82.1747,-81.8732, -81.5631,-81.2447,-80.8118,-80.8166)
FOOTPRINT_POINT_LONGITUDE = (263.204,260.883,258.474,255.977, 253.398,250.736,247.996,249.096,250.575 ,252.334,255.022,256.295,257.71,259.283 ,261.05,263.035,265.228,269.128,272.158 ,275.64,279.61,284.127,292.119,298.217, 308.368,315.609,322.95,330.195,337.09, 346.455,351.982,356.9,363.352,368.447, 371.384,374.018,376.303,378.346,380.185 ,381.805,383.278,384.606,385.806, 387.405,388.799,390.025,390.766,391.444 ,390.352,387.115,385.189,381.724, 379.726,376.979,375.166,372.298,370.667 ,368.579,367.556,365.908,364.116, 362.838,361.479,359.301,357.735,355.223 ,353.427,350.546,348.484,346.312, 344.023,341.614,337.794,335.115,330.854 ,327.923,324.899,321.837,318.721, 315.517,312.384,309.226,306.105,301.647 ,298.727,295.95,291.96,289.46,287.093, 284.832,282.686,280.661,278.744,276.042 ,273.579,271.322,269.258,267.35,265.059 ,263.204)
ORBIT_NUMBER = 6984
ORBITAL_ECCENTRICITY = 0.576
ORBITAL_INCLINATION = 86.76
ORBITAL_SEMIMAJOR_AXIS = 8749.94
PERIAPSIS_ALTITUDE = 316.44
PERIAPSIS_ARGUMENT_ANGLE = 212.8
PERIAPSIS_TIME = 2009-06-12T09:10:55.000Z
SPACECRAFT_ORIENTATION = (0.0,-1.0,0.0)
^MEX_ORIENTATION_DESC = "MEX_ORIENTATION_DESC.TXT"
SPACECRAFT_POINTING_MODE = ACROSSTRACK
^MEX_POINTING_DESC = "MEX_POINTING_DESC.TXT"
RIGHT_ASCENSION = -1e+32
DECLINATION = -1e+32
OFFSET_ANGLE = 0.9
SPACECRAFT_SOLAR_DISTANCE = 2.09481e+08
TARGET_NAME = MARS
/* CAMERA DATA ELEMENTS */
DETECTOR_TEMPERATURE = 17.7588
FOCAL_PLANE_TEMPERATURE = 9.3989
INST_CMPRS_NAME = "DISCRETE COSINE TRANSFORMATION (DCT)"
INST_CMPRS_RATIO = 11.8134
INST_CMPRS_QUALITY = 0
INST_CMPRS_QUANTZ_TBL_ID = 0
INSTRUMENT_TEMPERATURE = 11.4379
LENS_TEMPERATURE = 9.8067
MACROPIXEL_SIZE = 2
MISSING_FRAMES = 0
PIXEL_SUBSAMPLING_FLAG = N
SIGNAL_CHAIN_ID = 1
/* RADIOMETRIC DATA ELEMENTS */
BANDWIDTH = 180.0
CENTER_FILTER_WAVELENGTH = 677.0
RADIANCE_OFFSET = 3.83929
RADIANCE_SCALING_FACTOR = 0.0334002
REFLECTANCE_SCALING_FACTOR = 0.000764688
MEX:REFLECTANCE_OFFSET = 0.0878996
/* IMAGE OBJECT DEFINITIONS */
OBJECT = IMAGE
  INTERCHANGE_FORMAT = BINARY
  LINES = 15733
  LINE_SAMPLES = 16540
  SAMPLE_TYPE = UNSIGNED_INTEGER
  SAMPLE_BITS = 8
  BANDS = 1
  BAND_STORAGE_TYPE = BAND_SEQUENTIAL
  MAXIMUM = 255
  MEAN = 206.31
  MINIMUM = 1
  STANDARD_DEVIATION = 76.7027
END_OBJECT = IMAGE
/* MAP OBJECT DEFINITIONS */
OBJECT = IMAGE_MAP_PROJECTION
  ^DATA_SET_MAP_PROJECTION_CATALOG= "DSMAP.CAT"
  A_AXIS_RADIUS = 3396.0
  B_AXIS_RADIUS = 3396.0
  C_AXIS_RADIUS = 3396.0
  CENTER_LATITUDE = -90.0
  CENTER_LONGITUDE = 0.0
  COORDINATE_SYSTEM_NAME = PLANETOGRAPHIC
  COORDINATE_SYSTEM_TYPE = "BODY-FIXED ROTATING"
  EASTERNMOST_LONGITUDE = 31.444
  FIRST_STANDARD_PARALLEL = "N/A"
  LINE_FIRST_PIXEL = 1
  LINE_LAST_PIXEL = 15733
  LINE_PROJECTION_OFFSET = 12145.25
  MAP_PROJECTION_ROTATION = 0.0
  MAP_PROJECTION_TYPE = STEREOGRAPHIC
  MAP_RESOLUTION = 1185.42760773333
  MAP_SCALE = 0.05
  MAXIMUM_LATITUDE = -80.0227
  MINIMUM_LATITUDE = -87.5123
  POSITIVE_LONGITUDE_DIRECTION = EAST
  REFERENCE_LATITUDE = "N/A"
  REFERENCE_LONGITUDE = "N/A"
  SAMPLE_FIRST_PIXEL = 1
  SAMPLE_LAST_PIXEL = 16540
  SAMPLE_PROJECTION_OFFSET = 11022.25
  SECOND_STANDARD_PARALLEL = "N/A"
  WESTERNMOST_LONGITUDE = -112.004
END_OBJECT = IMAGE_MAP_PROJECTION
/* The JPEG2000 image data file associated with this label. */
OBJECT = COMPRESSED_FILE
  FILE_NAME = "H6984_0000_S13.JP2"
  RECORD_TYPE = UNDEFINED
  FILE_RECORDS = UNK
  ENCODING_TYPE = "JP2"
  INTERCHANGE_FORMAT = BINARY
  UNCOMPRESSED_FILE_NAME = "H6984_0000_S13.IMG"
  REQUIRED_STORAGE_BYTES = "260273440"
  ^DESCRIPTION = "JP2INFO.TXT"
END_OBJECT = COMPRESSED_FILE
END
