PDS_VERSION_ID = PDS3
/* FILE DATA ELEMENTS */
RECORD_TYPE = STREAM
/* POINTERS TO DATA OBJECTS */
^COMPRESSED_FILE = "H7022_0000_GR3.JP2"
/* IDENTIFICATION DATA ELEMENTS */
DATA_SET_ID = "MEX-M-HRSC-5-REFDR-MAPPROJECTED-V3.0"
DATA_SET_NAME = "MARS EXPRESS HRSC MAP PROJECTED REFDR V3.0"
DETECTOR_ID = MEX_HRSC_GREEN
EVENT_TYPE = "MARS-REGIONAL-MAPPING-Gl-Pf-La"
INSTRUMENT_HOST_ID = MEX
INSTRUMENT_HOST_NAME = "MARS EXPRESS"
INSTRUMENT_ID = HRSC
INSTRUMENT_NAME = "HIGH RESOLUTION STEREO CAMERA"
MISSION_NAME = "MARS EXPRESS"
MISSION_PHASE_NAME = ME_Phase_17
PROCESSING_LEVEL_ID = 3
PRODUCT_CREATION_TIME = 2016-06-29T17:55:06.000Z
PRODUCT_ID = "H7022_0000_GR3.JP2"
RELEASE_ID = 0078
REVISION_ID = 0000
/* QUALITY DATA ELEMENTS */
DATA_QUALITY_ID = 1
DATA_QUALITY_DESC = "Data calculated based on original SPICE kernels"
/* TIME DATA ELEMENTS */
SPACECRAFT_CLOCK_START_COUNT = "1/0193821686.09124"
SPACECRAFT_CLOCK_STOP_COUNT = "1/0193822288.11019"
START_TIME = 2009-06-23T07:22:24.260Z
STOP_TIME = 2009-06-23T07:27:49.182Z
/* ORBITAL DATA ELEMENTS */
ASCENDING_NODE_LONGITUDE = 83.67
MAXIMUM_RESOLUTION = 55.1
FOOTPRINT_POINT_LATITUDE = (-67.0877,-67.1558,-67.2043,-67.2444, -67.2792,-67.3054,-67.6157,-68.179, -68.8928,-69.3268,-69.912,-70.5053, -71.107,-71.4098,-71.7152,-72.0225, -72.3321,-72.6436,-72.9572,-73.2735, -73.5919,-73.9123,-74.2347,-74.5596, -74.8869,-75.2165,-75.549,-75.8838, -76.2206,-76.56,-76.9018,-77.2461, -77.5922,-77.9417,-78.2935,-78.648, -79.0051,-79.3648,-79.7271,-80.0919, -80.4596,-80.8297,-81.203,-81.5787, -81.957,-82.3384,-82.7225,-83.109, -83.4983,-83.8997,-83.7384,-83.4714, -83.3123,-83.0268,-82.748,-82.4228, -82.0617,-81.7678,-81.4682,-81.1633, -80.8549,-80.543,-80.2283,-79.9119, -79.5938,-79.2743,-78.954,-78.6332, -78.3123,-77.9916,-77.671,-77.3509, -77.0312,-76.7123,-76.3941,-76.077, -75.7608,-75.4456,-75.1318,-74.8192, -74.5081,-74.1982,-73.8895,-73.5823, -73.2768,-72.9729,-72.6704,-72.3694, -72.0697,-71.7716,-71.4755,-71.1809, -70.5959,-70.0171,-69.4448,-69.0198, -68.3188,-67.7655,-67.2179,-67.0877)
FOOTPRINT_POINT_LONGITUDE = (7.31853,6.10096,5.1102,4.1757,3.23785, 2.41312,1.87611,1.92879,2.00457,2.05282 ,2.12228,2.19301,2.27403,2.31913, 2.36488,2.41526,2.46575,2.51803,2.57311 ,2.63108,2.69193,2.75686,2.82594, 2.89795,2.97103,3.05023,3.13124,3.21972 ,3.31429,3.41484,3.52173,3.63558, 3.76139,3.8882,4.02632,4.17518,4.3362, 4.5122,4.70016,4.90666,5.12887,5.37384, 5.64026,5.93702,6.26147,6.62292,7.02643 ,7.47857,7.99329,9.62516,14.8417, 20.9133,23.7496,28.0072,31.4495,34.8486 ,35.8473,34.0071,32.3115,30.7453,29.298 ,27.9568,26.7202,25.5701,24.5005, 23.5041,22.5731,21.7028,20.8878,20.1269 ,19.4112,18.744,18.1059,17.5092,16.9449 ,16.4162,15.9143,15.4368,14.9852, 14.5567,14.1502,13.7621,13.3925,13.041, 12.7055,12.3852,12.0794,11.7858,11.5061 ,11.2374,10.9804,10.7333,10.2732, 9.84237,9.44545,9.16705,8.73484,8.41644 ,8.11891,7.31853)
ORBIT_NUMBER = 7022
ORBITAL_ECCENTRICITY = 0.576
ORBITAL_INCLINATION = 86.77
ORBITAL_SEMIMAJOR_AXIS = 8755.88
PERIAPSIS_ALTITUDE = 319.16
PERIAPSIS_ARGUMENT_ANGLE = 206.19
PERIAPSIS_TIME = 2009-06-23T07:11:26.000Z
SPACECRAFT_ORIENTATION = (0.0,-1.0,0.0)
^MEX_ORIENTATION_DESC = "MEX_ORIENTATION_DESC.TXT"
SPACECRAFT_POINTING_MODE = NADIR
^MEX_POINTING_DESC = "MEX_POINTING_DESC.TXT"
RIGHT_ASCENSION = -1e+32
DECLINATION = -1e+32
OFFSET_ANGLE = -1e+32
SPACECRAFT_SOLAR_DISTANCE = 2.10737e+08
TARGET_NAME = MARS
/* CAMERA DATA ELEMENTS */
DETECTOR_TEMPERATURE = 18.3705
FOCAL_PLANE_TEMPERATURE = 8.7872
INST_CMPRS_NAME = "DISCRETE COSINE TRANSFORMATION (DCT)"
INST_CMPRS_RATIO = 9.91555
INST_CMPRS_QUALITY = 0
INST_CMPRS_QUANTZ_TBL_ID = 0
INSTRUMENT_TEMPERATURE = 11.234
LENS_TEMPERATURE = 9.3989
MACROPIXEL_SIZE = 2
MISSING_FRAMES = 0
PIXEL_SUBSAMPLING_FLAG = N
SIGNAL_CHAIN_ID = 2
/* RADIOMETRIC DATA ELEMENTS */
BANDWIDTH = 88.0
CENTER_FILTER_WAVELENGTH = 538.0
RADIANCE_OFFSET = 0.652765
RADIANCE_SCALING_FACTOR = 0.0214475
REFLECTANCE_SCALING_FACTOR = 0.000820074
MEX:REFLECTANCE_OFFSET = 0.0249594
/* IMAGE OBJECT DEFINITIONS */
OBJECT = IMAGE
  INTERCHANGE_FORMAT = BINARY
  LINES = 20017
  LINE_SAMPLES = 7780
  SAMPLE_TYPE = UNSIGNED_INTEGER
  SAMPLE_BITS = 8
  BANDS = 1
  BAND_STORAGE_TYPE = BAND_SEQUENTIAL
  MAXIMUM = 255
  MEAN = 49.6353
  MINIMUM = 1
  STANDARD_DEVIATION = 61.2551
END_OBJECT = IMAGE
/* MAP OBJECT DEFINITIONS */
OBJECT = IMAGE_MAP_PROJECTION
  ^DATA_SET_MAP_PROJECTION_CATALOG= "DSMAP.CAT"
  A_AXIS_RADIUS = 3396.0
  B_AXIS_RADIUS = 3396.0
  C_AXIS_RADIUS = 3396.0
  CENTER_LATITUDE = 0.0
  CENTER_LONGITUDE = 9.0
  COORDINATE_SYSTEM_NAME = PLANETOGRAPHIC
  COORDINATE_SYSTEM_TYPE = "BODY-FIXED ROTATING"
  EASTERNMOST_LONGITUDE = 35.8473
  FIRST_STANDARD_PARALLEL = "N/A"
  LINE_FIRST_PIXEL = 1
  LINE_LAST_PIXEL = 20017
  LINE_PROJECTION_OFFSET = -79490.75
  MAP_PROJECTION_ROTATION = 0.0
  MAP_PROJECTION_TYPE = SINUSOIDAL
  MAP_RESOLUTION = 1185.42760773333
  MAP_SCALE = 0.05
  MAXIMUM_LATITUDE = -67.0877
  MINIMUM_LATITUDE = -83.8997
  POSITIVE_LONGITUDE_DIRECTION = EAST
  REFERENCE_LATITUDE = "N/A"
  REFERENCE_LONGITUDE = "N/A"
  SAMPLE_FIRST_PIXEL = 1
  SAMPLE_LAST_PIXEL = 7780
  SAMPLE_PROJECTION_OFFSET = 3281.75
  SECOND_STANDARD_PARALLEL = "N/A"
  WESTERNMOST_LONGITUDE = 1.87611
END_OBJECT = IMAGE_MAP_PROJECTION
/* The JPEG2000 image data file associated with this label. */
OBJECT = COMPRESSED_FILE
  FILE_NAME = "H7022_0000_GR3.JP2"
  RECORD_TYPE = UNDEFINED
  FILE_RECORDS = UNK
  ENCODING_TYPE = "JP2"
  INTERCHANGE_FORMAT = BINARY
  UNCOMPRESSED_FILE_NAME = "H7022_0000_GR3.IMG"
  REQUIRED_STORAGE_BYTES = "155763380"
  ^DESCRIPTION = "JP2INFO.TXT"
END_OBJECT = COMPRESSED_FILE
END
