PDS_VERSION_ID = PDS3
/* FILE DATA ELEMENTS */
RECORD_TYPE = STREAM
/* POINTERS TO DATA OBJECTS */
^COMPRESSED_FILE = "H7128_0000_S13.JP2"
/* IDENTIFICATION DATA ELEMENTS */
DATA_SET_ID = "MEX-M-HRSC-5-REFDR-MAPPROJECTED-V3.0"
DATA_SET_NAME = "MARS EXPRESS HRSC MAP PROJECTED REFDR V3.0"
DETECTOR_ID = MEX_HRSC_S1
EVENT_TYPE = "MARS-LOCAL-STEREO-Vo-Im"
INSTRUMENT_HOST_ID = MEX
INSTRUMENT_HOST_NAME = "MARS EXPRESS"
INSTRUMENT_ID = HRSC
INSTRUMENT_NAME = "HIGH RESOLUTION STEREO CAMERA"
MISSION_NAME = "MARS EXPRESS"
MISSION_PHASE_NAME = ME_Phase_18
PROCESSING_LEVEL_ID = 3
PRODUCT_CREATION_TIME = 2016-06-29T18:20:58.000Z
PRODUCT_ID = "H7128_0000_S13.JP2"
RELEASE_ID = 0079
REVISION_ID = 0000
/* QUALITY DATA ELEMENTS */
DATA_QUALITY_ID = 1
DATA_QUALITY_DESC = "Data calculated based on original SPICE kernels"
/* TIME DATA ELEMENTS */
SPACECRAFT_CLOCK_START_COUNT = "1/0196452473.07301"
SPACECRAFT_CLOCK_STOP_COUNT = "1/0196452702.06267"
START_TIME = 2009-07-23T18:07:55.574Z
STOP_TIME = 2009-07-23T18:09:47.672Z
/* ORBITAL DATA ELEMENTS */
ASCENDING_NODE_LONGITUDE = 81.57
MAXIMUM_RESOLUTION = 18.6
FOOTPRINT_POINT_LATITUDE = (-32.8305,-32.8321,-32.8343,-32.8367, -32.8384,-32.8395,-32.8405,-32.9334, -33.1344,-33.2708,-33.4068,-33.5429, -33.679,-33.9501,-34.0858,-34.2248, -34.3642,-34.503,-34.6418,-34.8501, -35.0573,-35.1997,-35.4123,-35.6346, -35.7776,-36.0534,-36.1976,-36.3434, -36.4887,-36.706,-36.851,-36.9979, -37.1449,-37.2925,-37.5122,-37.661, -37.8086,-37.9596,-38.1842,-38.3352, -38.4853,-38.7116,-38.8629,-39.0134, -39.1677,-39.3246,-39.4788,-39.6353, -39.7909,-40.0217,-40.1166,-40.113, -40.1149,-40.114,-40.1119,-40.1066, -40.1023,-40.0189,-39.7858,-39.6304, -39.3973,-39.2446,-39.0919,-38.8628, -38.7099,-38.5567,-38.4084,-38.2586, -38.1087,-37.9586,-37.7338,-37.5867, -37.3658,-37.2186,-37.0715,-36.9242, -36.7791,-36.6345,-36.4179,-36.2734, -36.1289,-35.9846,-35.843,-35.701, -35.4888,-35.2763,-35.1348,-34.9249, -34.7863,-34.5782,-34.3687,-34.2279, -34.0241,-33.8217,-33.6861,-33.5502, -33.3459,-33.2098,-32.9418,-32.8305)
FOOTPRINT_POINT_LONGITUDE = (113.738,113.559,113.291,112.952, 112.666,112.47,112.237,112.111,112.107, 112.104,112.102,112.099,112.097,112.092 ,112.09,112.087,112.085,112.082,112.08, 112.076,112.072,112.069,112.065,112.058 ,112.055,112.053,112.05,112.047,112.044 ,112.04,112.037,112.034,112.031,112.028 ,112.024,112.021,112.018,112.015, 112.011,112.008,112.005,112.001,111.999 ,111.997,111.993,111.989,111.985, 111.982,111.979,111.976,112.373,112.654 ,112.865,113.216,113.451,113.803, 114.061,114.349,114.332,114.322,114.306 ,114.295,114.285,114.27,114.26,114.249, 114.24,114.231,114.221,114.212,114.198, 114.189,114.176,114.167,114.159,114.15, 114.142,114.133,114.121,114.113,114.105 ,114.097,114.09,114.082,114.071,114.06, 114.053,114.042,114.035,114.025,114.014 ,114.006,113.998,113.989,113.982, 113.976,113.967,113.961,113.949, 113.738)
ORBIT_NUMBER = 7128
ORBITAL_ECCENTRICITY = 0.576
ORBITAL_INCLINATION = 86.78
ORBITAL_SEMIMAJOR_AXIS = 8776.44
PERIAPSIS_ALTITUDE = 325.55
PERIAPSIS_ARGUMENT_ANGLE = 187.74
PERIAPSIS_TIME = 2009-07-23T18:02:03.000Z
SPACECRAFT_ORIENTATION = (0.0,-1.0,0.0)
^MEX_ORIENTATION_DESC = "MEX_ORIENTATION_DESC.TXT"
SPACECRAFT_POINTING_MODE = NADIR
^MEX_POINTING_DESC = "MEX_POINTING_DESC.TXT"
RIGHT_ASCENSION = -1e+32
DECLINATION = -1e+32
OFFSET_ANGLE = -1e+32
SPACECRAFT_SOLAR_DISTANCE = 2.15184e+08
TARGET_NAME = MARS
/* CAMERA DATA ELEMENTS */
DETECTOR_TEMPERATURE = 17.351
FOCAL_PLANE_TEMPERATURE = 8.3794
INST_CMPRS_NAME = "DISCRETE COSINE TRANSFORMATION (DCT)"
INST_CMPRS_RATIO = 7.03841
INST_CMPRS_QUALITY = 0
INST_CMPRS_QUANTZ_TBL_ID = 0
INSTRUMENT_TEMPERATURE = 11.234
LENS_TEMPERATURE = 8.7872
MACROPIXEL_SIZE = 1
MISSING_FRAMES = 0
PIXEL_SUBSAMPLING_FLAG = N
SIGNAL_CHAIN_ID = 2
/* RADIOMETRIC DATA ELEMENTS */
BANDWIDTH = 180.0
CENTER_FILTER_WAVELENGTH = 677.0
RADIANCE_OFFSET = 1.74825
RADIANCE_SCALING_FACTOR = 0.0122507
REFLECTANCE_SCALING_FACTOR = 0.000295957
MEX:REFLECTANCE_OFFSET = 0.0422349
/* IMAGE OBJECT DEFINITIONS */
OBJECT = IMAGE
  INTERCHANGE_FORMAT = BINARY
  LINES = 34517
  LINE_SAMPLES = 9476
  SAMPLE_TYPE = UNSIGNED_INTEGER
  SAMPLE_BITS = 8
  BANDS = 1
  BAND_STORAGE_TYPE = BAND_SEQUENTIAL
  MAXIMUM = 255
  MEAN = 83.0118
  MINIMUM = 1
  STANDARD_DEVIATION = 25.6003
END_OBJECT = IMAGE
/* MAP OBJECT DEFINITIONS */
OBJECT = IMAGE_MAP_PROJECTION
  ^DATA_SET_MAP_PROJECTION_CATALOG= "DSMAP.CAT"
  A_AXIS_RADIUS = 3396.0
  B_AXIS_RADIUS = 3396.0
  C_AXIS_RADIUS = 3396.0
  CENTER_LATITUDE = 0.0
  CENTER_LONGITUDE = 113.0
  COORDINATE_SYSTEM_NAME = PLANETOGRAPHIC
  COORDINATE_SYSTEM_TYPE = "BODY-FIXED ROTATING"
  EASTERNMOST_LONGITUDE = 114.349
  FIRST_STANDARD_PARALLEL = "N/A"
  LINE_FIRST_PIXEL = 1
  LINE_LAST_PIXEL = 34517
  LINE_PROJECTION_OFFSET = -155851.0
  MAP_PROJECTION_ROTATION = 0.0
  MAP_PROJECTION_TYPE = SINUSOIDAL
  MAP_RESOLUTION = 4741.71043093333
  MAP_SCALE = 0.0125
  MAXIMUM_LATITUDE = -32.8305
  MINIMUM_LATITUDE = -40.1166
  POSITIVE_LONGITUDE_DIRECTION = EAST
  REFERENCE_LATITUDE = "N/A"
  REFERENCE_LONGITUDE = "N/A"
  SAMPLE_FIRST_PIXEL = 1
  SAMPLE_LAST_PIXEL = 9476
  SAMPLE_PROJECTION_OFFSET = 4127.0
  SECOND_STANDARD_PARALLEL = "N/A"
  WESTERNMOST_LONGITUDE = 111.976
END_OBJECT = IMAGE_MAP_PROJECTION
/* The JPEG2000 image data file associated with this label. */
OBJECT = COMPRESSED_FILE
  FILE_NAME = "H7128_0000_S13.JP2"
  RECORD_TYPE = UNDEFINED
  FILE_RECORDS = UNK
  ENCODING_TYPE = "JP2"
  INTERCHANGE_FORMAT = BINARY
  UNCOMPRESSED_FILE_NAME = "H7128_0000_S13.IMG"
  REQUIRED_STORAGE_BYTES = "327111520"
  ^DESCRIPTION = "JP2INFO.TXT"
END_OBJECT = COMPRESSED_FILE
END
