PDS_VERSION_ID = PDS3
/* FILE DATA ELEMENTS */
RECORD_TYPE = STREAM
/* POINTERS TO DATA OBJECTS */
^COMPRESSED_FILE = "H7145_0000_P23.JP2"
/* IDENTIFICATION DATA ELEMENTS */
DATA_SET_ID = "MEX-M-HRSC-5-REFDR-MAPPROJECTED-V3.0"
DATA_SET_NAME = "MARS EXPRESS HRSC MAP PROJECTED REFDR V3.0"
DETECTOR_ID = MEX_HRSC_P2
EVENT_TYPE = "MARS-REGIONAL-MAPPING-Te-Im-Fl"
INSTRUMENT_HOST_ID = MEX
INSTRUMENT_HOST_NAME = "MARS EXPRESS"
INSTRUMENT_ID = HRSC
INSTRUMENT_NAME = "HIGH RESOLUTION STEREO CAMERA"
MISSION_NAME = "MARS EXPRESS"
MISSION_PHASE_NAME = ME_Phase_18
PROCESSING_LEVEL_ID = 3
PRODUCT_CREATION_TIME = 2016-06-29T18:20:58.000Z
PRODUCT_ID = "H7145_0000_P23.JP2"
RELEASE_ID = 0079
REVISION_ID = 0000
/* QUALITY DATA ELEMENTS */
DATA_QUALITY_ID = 1
DATA_QUALITY_DESC = "Data calculated based on original SPICE kernels"
/* TIME DATA ELEMENTS */
SPACECRAFT_CLOCK_START_COUNT = "1/0196874288.08279"
SPACECRAFT_CLOCK_STOP_COUNT = "1/0196874445.14146"
START_TIME = 2009-07-28T15:19:08.691Z
STOP_TIME = 2009-07-28T15:20:30.074Z
/* ORBITAL DATA ELEMENTS */
ASCENDING_NODE_LONGITUDE = 81.24
MAXIMUM_RESOLUTION = 32.7
FOOTPRINT_POINT_LATITUDE = (-21.0413,-21.0437,-21.0459,-21.048, -21.0499,-21.0518,-21.0534,-21.0549, -21.0563,-21.0576,-21.0587,-21.0597, -21.1452,-21.2889,-21.4799,-21.7188, -21.9097,-22.1481,-22.3378,-22.5272, -22.6237,-22.7211,-22.8183,-22.9153, -23.0122,-23.1091,-23.2061,-23.3031, -23.4483,-23.5452,-23.6419,-23.7403, -23.8393,-23.9384,-24.0373,-24.1366, -24.2357,-24.3344,-24.433,-24.5314, -24.6304,-24.7797,-24.9294,-25.0292, -25.1304,-25.2326,-25.3347,-25.4357, -25.536,-25.6351,-25.7359,-25.839, -25.9545,-25.953,-25.9516,-25.9497, -25.9471,-25.9426,-25.9389,-25.934, -25.9307,-25.9251,-25.7716,-25.6688, -25.5685,-25.4683,-25.3679,-25.2677, -25.1169,-25.0164,-24.9157,-24.815, -24.7142,-24.6157,-24.5174,-24.4193, -24.3211,-24.1737,-24.0256,-23.8774, -23.7785,-23.6301,-23.5332,-23.3874, -23.242,-23.1451,-22.9998,-22.903, -22.806,-22.709,-22.6121,-22.4207, -22.2296,-22.04,-21.8978,-21.7101, -21.5204,-21.2341,-21.0434,-21.0413)
FOOTPRINT_POINT_LONGITUDE = (199.741,199.625,199.51,199.394,199.279 ,199.164,199.049,198.934,198.819, 198.705,198.591,198.477,198.368,198.365 ,198.362,198.358,198.355,198.351, 198.347,198.344,198.342,198.34,198.338, 198.336,198.335,198.333,198.331,198.329 ,198.326,198.325,198.323,198.321, 198.319,198.317,198.315,198.313,198.312 ,198.31,198.308,198.306,198.304,198.301 ,198.298,198.295,198.293,198.292,198.29 ,198.288,198.286,198.284,198.282,198.28 ,198.426,198.625,198.741,198.874,199.04 ,199.174,199.341,199.576,199.76,200.002 ,199.996,199.993,199.99,199.987,199.983 ,199.98,199.975,199.972,199.969,199.965 ,199.962,199.959,199.956,199.953,199.95 ,199.945,199.94,199.936,199.933,199.929 ,199.927,199.923,199.92,199.917,199.913 ,199.911,199.908,199.905,199.903, 199.898,199.894,199.889,199.886,199.879 ,199.874,199.868,199.863,199.741)
ORBIT_NUMBER = 7145
ORBITAL_ECCENTRICITY = 0.575
ORBITAL_INCLINATION = 86.79
ORBITAL_SEMIMAJOR_AXIS = 8771.02
PERIAPSIS_ALTITUDE = 327.43
PERIAPSIS_ARGUMENT_ANGLE = 184.77
PERIAPSIS_TIME = 2009-07-28T15:14:32.000Z
SPACECRAFT_ORIENTATION = (0.0,-1.0,0.0)
^MEX_ORIENTATION_DESC = "MEX_ORIENTATION_DESC.TXT"
SPACECRAFT_POINTING_MODE = ACROSSTRACK
^MEX_POINTING_DESC = "MEX_POINTING_DESC.TXT"
RIGHT_ASCENSION = -1e+32
DECLINATION = -1e+32
OFFSET_ANGLE = 0.3
SPACECRAFT_SOLAR_DISTANCE = 2.16003e+08
TARGET_NAME = MARS
/* CAMERA DATA ELEMENTS */
DETECTOR_TEMPERATURE = 18.5744
FOCAL_PLANE_TEMPERATURE = 8.5833
INST_CMPRS_NAME = "DISCRETE COSINE TRANSFORMATION (DCT)"
INST_CMPRS_RATIO = 9.01059
INST_CMPRS_QUALITY = 0
INST_CMPRS_QUANTZ_TBL_ID = 0
INSTRUMENT_TEMPERATURE = 11.4379
LENS_TEMPERATURE = 8.7872
MACROPIXEL_SIZE = 2
MISSING_FRAMES = 0
PIXEL_SUBSAMPLING_FLAG = N
SIGNAL_CHAIN_ID = 3
/* RADIOMETRIC DATA ELEMENTS */
BANDWIDTH = 177.0
CENTER_FILTER_WAVELENGTH = 676.5
RADIANCE_OFFSET = 1.57414
RADIANCE_SCALING_FACTOR = 0.00925967
REFLECTANCE_SCALING_FACTOR = 0.000229074
MEX:REFLECTANCE_OFFSET = 0.0389426
/* IMAGE OBJECT DEFINITIONS */
OBJECT = IMAGE
  INTERCHANGE_FORMAT = BINARY
  LINES = 11627
  LINE_SAMPLES = 3675
  SAMPLE_TYPE = UNSIGNED_INTEGER
  SAMPLE_BITS = 8
  BANDS = 1
  BAND_STORAGE_TYPE = BAND_SEQUENTIAL
  MAXIMUM = 255
  MEAN = 71.5484
  MINIMUM = 1
  STANDARD_DEVIATION = 21.5179
END_OBJECT = IMAGE
/* MAP OBJECT DEFINITIONS */
OBJECT = IMAGE_MAP_PROJECTION
  ^DATA_SET_MAP_PROJECTION_CATALOG= "DSMAP.CAT"
  A_AXIS_RADIUS = 3396.0
  B_AXIS_RADIUS = 3396.0
  C_AXIS_RADIUS = 3396.0
  CENTER_LATITUDE = 0.0
  CENTER_LONGITUDE = 199.0
  COORDINATE_SYSTEM_NAME = PLANETOGRAPHIC
  COORDINATE_SYSTEM_TYPE = "BODY-FIXED ROTATING"
  EASTERNMOST_LONGITUDE = 200.002
  FIRST_STANDARD_PARALLEL = "N/A"
  LINE_FIRST_PIXEL = 1
  LINE_LAST_PIXEL = 11627
  LINE_PROJECTION_OFFSET = -49872.75
  MAP_PROJECTION_ROTATION = 0.0
  MAP_PROJECTION_TYPE = SINUSOIDAL
  MAP_RESOLUTION = 2370.85521546667
  MAP_SCALE = 0.025
  MAXIMUM_LATITUDE = -21.0413
  MINIMUM_LATITUDE = -25.9545
  POSITIVE_LONGITUDE_DIRECTION = EAST
  REFERENCE_LATITUDE = "N/A"
  REFERENCE_LONGITUDE = "N/A"
  SAMPLE_FIRST_PIXEL = 1
  SAMPLE_LAST_PIXEL = 3675
  SAMPLE_PROJECTION_OFFSET = 1504.75
  SECOND_STANDARD_PARALLEL = "N/A"
  WESTERNMOST_LONGITUDE = 198.28
END_OBJECT = IMAGE_MAP_PROJECTION
/* The JPEG2000 image data file associated with this label. */
OBJECT = COMPRESSED_FILE
  FILE_NAME = "H7145_0000_P23.JP2"
  RECORD_TYPE = UNDEFINED
  FILE_RECORDS = UNK
  ENCODING_TYPE = "JP2"
  INTERCHANGE_FORMAT = BINARY
  UNCOMPRESSED_FILE_NAME = "H7145_0000_P23.IMG"
  REQUIRED_STORAGE_BYTES = "42751275"
  ^DESCRIPTION = "JP2INFO.TXT"
END_OBJECT = COMPRESSED_FILE
END
