PDS_VERSION_ID = PDS3
/* FILE DATA ELEMENTS */
RECORD_TYPE = STREAM
/* POINTERS TO DATA OBJECTS */
^COMPRESSED_FILE = "H7154_0000_GR3.JP2"
/* IDENTIFICATION DATA ELEMENTS */
DATA_SET_ID = "MEX-M-HRSC-5-REFDR-MAPPROJECTED-V3.0"
DATA_SET_NAME = "MARS EXPRESS HRSC MAP PROJECTED REFDR V3.0"
DETECTOR_ID = MEX_HRSC_GREEN
EVENT_TYPE = "MARS-REGIONAL-MAPPING-Im-Fl"
INSTRUMENT_HOST_ID = MEX
INSTRUMENT_HOST_NAME = "MARS EXPRESS"
INSTRUMENT_ID = HRSC
INSTRUMENT_NAME = "HIGH RESOLUTION STEREO CAMERA"
MISSION_NAME = "MARS EXPRESS"
MISSION_PHASE_NAME = ME_Phase_18
PROCESSING_LEVEL_ID = 3
PRODUCT_CREATION_TIME = 2016-06-29T18:20:58.000Z
PRODUCT_ID = "H7154_0000_GR3.JP2"
RELEASE_ID = 0079
REVISION_ID = 0000
/* QUALITY DATA ELEMENTS */
DATA_QUALITY_ID = 1
DATA_QUALITY_DESC = "Data calculated based on original SPICE kernels"
/* TIME DATA ELEMENTS */
SPACECRAFT_CLOCK_START_COUNT = "1/0197097717.07296"
SPACECRAFT_CLOCK_STOP_COUNT = "1/0197097998.28187"
START_TIME = 2009-07-31T05:22:29.424Z
STOP_TIME = 2009-07-31T05:25:32.139Z
/* ORBITAL DATA ELEMENTS */
ASCENDING_NODE_LONGITUDE = 81.07
MAXIMUM_RESOLUTION = 129.1
FOOTPRINT_POINT_LATITUDE = (-22.2628,-22.2636,-22.2639,-22.2637, -22.2632,-22.5655,-22.9646,-23.3733, -23.6798,-24.0879,-24.2955,-24.5041, -24.713,-24.922,-25.1304,-25.3415, -25.5549,-25.7682,-25.9811,-26.1938, -26.5185,-26.7361,-26.9534,-27.1704, -27.502,-27.7228,-27.9444,-28.1657, -28.3918,-28.6178,-28.8436,-29.0694, -29.2994,-29.6446,-29.8742,-30.1082, -30.4589,-30.6931,-31.049,-31.2874, -31.5255,-31.7673,-32.0098,-32.2518, -32.4968,-32.7435,-32.9897,-33.2384, -33.4887,-33.5387,-33.537,-33.5347, -33.5321,-33.5291,-33.5247,-33.2702, -33.0213,-32.7757,-32.5297,-32.2845, -32.0428,-31.8006,-31.5586,-31.321, -31.083,-30.7264,-30.4927,-30.2588, -30.0254,-29.7945,-29.5659,-29.3358, -28.9917,-28.7666,-28.5415,-28.3152, -28.0912,-27.8702,-27.6489,-27.4273, -27.2067,-26.9899,-26.773,-26.5558, -26.2303,-26.0178,-25.8053,-25.5924, -25.3793,-25.1676,-24.9594,-24.7511, -24.5426,-24.3338,-24.1254,-23.7178, -23.3094,-22.9026,-22.5036,-22.2628)
FOOTPRINT_POINT_LONGITUDE = (11.9906,11.6672,11.4421,11.0205, 10.7955,10.5401,10.5325,10.5246,10.5185 ,10.5103,10.5061,10.5025,10.4981, 10.4928,10.4883,10.4838,10.4791,10.4744 ,10.4698,10.4652,10.4584,10.4533, 10.4484,10.4436,10.4347,10.4316,10.4264 ,10.4213,10.4156,10.4104,10.405,10.399, 10.3935,10.3853,10.38,10.372,10.365, 10.3585,10.3505,10.3443,10.338,10.3317, 10.3256,10.3195,10.3128,10.306,10.2996, 10.2929,10.2868,10.6482,11.1158,11.4611 ,11.746,12.0103,12.3354,12.4371,12.4247 ,12.4123,12.4004,12.3886,12.3767,12.365 ,12.3543,12.3432,12.3325,12.3166, 12.3063,12.2962,12.2881,12.2791,12.2719 ,12.2622,12.247,12.2388,12.2315,12.2222 ,12.2142,12.2065,12.1989,12.1913,12.184 ,12.1769,12.1699,12.163,12.1527,12.1463 ,12.1402,12.1339,12.1277,12.1219, 12.1161,12.1104,12.1049,12.0994,12.094, 12.0839,12.0739,12.0644,12.0553, 11.9906)
ORBIT_NUMBER = 7154
ORBITAL_ECCENTRICITY = 0.576
ORBITAL_INCLINATION = 86.78
ORBITAL_SEMIMAJOR_AXIS = 8775.32
PERIAPSIS_ALTITUDE = 328.24
PERIAPSIS_ARGUMENT_ANGLE = 183.2
PERIAPSIS_TIME = 2009-07-31T05:17:39.000Z
SPACECRAFT_ORIENTATION = (0.0,-1.0,0.0)
^MEX_ORIENTATION_DESC = "MEX_ORIENTATION_DESC.TXT"
SPACECRAFT_POINTING_MODE = NADIR
^MEX_POINTING_DESC = "MEX_POINTING_DESC.TXT"
RIGHT_ASCENSION = -1e+32
DECLINATION = -1e+32
OFFSET_ANGLE = -1e+32
SPACECRAFT_SOLAR_DISTANCE = 2.16447e+08
TARGET_NAME = MARS
/* CAMERA DATA ELEMENTS */
DETECTOR_TEMPERATURE = 18.3705
FOCAL_PLANE_TEMPERATURE = 9.195
INST_CMPRS_NAME = "DISCRETE COSINE TRANSFORMATION (DCT)"
INST_CMPRS_RATIO = 9.76266
INST_CMPRS_QUALITY = 0
INST_CMPRS_QUANTZ_TBL_ID = 0
INSTRUMENT_TEMPERATURE = 11.0301
LENS_TEMPERATURE = 8.5833
MACROPIXEL_SIZE = 8
MISSING_FRAMES = 0
PIXEL_SUBSAMPLING_FLAG = N
SIGNAL_CHAIN_ID = 2
/* RADIOMETRIC DATA ELEMENTS */
BANDWIDTH = 88.0
CENTER_FILTER_WAVELENGTH = 538.0
RADIANCE_OFFSET = 0.689124
RADIANCE_SCALING_FACTOR = 0.00264495
REFLECTANCE_SCALING_FACTOR = 0.000106687
MEX:REFLECTANCE_OFFSET = 0.0277966
/* IMAGE OBJECT DEFINITIONS */
OBJECT = IMAGE
  INTERCHANGE_FORMAT = BINARY
  LINES = 6679
  LINE_SAMPLES = 1136
  SAMPLE_TYPE = UNSIGNED_INTEGER
  SAMPLE_BITS = 8
  BANDS = 1
  BAND_STORAGE_TYPE = BAND_SEQUENTIAL
  MAXIMUM = 255
  MEAN = 100.125
  MINIMUM = 1
  STANDARD_DEVIATION = 25.4881
END_OBJECT = IMAGE
/* MAP OBJECT DEFINITIONS */
OBJECT = IMAGE_MAP_PROJECTION
  ^DATA_SET_MAP_PROJECTION_CATALOG= "DSMAP.CAT"
  A_AXIS_RADIUS = 3396.0
  B_AXIS_RADIUS = 3396.0
  C_AXIS_RADIUS = 3396.0
  CENTER_LATITUDE = 0.0
  CENTER_LONGITUDE = 11.0
  COORDINATE_SYSTEM_NAME = PLANETOGRAPHIC
  COORDINATE_SYSTEM_TYPE = "BODY-FIXED ROTATING"
  EASTERNMOST_LONGITUDE = 12.4371
  FIRST_STANDARD_PARALLEL = "N/A"
  LINE_FIRST_PIXEL = 1
  LINE_LAST_PIXEL = 6679
  LINE_PROJECTION_OFFSET = -13193.5625
  MAP_PROJECTION_ROTATION = 0.0
  MAP_PROJECTION_TYPE = SINUSOIDAL
  MAP_RESOLUTION = 592.713803866667
  MAP_SCALE = 0.1
  MAXIMUM_LATITUDE = -22.2628
  MINIMUM_LATITUDE = -33.5387
  POSITIVE_LONGITUDE_DIRECTION = EAST
  REFERENCE_LATITUDE = "N/A"
  REFERENCE_LONGITUDE = "N/A"
  SAMPLE_FIRST_PIXEL = 1
  SAMPLE_LAST_PIXEL = 1136
  SAMPLE_PROJECTION_OFFSET = 391.0625
  SECOND_STANDARD_PARALLEL = "N/A"
  WESTERNMOST_LONGITUDE = 10.2868
END_OBJECT = IMAGE_MAP_PROJECTION
/* The JPEG2000 image data file associated with this label. */
OBJECT = COMPRESSED_FILE
  FILE_NAME = "H7154_0000_GR3.JP2"
  RECORD_TYPE = UNDEFINED
  FILE_RECORDS = UNK
  ENCODING_TYPE = "JP2"
  INTERCHANGE_FORMAT = BINARY
  UNCOMPRESSED_FILE_NAME = "H7154_0000_GR3.IMG"
  REQUIRED_STORAGE_BYTES = "7606656"
  ^DESCRIPTION = "JP2INFO.TXT"
END_OBJECT = COMPRESSED_FILE
END
